{"text_format":"3","workbook":"xlsx","n_sheets":9,"sheets":["Instructions","Evaluation","Options","Ct Report","Change Log","Layout","RealTimeInstruments","TaqManOptions","ResultDefinition"],"not_rendered":{"images":2,"defined_names":239},"read":"whole","date_system":"1900"}

{"sheet":"Instructions","index":0,"n_rows":75,"n_cols":25,"rows_kept":75,"merged":[[0,0,0,25],[2,1,7,1],[2,2,7,23],[2,24,7,24],[10,0,10,25],[57,2,57,3],[57,4,57,5],[57,6,57,11],[58,1,59,1],[58,2,59,3],[58,4,59,5],[58,6,59,11],[61,2,61,3],[61,4,61,5],[61,6,61,7],[61,8,61,9],[61,10,61,11],[61,12,61,13],[62,1,63,1],[62,2,63,3],[62,4,63,5],[62,6,63,7],[62,8,63,13]]}
["NO WARRANTY"]
[]
[null,null,"THE SOFTWARE IS PROVIDED WITHOUT ANY WARRANTIES, EXPRESS OR IMPLIED, INCLUDING ANY WARRANTY OF MERCHANTABILITY OR FITNESS FOR ANY PURPOSE.  THE PROVIDERS MAKE NO REPRESENTATION THAT THE USE OF THE SOFTWARE SHALL NOT INFRINGE ANY PATENT OR OTHER PROPRIETARY RIGHT, AND NO GRANT, RIGHT OR LICENSE UNDER ANY PROVIDER PATENT OR PATENT APPLICATION IS GRANTED BY IMPLICATION.  IN NO EVENT WILL PROVIDERS BE LIABLE TO RECIPIENT FOR ANY INCIDENTAL, SPECIAL, PUNITIVE, EXEMPLARY, CONSEQUENTIAL, OR OTHER DAMAGES ARISING FROM OR CONNECTED WITH RECIPIENT’S USE OF THE SOFTWARE.  RECIPIENT AGREES TO INDEMNIFY, DEFEND, AND HOLD THE PROVIDERS HARMLESS FROM ANY LOSS, CLAIM, DAMAGE, ILLNESS, OR INJURY TO PERSONS OR PROPERTY WHATEVER THE CAUSE MAY BE ARISING OUT OF OR PERTAINING TO RECIPIENT'S USE OF THE SOFTWARE."]
{"$rows_empty":7}
["Evaluation"]
[]
[1,"Analyze the run as described in the Manual. Export Ct- and dR/dRN-Values to Excel. It is recommended to export always Ct- and dR/dRN-Values of all 96 Cells."]
[2,"Open the Evaluation sheet."]
[3,"Select the module"]
[null,"Refer to the component list in the manual for the correct module ID."]
[4,"Select the Software Version of your RealTime Instrument"]
[5,"Select the Layout"]
[null,"12 Wells | 6 NTC | 4 C+: 6 NTCs in the first 6 Wells: e.g. A1 to A6, 4 Positive controls in the following 4 Wells (e.g. A7 - A10)"]
[null,"12 Wells | 4 NTC | 4 C+: 4 NTCs in the first 6 Wells: e.g. A1 to A4, 4 Positive controls in the following 4 Wells (e.g. A5 - A8)"]
[null,"12 Wells | 2 NTC | 2 C+: 2 NTCs in the first 6 Wells: e.g. A1 to A2, 2 Positive controls in the following 2 Wells (e.g. A3 - A4)"]
[]
[null,"eg 12 Wells | 6 NTC | 4 C+",{"$nulls":14},"eg 8 Wells | 6 NTC | 4 C+"]
[]
[null,null,1,2,3,4,5,6,7,8,9,10,11,12,{"$nulls":3},"H","G","F","E","D","C","B","A"]
[null,"A","NTC","NTC","NTC","NTC","NTC","NTC","C+","C+","C+","C+",{"$nulls":4},1,"NTC","NTC","NTC","NTC","NTC","NTC","C+","C+"]
[null,"B",{"$nulls":14},2,"C+","C+"]
[null,"C",{"$nulls":14},3]
[null,"D",{"$nulls":14},4]
[null,"E",{"$nulls":14},5]
[null,"F",{"$nulls":14},6]
[null,"G",{"$nulls":14},7]
[null,"H",{"$nulls":14},8]
[{"$nulls":16},9]
[{"$nulls":16},10]
[{"$nulls":16},11]
[{"$nulls":16},12]
[]
[6,"Enter Data for Run No., Lot MM, Lot Spike (Posisitve Control) and Cycles"]
[7,"Copy and Paste Ct-Values in the appropriate Columns in the Sheet 'Ct Report'. Do not paste Data in black-coloured cells."]
[8,"Copy and Paste dR/dRN-Values in the appropriate Columns in the Sheet 'Ct Report'. Do not paste Data in black-coloured cells."]
[9,"Enter Data for Threshold and Baseline-Settings in the appropriate Cells in the Sheet 'Ct Report'"]
[10,"Check for the correct Tasks for each Well, adjust if not"]
[null,"N for NTCs"]
[null,"P for Positive Controls"]
[null,"E for Extraction Controls"]
[null,"U for Samples"]
[]
[null,"The Tasks will be needed for the calculation of the CutOffs:"]
[]
[null,null,"Ct-CutOff",null,null,"dR/dRN-CutOff"]
[null,"IPC","Mean (Ct NTC) + n Ct",null,null,"Mean (dR/dRN NTC) x n"]
[null,"GMO","Mean (Ct Positive Controls) + n Ct",null,null,"Mean (dR/dRN Positive Controls) x n"]
[]
[]
[11,"Results for each Reaction will be calculated automatically"]
[]
[null,null,"valid",null,"invalid",null,"A(Ct)"]
[null,"IPC","Rxn NOT inhibted",null,"Rxn inhibited",null,"Check Amplification Plot visually for sigmoid PCR Amplification signals"]
[]
[]
[null,null,"+",null,"-",null,"i",null,"A(Ct)",null,"A(Rn)",null,"A"]
[null,"GMO","Rxn positive",null,"Rxn negative",null,"Rxn inhibited",null,"Check Amplification Plot visually for sigmoid PCR Amplification signals"]
[]
[]
[]
[null,"Consideration of asymmetric target situation"]
[null,"Negative results in test reactions exhibiting Ct values < (K+) - n Ct (depends on the module, please refer to the manual for the correct dCt) in one or more PCR systems, must be regarded as invalid ('S' occurs"]
[null," next to the result column). In this case the validity of negative results for the other PCR systems can no longer be guaranteed. The negative test results have to be confirmed with supplemental analyses!"]
[]
[12,"If desired, not used columns could be hided on the Evaluation sheets by clicking on the appropriate numbers on the top of the Evaluation sheet (disable Sheet protection first, no Password required):"]
[null,"1  - One GMO System and IPC"]
[null,"2  - Two GMO Systems and IPC"]
[null,"3  - Three GMO Systems and IPC"]
[null,"4  - Four or more GMO Systems and IPC"]

{"sheet":"Evaluation","index":1,"n_rows":120,"n_cols":118,"rows_kept":120,"merged":[[0,11,0,41],[1,3,1,5],[1,11,1,41],[2,11,2,41],[3,3,3,5],[4,3,4,5],[6,1,9,5],[11,3,11,5],[12,3,12,5],[13,3,13,5],[16,0,16,5],[17,0,19,5],[20,11,20,13],[20,18,20,20],[20,25,20,27],[20,32,20,34],[20,39,20,41],[21,7,22,7],[21,58,21,62],[21,63,21,67],[119,0,124,41]]}
[{"$nulls":11},{"$f":"IF(ISNA(frmSystem),\"NO Module selected.\",\"\")","v":"NO Module selected."},{"$nulls":42},"Layout"]
["Module",null,null,"",{"$nulls":51},"Paare Hervorheben","Nein"]
["System",null,null,{"$f":"VLOOKUP(frmModul,tabPCRSysteme,2,FALSE)","v":{"$error":"#N/A"}},{"$nulls":51},"Blattschutz",null,"Spalte"]
["Software",{"$nulls":10},{"$f":"IF(ISNA(frmSystem),\"No Module Selected\",VLOOKUP(frmModul,tabPCRSysteme,5,FALSE)&IFERROR(\" | \"&frmFarbe1,\"\"))","v":"No Module Selected"},{"$nulls":6},{"$f":"IF(ISNA(frmSystem),\"No Module Selected\",IF(VLOOKUP(frmModul,tabPCRSysteme,10,FALSE)=0,\"\",VLOOKUP(frmModul,tabPCRSysteme,10,FALSE)&IFERROR(\" | \"&frmFarbe2,\"\")))","v":"No Module Selected"},{"$nulls":6},{"$f":"IF(ISNA(frmSystem),\"No Module Selected\",IF(VLOOKUP(frmModul,tabPCRSysteme,15,FALSE)=0,\"\",VLOOKUP(frmModul,tabPCRSysteme,15,FALSE)&IFERROR(\" | \"&frmFarbe3,\"\")))","v":"No Module Selected"},{"$nulls":6},{"$f":"IF(ISNA(frmSystem),\"No Module Selected\",IF(VLOOKUP(frmModul,tabPCRSysteme,20,FALSE)=0,\"\",VLOOKUP(frmModul,tabPCRSysteme,20,FALSE)&IFERROR(\" | \"&frmFarbe4,\"\")))","v":"No Module Selected"},{"$nulls":6},{"$f":"\"IPC\"&IFERROR(\" | \"&frmFarbe5,\"\")","v":"IPC | "},{"$nulls":15},"Hintergrund 1",{"$f":"VLOOKUP(frmModul,tabPCRSysteme,$BF$4+0,FALSE)","v":{"$error":"#N/A"}},32]
["Layout",null,null,"12 Well | 2 NTC | 2 C+",{"$nulls":8},"Ct",{"$f":"frmROX","v":{"$error":"#N/A"}},{"$nulls":4},"Ct",{"$f":"frmROX","v":{"$error":"#N/A"}},{"$nulls":5},"Ct",{"$f":"frmROX","v":{"$error":"#N/A"}},{"$nulls":5},"Ct",{"$f":"frmROX","v":{"$error":"#N/A"}},{"$nulls":21},"Hintergrund 2",{"$f":"VLOOKUP(frmModul,tabPCRSysteme,$BF$4+1,FALSE)","v":{"$error":"#N/A"}}]
[{"$nulls":7},{"$f":"IF(ISNA(frmSystem),\"\",IF($BR$13>frmAnzahlSysteme,\"K1+\",\"\"))","v":""},{"$nulls":4},"--","--",{"$f":"IF(LEN(frmImportiert)=0,0,IF(ISNA(frmSystem),-1,IF(SUM(IF($F$24:$F$119=\"P\",1,0))=0,-3,IF(frmSystem1AnzSyst<2,-4,1))))","v":0},{"$nulls":3},"--","--",{"$f":"IF(LEN(frmImportiert)=0,0,IF(ISNA(frmSystem),-1,IF(frmAnzahlSysteme<3,-2,IF(SUM(IF($F$24:$F$119=\"P\",1,0))=0,-3,IF(frmSystem2AnzSyst<2,-4,1)))))","v":0},{"$nulls":4},"--","--",{"$f":"IF(LEN(frmImportiert)=0,0,IF(ISNA(frmSystem),-1,IF(frmAnzahlSysteme<4,-2,IF(SUM(IF($F$24:$F$119=\"P\",1,0))=0,-3,IF(frmSystem3AnzSyst<2,-4,1)))))","v":0},{"$nulls":4},"--","--",{"$f":"IF(LEN(frmImportiert)=0,0,IF(ISNA(frmSystem),-1,IF(frmAnzahlSysteme<5,-2,IF(SUM(IF($F$24:$F$119=\"P\",1,0))=0,-3,IF(frmSystem4AnzSyst<2,-4,1)))))","v":0},{"$nulls":20},"Hintergrund 3",{"$f":"VLOOKUP(frmModul,tabPCRSysteme,$BF$4+2,FALSE)","v":{"$error":"#N/A"}}]
[null,{"$f":"IF(OR(LEN(frmModul)=0,LEN(frmRTGerät)=0),\"\",IF(IFERROR(VLOOKUP(frmModulKurz,INDIRECT(frmTabReporter),19,FALSE),\"Nein\")=\"Nein\",\"This system is not validated on this intsrument by Eurofins GeneScan GmbH.\",\"\"))","v":""},{"$nulls":5},{"$f":"IF(ISNA(frmSystem),\"\",IF($BR$13>frmAnzahlSysteme,\"SD K1+\",\"\"))","v":""},{"$nulls":4},"--","--","dK+",{"$nulls":3},"--","--","dK+",{"$nulls":4},"--","--","dK+",{"$nulls":4},"--","--","dK+",{"$nulls":20},"Hintergrund 4",{"$f":"VLOOKUP(frmModul,tabPCRSysteme,$BF$4+3,FALSE)","v":{"$error":"#N/A"}},{"$nulls":13},{"$f":"L24","v":""}]
[{"$nulls":7},{"$f":"IF(ISNA(frmSystem),\"\",IF($BR$13>frmAnzahlSysteme,\"K2+\",\"\"))","v":""},{"$nulls":4},"--","--",{"$f":"IF(O6<1,\"\",M8-M6)","v":""},{"$f":"IF(LEN(O8)=0,\"\",IF(AND(frmdKLimitLow<=O8,O8<=frmdKLimitUp),\"\",\"!!!\"))","v":""},null,null,"--","--",{"$f":"IF(U6<1,\"\",S8-S6)","v":""},{"$f":"IF(LEN(U8)=0,\"\",IF(AND(frmdKLimitLow<=U8,U8<=frmdKLimitUp),\"\",\"!!!\"))","v":""},{"$nulls":3},"--","--",{"$f":"IF(AB6<1,\"\",Z8-Z6)","v":""},{"$f":"IF(LEN(AB8)=0,\"\",IF(AND(frmdKLimitLow<=AB8,AB8<=frmdKLimitUp),\"\",\"!!!\"))","v":""},{"$nulls":3},"--","--",{"$f":"IF(AI6<1,\"\",AG8-AG6)","v":""},{"$f":"IF(LEN(AI8)=0,\"\",IF(AND(frmdKLimitLow<=AI8,AI8<=frmdKLimitUp),\"\",\"!!!\"))","v":""},{"$nulls":19},"Hintergrund IPC",{"$f":"VLOOKUP(frmModul,tabPCRSysteme,$BF$4+4,FALSE)","v":{"$error":"#N/A"}}]
[{"$nulls":7},{"$f":"IF(ISNA(frmSystem),\"\",IF($BR$13>frmAnzahlSysteme,\"SD K2+\",\"\"))","v":""},{"$nulls":4},"--","--",{"$nulls":4},"--","--",{"$nulls":5},"--","--",{"$nulls":5},"--","--",{"$nulls":21},"Layout",{"$f":"VLOOKUP(D5,tabLayout,2,FALSE)","v":"Standard2"}]
[{"$nulls":12},"Ct",{"$f":"frmROX","v":{"$error":"#N/A"}},"Out",{"$nulls":3},"Ct",{"$f":"frmROX","v":{"$error":"#N/A"}},"Out",{"$nulls":4},"Ct",{"$f":"frmROX","v":{"$error":"#N/A"}},"Out",{"$nulls":4},"Ct",{"$f":"frmROX","v":{"$error":"#N/A"}},"Out",{"$nulls":4},"Ct",{"$f":"frmROX","v":{"$error":"#N/A"}},"Out",{"$nulls":12},"TaqMan"]
[{"$nulls":7},"Control",{"$nulls":4},{"$f":"IF(ISNA(frmSystem),\"\",IF('Ct Report'!C6=0,\"\",IF(SUM(IF($F$24:$F$119=\"P\",1,0))=0,\"N/A\",AVERAGE(IF($F$24:$F$119=\"P\",IF($H$24:$H$119<>\"x\",L$24:L$119))))))","v":""},{"$f":"IF(ISNA(frmSystem),\"\",IF('Ct Report'!H6=0,\"\",IF(SUM(IF($F$24:$F$119=\"P\",1,0))=0,\"N/A\",AVERAGE(IF($F$24:$F$119=\"P\",IF($H$24:$H$119<>\"x\",M$24:M$119))))))","v":""},{"$f":"IF(LEN(frmImportiert)=0,\"\",IF(ISNA(frmSystem),\"\",SUM(IF(H24:H119=\"x\",IF(F24:F119=\"P\",1,0)))))","v":""},{"$nulls":3},{"$f":"IF(ISNA(frmSystem),\"\",IF(frmAnzahlSysteme<3,\"\",IF('Ct Report'!D6=0,\"\",IF(SUM(IF($F$24:$F$119=\"P\",1,0))=0,\"N/A\",AVERAGE(IF($F$24:$F$119=\"P\",IF($H$24:$H$119<>\"x\",S$24:S$119)))))))","v":""},{"$f":"IF(ISNA(frmSystem),\"\",IF(frmAnzahlSysteme<3,\"\",IF('Ct Report'!I6=0,\"\",IF(SUM(IF($F$24:$F$119=\"P\",1,0))=0,\"N/A\",AVERAGE(IF($F$24:$F$119=\"P\",IF($H$24:$H$119<>\"x\",T$24:T$119)))))))","v":""},{"$f":"IF(LEN(frmImportiert)=0,\"\",IF(ISNA(frmSystem),\"\",IF(frmAnzahlSysteme<3,\"\",O11)))","v":""},{"$nulls":4},{"$f":"IF(ISNA(frmSystem),\"\",IF(frmAnzahlSysteme<4,\"\",IF('Ct Report'!E6=0,\"\",IF(SUM(IF($F$24:$F$119=\"P\",1,0))=0,\"N/A\",AVERAGE(IF($F$24:$F$119=\"P\",IF($H$24:$H$119<>\"x\",Z$24:Z$119)))))))","v":""},{"$f":"IF(ISNA(frmSystem),\"\",IF(frmAnzahlSysteme<4,\"\",IF('Ct Report'!J6=0,\"\",IF(SUM(IF($F$24:$F$119=\"P\",1,0))=0,\"N/A\",AVERAGE(IF($F$24:$F$119=\"P\",IF($H$24:$H$119<>\"x\",AA$24:AA$119)))))))","v":""},{"$f":"IF(LEN(frmImportiert)=0,\"\",IF(ISNA(frmSystem),\"\",IF(frmAnzahlSysteme<4,\"\",O11)))","v":""},{"$nulls":4},{"$f":"IF(ISNA(frmSystem),\"\",IF(frmAnzahlSysteme<5,\"\",IF('Ct Report'!F6=0,\"\",IF(SUM(IF($F$24:$F$119=\"P\",1,0))=0,\"N/A\",AVERAGE(IF($F$24:$F$119=\"P\",IF($H$24:$H$119<>\"x\",AG$24:AG$119)))))))","v":""},{"$f":"IF(ISNA(frmSystem),\"\",IF(frmAnzahlSysteme<5,\"\",IF('Ct Report'!K6=0,\"\",IF(SUM(IF($F$24:$F$119=\"P\",1,0))=0,\"N/A\",AVERAGE(IF($F$24:$F$119=\"P\",IF($H$24:$H$119<>\"x\",AH$24:AH$119)))))))","v":""},{"$f":"IF(LEN(frmImportiert)=0,\"\",IF(ISNA(frmSystem),\"\",IF(frmAnzahlSysteme<5,\"\",O11)))","v":""},{"$nulls":4},{"$f":"IF(ISNA(frmSystem),\"\",IF('Ct Report'!G6=0,\"\",IF(SUM(IF($F$24:$F$119=\"N\",1,0))=0,\"N/A\",AVERAGE(IF($F$24:$F$119=\"N\",IF($H24:$H$119<>\"x\",AN$24:AN$119))))))","v":""},{"$f":"IF(ISNA(frmSystem),\"\",IF('Ct Report'!L6=0,\"\",IF(SUM(IF($F$24:$F$119=\"N\",1,0))=0,\"N/A\",AVERAGE(IF($F$24:$F$119=\"N\",IF($H24:$H$119<>\"x\",AO$24:AO$119))))))","v":""},{"$f":"IF(LEN(frmImportiert)=0,\"\",IF(ISNA(frmSystem),\"\",SUM(IF(H24:H119=\"x\",IF(F24:F119=\"N\",1,0)))))","v":""},{"$f":"IF(LEN(frmImportiert)=0,\"\",IF(ISNA(frmSystem),\"\",IF(AP11>frmMaxOutLierNTC,\"!!!\",\"\")))","v":""},{"$nulls":12},"TaqMan-ID:",{"$f":"VLOOKUP(frmTaqMan,tabInstruments,3,FALSE)","v":{"$error":"#N/A"}},"ModulKurz:"]
["Run No.",{"$nulls":6},"SD",{"$nulls":4},{"$f":"IF(ISNA(frmSystem),\"\",IF('Ct Report'!C6=0,\"\",IF(SUM(IF($F$24:$F$119=\"P\",1,0))=0,\"N/A\",STDEVP(IF($F$24:$F$119=\"P\",IF($H$24:$H$119<>\"x\",L$24:L$119))))))","v":""},{"$f":"IF(ISNA(frmSystem),\"\",IF('Ct Report'!H6=0,\"\",IF(SUM(IF($F$24:$F$119=\"P\",1,0))=0,\"N/A\",STDEVP(IF($F$24:$F$119=\"P\",IF($H$24:$H$119<>\"x\",M$24:M$119))))))","v":""},{"$nulls":4},{"$f":"IF(ISNA(frmSystem),\"\",IF(frmAnzahlSysteme<3,\"\",IF('Ct Report'!D6=0,\"\",IF(SUM(IF($F$24:$F$119=\"P\",1,0))=0,\"N/A\",STDEVP(IF($F$24:$F$119=\"P\",IF($H$24:$H$119<>\"x\",S$24:S$119)))))))","v":""},{"$f":"IF(ISNA(frmSystem),\"\",IF(frmAnzahlSysteme<3,\"\",IF('Ct Report'!I6=0,\"\",IF(SUM(IF($F$24:$F$119=\"P\",1,0))=0,\"N/A\",STDEVP(IF($F$24:$F$119=\"P\",IF($H$24:$H$119<>\"x\",T$24:T$119)))))))","v":""},{"$nulls":5},{"$f":"IF(ISNA(frmSystem),\"\",IF(frmAnzahlSysteme<4,\"\",IF('Ct Report'!E6=0,\"\",IF(SUM(IF($F$24:$F$119=\"P\",1,0))=0,\"N/A\",STDEVP(IF($F$24:$F$119=\"P\",IF($H$24:$H$119<>\"x\",Z$24:Z$119)))))))","v":""},{"$f":"IF(ISNA(frmSystem),\"\",IF(frmAnzahlSysteme<4,\"\",IF('Ct Report'!J6=0,\"\",IF(SUM(IF($F$24:$F$119=\"P\",1,0))=0,\"N/A\",STDEVP(IF($F$24:$F$119=\"P\",IF($H$24:$H$119<>\"x\",AA$24:AA$119)))))))","v":""},{"$nulls":5},{"$f":"IF(ISNA(frmSystem),\"\",IF(frmAnzahlSysteme<5,\"\",IF('Ct Report'!F6=0,\"\",IF(SUM(IF($F$24:$F$119=\"P\",1,0))=0,\"N/A\",STDEVP(IF($F$24:$F$119=\"P\",IF($H$24:$H$119<>\"x\",AG$24:AG$119)))))))","v":""},{"$f":"IF(ISNA(frmSystem),\"\",IF(frmAnzahlSysteme<5,\"\",IF('Ct Report'!K6=0,\"\",IF(SUM(IF($F$24:$F$119=\"P\",1,0))=0,\"N/A\",STDEVP(IF($F$24:$F$119=\"P\",IF($H$24:$H$119<>\"x\",AH$24:AH$119)))))))","v":""},{"$nulls":5},{"$f":"IF(ISNA(frmSystem),\"\",IF('Ct Report'!G6=0,\"\",IF(SUM(IF($F$24:$F$119=\"N\",1,0))=0,\"N/A\",STDEVP(IF($F$24:$F$119=\"N\",IF($H$24:$H$119<>\"x\",AN$24:AN$119))))))","v":""},{"$f":"IF(ISNA(frmSystem),\"\",IF('Ct Report'!L6=0,\"\",IF(SUM(IF($F$24:$F$119=\"N\",1,0))=0,\"N/A\",STDEVP(IF($F$24:$F$119=\"N\",IF($H$24:$H$119<>\"x\",AO$24:AO$119))))))","v":""},null,{"$f":"IF(ISNA(frmSystem),\"\",IF(AP12>frmMaxOutLierNTC,\"!!!\",\"\"))","v":""},{"$nulls":12},"Gerät",{"$f":"frmRTGerät","v":0},{"$f":"IF(ISNA(VLOOKUP(frmModul,INDIRECT(frmTabReporter),2,FALSE)),-1,VLOOKUP(frmModul,INDIRECT(frmTabReporter),2,FALSE))","v":-1},{"$nulls":10},"Avoid Early Cts",{"$f":"IF(ISNA(frmSystem),0,IF(VLOOKUP(frmModulKurz,INDIRECT(frmTabReporter),20,FALSE)=0,\"N/A\",VLOOKUP(frmModulKurz,INDIRECT(frmTabReporter),20,FALSE)))","v":0},{"$f":"IF(ISNA(frmSystem),0,System1_MwPos+BR12)","v":0},{"$nulls":4},{"$f":"IF(ISNA(frmSystem),0,IF(VLOOKUP(frmModulKurz,INDIRECT(frmTabReporter),27,FALSE)=0,\"N/A\",VLOOKUP(frmModulKurz,INDIRECT(frmTabReporter),27,FALSE)))","v":0},{"$f":"IF(ISNA(frmSystem),0,System2_MwPos+BX12)","v":0},{"$nulls":4},{"$f":"IF(ISNA(frmSystem),0,IF(VLOOKUP(frmModulKurz,INDIRECT(frmTabReporter),34,FALSE)=0,\"N/A\",VLOOKUP(frmModulKurz,INDIRECT(frmTabReporter),34,FALSE)))","v":0},{"$f":"IF(ISNA(frmSystem),0,System3_MwPos+CD12)","v":0},{"$nulls":4},{"$f":"IF(ISNA(frmSystem),0,IF(VLOOKUP(frmModulKurz,INDIRECT(frmTabReporter),41,FALSE)=0,\"N/A\",VLOOKUP(frmModulKurz,INDIRECT(frmTabReporter),41,FALSE)))","v":0},{"$f":"IF(ISNA(frmSystem),0,System4_MwPos+CJ12)","v":0},{"$nulls":4},{"$f":"IF(ISNA(frmSystem),0,IF(VLOOKUP(frmModulKurz,INDIRECT(frmTabReporter),48,FALSE)=0,\"N/A\",VLOOKUP(frmModulKurz,INDIRECT(frmTabReporter),48,FALSE)))","v":0},{"$f":"IF(ISNA(frmSystem),0,IPC_MW+CP12)","v":0}]
["Lot MM",{"$nulls":6},"Delta",{"$nulls":4},{"$f":"IF(ISNA(frmTaqManID),\"\",IF(LEN($B$7)>0,\"\",VLOOKUP(frmModulKurz,INDIRECT(frmTabReporter),21,FALSE)))","v":""},{"$f":"IF(ISNA(frmTaqManID),\"\",IF(LEN(B7)>0,\"\",VLOOKUP(frmModulKurz,INDIRECT(frmTabReporter),24,FALSE)))","v":""},{"$nulls":4},{"$f":"IF(ISNA(frmTaqManID),\"\",IF(frmAnzahlSysteme<3,\"\",IF(LEN(B7)>0,\"\",VLOOKUP(frmModulKurz,INDIRECT(frmTabReporter),28,FALSE))))","v":""},{"$f":"IF(ISNA(frmTaqManID),\"\",IF(frmAnzahlSysteme<3,\"\",IF(LEN(B7)>0,\"\",VLOOKUP(frmModulKurz,INDIRECT(frmTabReporter),31,FALSE))))","v":""},{"$nulls":5},{"$f":"IF(ISNA(frmTaqManID),\"\",IF(frmAnzahlSysteme<4,\"\",IF(LEN(B7)>0,\"\",VLOOKUP(frmModulKurz,INDIRECT(frmTabReporter),35,FALSE))))","v":""},{"$f":"IF(ISNA(frmTaqManID),\"\",IF(frmAnzahlSysteme<4,\"\",IF(LEN(B7)>0,\"\",VLOOKUP(frmModulKurz,INDIRECT(frmTabReporter),38,FALSE))))","v":""},{"$nulls":5},{"$f":"IF(ISNA(frmTaqManID),\"\",IF(frmAnzahlSysteme<5,\"\",IF(LEN(B7)>0,\"\",VLOOKUP(frmModulKurz,INDIRECT(frmTabReporter),42,FALSE))))","v":""},{"$f":"IF(ISNA(frmTaqManID),\"\",IF(frmAnzahlSysteme<5,\"\",IF(LEN(B7)>0,\"\",VLOOKUP(frmModulKurz,INDIRECT(frmTabReporter),45,FALSE))))","v":""},{"$nulls":5},{"$f":"IF(ISNA(frmTaqManID),\"\",IF(LEN(B7)>0,\"\",VLOOKUP(frmModulKurz,INDIRECT(frmTabReporter),49,FALSE)))","v":""},{"$f":"IF(ISNA(frmTaqManID),\"\",IF(LEN(B7)>0,\"\",VLOOKUP(frmModulKurz,INDIRECT(frmTabReporter),52,FALSE)))","v":""},{"$nulls":13},"Import",{"$nulls":13},"Systeme/Well",{"$f":"SUM(BS13:CQ13)","v":1},{"$f":"IF(ISNA(frmSystem),0,IF(VLOOKUP(frmModul,tabPCRSysteme,39,FALSE)=0,0,VLOOKUP(frmModul,tabPCRSysteme,39,FALSE)))","v":0},{"$nulls":5},{"$f":"IF(ISNA(frmSystem),0,IF(VLOOKUP(frmModul,tabPCRSysteme,40,FALSE)=0,0,VLOOKUP(frmModul,tabPCRSysteme,40,FALSE)))","v":0},{"$nulls":5},{"$f":"IF(ISNA(frmSystem),0,IF(VLOOKUP(frmModul,tabPCRSysteme,41,FALSE)=0,0,VLOOKUP(frmModul,tabPCRSysteme,41,FALSE)))","v":0},{"$nulls":5},{"$f":"IF(ISNA(frmSystem),0,IF(VLOOKUP(frmModul,tabPCRSysteme,42,FALSE)=0,0,VLOOKUP(frmModul,tabPCRSysteme,42,FALSE)))","v":0},{"$nulls":5},1]
["Lot Spike",{"$nulls":6},"CutOff",{"$nulls":4},{"$f":"IF(ISNA(frmSystem),\"\",IF(LEN(B7)>0,\"\",IF(ISERROR(M13+M11),\"N/A\",M13+M11)))","v":""},{"$f":"IF(ISNA(frmSystem),\"\",IF(LEN(B7)>0,\"\",IF(ISERROR(N13*N11),\"N/A\",N13*N11)))","v":""},{"$nulls":4},{"$f":"IF(ISNA(frmSystem),\"\",IF(frmAnzahlSysteme<3,\"\",IF(LEN(B7)>0,\"\",IF(ISERROR(S13+S11),\"N/A\",S13+S11))))","v":""},{"$f":"IF(ISNA(frmSystem),\"\",IF(frmAnzahlSysteme<3,\"\",IF(LEN(B7)>0,\"\",IF(ISERROR(T13*T11),\"N/A\",T13*T11))))","v":""},{"$nulls":5},{"$f":"IF(ISNA(frmSystem),\"\",IF(frmAnzahlSysteme<4,\"\",IF(LEN(B7)>0,\"\",IF(ISERROR(Z13+Z11),\"N/A\",Z13+Z11))))","v":""},{"$f":"IF(ISNA(frmSystem),\"\",IF(frmAnzahlSysteme<4,\"\",IF(LEN(B7)>0,\"\",IF(ISERROR(AA13*AA11),\"N/A\",AA13*AA11))))","v":""},{"$nulls":5},{"$f":"IF(ISNA(frmSystem),\"\",IF(frmAnzahlSysteme<5,\"\",IF(LEN(B7)>0,\"\",IF(ISERROR(AG13+AG11),\"N/A\",AG13+AG11))))","v":""},{"$f":"IF(ISNA(frmSystem),\"\",IF(frmAnzahlSysteme<5,\"\",IF(LEN(B7)>0,\"\",IF(ISERROR(AH13*AH11),\"N/A\",AH13*AH11))))","v":""},{"$nulls":5},{"$f":"IF(ISNA(frmSystem),\"\",IF(LEN(B7)>0,\"\",IF(ISERROR(AN13+AN11),\"N/A\",AN13+AN11)))","v":""},{"$f":"IF(ISNA(frmSystem),\"\",IF(LEN(B7)>0,\"\",IF(ISERROR(AO13*AO11),\"N/A\",AO13*AO11)))","v":""},{"$nulls":14},"Prefix ImportDatei 1",{"$f":"VLOOKUP(IF(ISNA(VLOOKUP(frmTaqMan,tabTaqManDaten,24,FALSE)),frmTaqMan*1,frmTaqMan),tabTaqManDaten,24,FALSE)","v":{"$error":"#N/A"}},{"$nulls":13},"frmRNLimit1",{"$nulls":5},"frmRNLimit2",{"$nulls":5},"frmRNLimit3",{"$nulls":5},"frmRNLimit4",{"$nulls":5},"frmRNLimitIPC"]
["Cycles",null,null,{"$f":"IF(ISNA(frmSystem),\"\",VLOOKUP(frmModul,tabPCRSysteme,4,FALSE))","v":""},{"$nulls":8},"Ct","neg","Inh","pos",null,null,"Ct","neg","Inh","pos",{"$nulls":3},"Ct","neg","Inh","pos",{"$nulls":3},"Ct","neg","Inh","pos",{"$nulls":19},"Prefix ImportDatei 2",{"$f":"VLOOKUP(IF(ISNA(VLOOKUP(frmTaqMan,tabTaqManDaten,25,FALSE)),frmTaqMan*1,frmTaqMan),tabTaqManDaten,25,FALSE)","v":{"$error":"#N/A"}},{"$nulls":13},"M19",{"$nulls":5},"V19",{"$nulls":5},"AD19",{"$nulls":5},"AL19",{"$nulls":5},"AT19"]
[{"$nulls":7},"NTC",{"$nulls":4},{"$f":"IF(ISNA(frmSystem),\"\",IF('Ct Report'!C6=0,\"\",IF(SUM(IF($F$24:$F$119=\"N\",1,0))=0,\"N/A\",AVERAGE(IF($F$24:$F$119=\"N\",L$24:L$119)))))","v":""},{"$f":"IF(ISNA(frmSystem),\"\",IF('Ct Report'!C6=0,\"\",IF(SUM(IF($F$24:$F$119=\"N\",1,0))=0,\"N/A\",SUM(IF($F$24:$F$119=\"N\",IF(N$24:N$119=\"-\",1,0))))))","v":""},{"$f":"IF(ISNA(frmSystem),\"\",IF('Ct Report'!C6=0,\"\",IF(SUM(IF($F$24:$F$119=\"N\",1,0))=0,\"N/A\",SUM(IF($F$24:$F$119=\"N\",IF(N$24:N$119=\"i\",1,0))))))","v":""},{"$f":"IF(ISNA(frmSystem),\"\",IF('Ct Report'!C6=0,\"\",IF(SUM(IF($F$24:$F$119=\"N\",1,0))=0,\"N/A\",SUM(IF($F$24:$F$119=\"N\",IF(N$24:N$119=\"+\",1,0))))))","v":""},null,null,{"$f":"IF(ISNA(frmSystem),\"\",IF(frmAnzahlSysteme<3,\"\",IF('Ct Report'!D6=0,\"\",IF(SUM(IF($F$24:$F$119=\"N\",1,0))=0,\"N/A\",AVERAGE(IF($F$24:$F$119=\"N\",S$24:S$119))))))","v":""},{"$f":"IF(ISNA(frmSystem),\"\",IF(frmAnzahlSysteme<3,\"\",IF('Ct Report'!D6=0,\"\",IF(SUM(IF($F$24:$F$119=\"N\",1,0))=0,\"N/A\",SUM(IF($F$24:$F$119=\"N\",IF(U$24:U$119=\"-\",1,0)))))))","v":""},{"$f":"IF(ISNA(frmSystem),\"\",IF(frmAnzahlSysteme<3,\"\",IF('Ct Report'!D6=0,\"\",IF(SUM(IF($F$24:$F$119=\"N\",1,0))=0,\"N/A\",SUM(IF($F$24:$F$119=\"N\",IF(U$24:U$119=\"i\",1,0)))))))","v":""},{"$f":"IF(ISNA(frmSystem),\"\",IF(frmAnzahlSysteme<3,\"\",IF('Ct Report'!D6=0,\"\",IF(SUM(IF($F$24:$F$119=\"N\",1,0))=0,\"N/A\",SUM(IF($F$24:$F$119=\"N\",IF(U$24:U$119=\"+\",1,0)))))))","v":""},{"$nulls":3},{"$f":"IF(ISNA(frmSystem),\"\",IF(frmAnzahlSysteme<4,\"\",IF('Ct Report'!E6=0,\"\",IF(SUM(IF($F$24:$F$119=\"N\",1,0))=0,\"N/A\",AVERAGE(IF($F$24:$F$119=\"N\",Z$24:Z$119))))))","v":""},{"$f":"IF(ISNA(frmSystem),\"\",IF(frmAnzahlSysteme<4,\"\",IF('Ct Report'!E6=0,\"\",IF(SUM(IF($F$24:$F$119=\"N\",1,0))=0,\"N/A\",SUM(IF($F$24:$F$119=\"N\",IF(AB$24:AB$119=\"-\",1,0)))))))","v":""},{"$f":"IF(ISNA(frmSystem),\"\",IF(frmAnzahlSysteme<4,\"\",IF('Ct Report'!E6=0,\"\",IF(SUM(IF($F$24:$F$119=\"N\",1,0))=0,\"N/A\",SUM(IF($F$24:$F$119=\"N\",IF(AB$24:AB$119=\"i\",1,0)))))))","v":""},{"$f":"IF(ISNA(frmSystem),\"\",IF(frmAnzahlSysteme<4,\"\",IF('Ct Report'!E6=0,\"\",IF(SUM(IF($F$24:$F$119=\"N\",1,0))=0,\"N/A\",SUM(IF($F$24:$F$119=\"N\",IF(AB$24:AB$119=\"+\",1,0)))))))","v":""},{"$nulls":3},{"$f":"IF(ISNA(frmSystem),\"\",IF(frmAnzahlSysteme<5,\"\",IF('Ct Report'!F6=0,\"\",IF(SUM(IF($F$24:$F$119=\"N\",1,0))=0,\"N/A\",AVERAGE(IF($F$24:$F$119=\"N\",AG$24:AG$119))))))","v":""},{"$f":"IF(ISNA(frmSystem),\"\",IF(frmAnzahlSysteme<5,\"\",IF('Ct Report'!F6=0,\"\",IF(SUM(IF($F$24:$F$119=\"N\",1,0))=0,\"N/A\",SUM(IF($F$24:$F$119=\"N\",IF(AI$24:AI$119=\"-\",1,0)))))))","v":""},{"$f":"IF(ISNA(frmSystem),\"\",IF(frmAnzahlSysteme<5,\"\",IF('Ct Report'!F6=0,\"\",IF(SUM(IF($F$24:$F$119=\"N\",1,0))=0,\"N/A\",SUM(IF($F$24:$F$119=\"N\",IF(AI$24:AI$119=\"i\",1,0)))))))","v":""},{"$f":"IF(ISNA(frmSystem),\"\",IF(frmAnzahlSysteme<5,\"\",IF('Ct Report'!F6=0,\"\",IF(SUM(IF($F$24:$F$119=\"N\",1,0))=0,\"N/A\",SUM(IF($F$24:$F$119=\"N\",IF(AI$24:AI$119=\"+\",1,0)))))))","v":""},{"$nulls":3},"K+",{"$f":"IF(ISNA(frmSystem),\"\",IF('Ct Report'!G6=0,\"\",IF(SUM(IF($F$24:$F$119=\"P\",1,0))=0,\"N/A\",AVERAGE(IF($F$24:$F$119=\"P\",AN$24:AN$119)))))","v":""},{"$nulls":14},"Anzahl zu importierenden Dateien",{"$f":"VLOOKUP(IF(ISNA(VLOOKUP(frmTaqMan,tabTaqManDaten,26,FALSE)),frmTaqMan*1,frmTaqMan),tabTaqManDaten,26,FALSE)","v":{"$error":"#N/A"}}]
["Comment:",{"$nulls":6},"ExCtrl",{"$nulls":4},{"$f":"IF(ISNA(frmSystem),\"\",IF('Ct Report'!C6=0,\"\",IF(SUM(IF($F$24:$F$119=\"E\",1,0))=0,\"N/A\",AVERAGE(IF($F$24:$F$119=\"E\",L$24:L$119)))))","v":""},{"$f":"IF(ISNA(frmSystem),\"\",IF('Ct Report'!C6=0,\"\",IF(SUM(IF($F$24:$F$119=\"E\",1,0))=0,\"N/A\",SUM(IF($F$24:$F$119=\"E\",IF(N$24:N$119=\"-\",1,0))))))","v":""},{"$f":"IF(ISNA(frmSystem),\"\",IF('Ct Report'!C6=0,\"\",IF(SUM(IF($F$24:$F$119=\"E\",1,0))=0,\"N/A\",SUM(IF($F$24:$F$119=\"E\",IF(N$24:N$119=\"i\",1,0))))))","v":""},{"$f":"IF(ISNA(frmSystem),\"\",IF('Ct Report'!C6=0,\"\",IF(SUM(IF($F$24:$F$119=\"E\",1,0))=0,\"N/A\",SUM(IF($F$24:$F$119=\"E\",IF(N$24:N$119=\"+\",1,0))))))","v":""},null,null,{"$f":"IF(ISNA(frmSystem),\"\",IF(frmAnzahlSysteme<3,\"\",IF('Ct Report'!D6=0,\"\",IF(SUM(IF($F$24:$F$119=\"E\",1,0))=0,\"N/A\",AVERAGE(IF($F$24:$F$119=\"E\",S$24:S$119))))))","v":""},{"$f":"IF(ISNA(frmSystem),\"\",IF(frmAnzahlSysteme<3,\"\",IF('Ct Report'!D6=0,\"\",IF(SUM(IF($F$24:$F$119=\"E\",1,0))=0,\"N/A\",SUM(IF($F$24:$F$119=\"E\",IF(T$24:U$119=\"-\",1,0)))))))","v":""},{"$f":"IF(ISNA(frmSystem),\"\",IF(frmAnzahlSysteme<3,\"\",IF('Ct Report'!D6=0,\"\",IF(SUM(IF($F$24:$F$119=\"E\",1,0))=0,\"N/A\",SUM(IF($F$24:$F$119=\"E\",IF(U$24:U$119=\"i\",1,0)))))))","v":""},{"$f":"IF(ISNA(frmSystem),\"\",IF(frmAnzahlSysteme<3,\"\",IF('Ct Report'!D6=0,\"\",IF(SUM(IF($F$24:$F$119=\"E\",1,0))=0,\"N/A\",SUM(IF($F$24:$F$119=\"E\",IF(U$24:U$119=\"+\",1,0)))))))","v":""},{"$nulls":3},{"$f":"IF(ISNA(frmSystem),\"\",IF(frmAnzahlSysteme<4,\"\",IF('Ct Report'!E6=0,\"\",IF(SUM(IF($F$24:$F$119=\"E\",1,0))=0,\"N/A\",AVERAGE(IF($F$24:$F$119=\"E\",Z$24:Z$119))))))","v":""},{"$f":"IF(ISNA(frmSystem),\"\",IF(frmAnzahlSysteme<4,\"\",IF('Ct Report'!E6=0,\"\",IF(SUM(IF($F$24:$F$119=\"E\",1,0))=0,\"N/A\",SUM(IF($F$24:$F$119=\"E\",IF(AA$24:AB$119=\"-\",1,0)))))))","v":""},{"$f":"IF(ISNA(frmSystem),\"\",IF(frmAnzahlSysteme<4,\"\",IF('Ct Report'!E6=0,\"\",IF(SUM(IF($F$24:$F$119=\"E\",1,0))=0,\"N/A\",SUM(IF($F$24:$F$119=\"E\",IF(AB$24:AB$119=\"i\",1,0)))))))","v":""},{"$f":"IF(ISNA(frmSystem),\"\",IF(frmAnzahlSysteme<4,\"\",IF('Ct Report'!E6=0,\"\",IF(SUM(IF($F$24:$F$119=\"E\",1,0))=0,\"N/A\",SUM(IF($F$24:$F$119=\"E\",IF(AB$24:AB$119=\"+\",1,0)))))))","v":""},{"$nulls":3},{"$f":"IF(ISNA(frmSystem),\"\",IF(frmAnzahlSysteme<5,\"\",IF('Ct Report'!F6=0,\"\",IF(SUM(IF($F$24:$F$119=\"E\",1,0))=0,\"N/A\",AVERAGE(IF($F$24:$F$119=\"E\",AG$24:AG$119))))))","v":""},{"$f":"IF(ISNA(frmSystem),\"\",IF(frmAnzahlSysteme<5,\"\",IF('Ct Report'!F6=0,\"\",IF(SUM(IF($F$24:$F$119=\"E\",1,0))=0,\"N/A\",SUM(IF($F$24:$F$119=\"E\",IF(AH$24:AI$119=\"-\",1,0)))))))","v":""},{"$f":"IF(ISNA(frmSystem),\"\",IF(frmAnzahlSysteme<5,\"\",IF('Ct Report'!F6=0,\"\",IF(SUM(IF($F$24:$F$119=\"E\",1,0))=0,\"N/A\",SUM(IF($F$24:$F$119=\"E\",IF(AI$24:AI$119=\"i\",1,0)))))))","v":""},{"$f":"IF(ISNA(frmSystem),\"\",IF(frmAnzahlSysteme<5,\"\",IF('Ct Report'!F6=0,\"\",IF(SUM(IF($F$24:$F$119=\"E\",1,0))=0,\"N/A\",SUM(IF($F$24:$F$119=\"E\",IF(AI$24:AI$119=\"+\",1,0)))))))","v":""},{"$nulls":3},"ExCtl",{"$f":"IF(ISNA(frmSystem),\"\",IF('Ct Report'!G6=0,\"\",IF(SUM(IF($F$24:$F$119=\"E\",1,0))=0,\"N/A\",AVERAGE(IF($F$24:$F$119=\"E\",AN$24:AN$119)))))","v":""},{"$nulls":14},"DateiEndung Import-Datei",{"$f":"VLOOKUP(IF(ISNA(VLOOKUP(frmTaqMan,tabTaqManDaten,27,FALSE)),frmTaqMan*1,frmTaqMan),tabTaqManDaten,27,FALSE)","v":{"$error":"#N/A"}},{"$nulls":13},"dRN Limit Low",null,"nur Ct-Auswertung",{"$nulls":3},"dRN Limit Low",null,"nur Ct-Auswertung",{"$nulls":3},"dRN Limit Low",null,"nur Ct-Auswertung",{"$nulls":3},"dRN Limit Low",null,"nur Ct-Auswertung",{"$nulls":4},"nur Ct-Auswertung"]
[{"$nulls":55},"Importiert:",{"$nulls":14},{"$f":"IF(ISNA(frmSystem),\"\",IF(VLOOKUP(frmModulKurz,INDIRECT(frmTabReporter),25,FALSE)=0,\"N/A\",VLOOKUP(frmModulKurz,INDIRECT(frmTabReporter),25,FALSE)))","v":""},null,{"$f":"IF(ISNA(frmSystem),\"\",IF(VLOOKUP(frmModulKurz,INDIRECT(frmTabReporter),71,FALSE)=0,FALSE,VLOOKUP(frmModulKurz,INDIRECT(frmTabReporter),71,FALSE)))","v":""},{"$nulls":3},{"$f":"IF(ISNA(frmSystem),\"\",IF(VLOOKUP(frmModulKurz,INDIRECT(frmTabReporter),32,FALSE)=0,\"N/A\",VLOOKUP(frmModulKurz,INDIRECT(frmTabReporter),32,FALSE)))","v":""},null,{"$f":"IF(ISNA(frmSystem),\"\",IF(VLOOKUP(frmModulKurz,INDIRECT(frmTabReporter),72,FALSE)=0,FALSE,VLOOKUP(frmModulKurz,INDIRECT(frmTabReporter),72,FALSE)))","v":""},{"$nulls":3},{"$f":"IF(ISNA(frmSystem),\"\",IF(VLOOKUP(frmModulKurz,INDIRECT(frmTabReporter),39,FALSE)=0,\"N/A\",VLOOKUP(frmModulKurz,INDIRECT(frmTabReporter),39,FALSE)))","v":""},null,{"$f":"IF(ISNA(frmSystem),\"\",IF(VLOOKUP(frmModulKurz,INDIRECT(frmTabReporter),73,FALSE)=0,FALSE,VLOOKUP(frmModulKurz,INDIRECT(frmTabReporter),73,FALSE)))","v":""},{"$nulls":3},{"$f":"IF(ISNA(frmSystem),\"\",IF(VLOOKUP(frmModulKurz,INDIRECT(frmTabReporter),46,FALSE)=0,\"N/A\",VLOOKUP(frmModulKurz,INDIRECT(frmTabReporter),46,FALSE)))","v":""},null,{"$f":"IF(ISNA(frmSystem),\"\",IF(VLOOKUP(frmModulKurz,INDIRECT(frmTabReporter),74,FALSE)=0,FALSE,VLOOKUP(frmModulKurz,INDIRECT(frmTabReporter),74,FALSE)))","v":""},{"$nulls":4},{"$f":"IF(ISNA(frmSystem),\"\",IF(VLOOKUP(frmModulKurz,INDIRECT(frmTabReporter),86,FALSE)=0,FALSE,VLOOKUP(frmModulKurz,INDIRECT(frmTabReporter),86,FALSE)))","v":""},{"$nulls":6},1,2,3,4,5,6,7,8,9,10,11,12,13,14,15]
[{"$nulls":7},"Threshold",{"$nulls":5},{"$f":"IF(LEN(frmModul)=0,\"\",IF(LEN('Ct Report'!C10)=0,\"N/A\",'Ct Report'!C10))","v":""},{"$nulls":5},{"$f":"IF(LEN(frmModul)=0,\"\",IF(frmAnzahlSysteme<3,\"\",IF(LEN('Ct Report'!D10)=0,\"N/A\",'Ct Report'!D10)))","v":""},{"$nulls":6},{"$f":"IF(LEN(frmModul)=0,\"\",IF(frmAnzahlSysteme<4,\"\",IF(LEN('Ct Report'!E10)=0,\"N/A\",'Ct Report'!E10)))","v":""},{"$nulls":6},{"$f":"IF(LEN(frmModul)=0,\"\",IF(frmAnzahlSysteme<5,\"\",IF(LEN('Ct Report'!F10)=0,\"N/A\",'Ct Report'!F10)))","v":""},{"$nulls":6},{"$f":"IF(LEN(frmModul)=0,\"\",IF(LEN('Ct Report'!G10)=0,\"N/A\",'Ct Report'!G10))","v":""},{"$nulls":14},"Garantie accepted",{"$nulls":14},{"$f":"IF(LEN(frmImportiert)=0,\"\",IF(ISNA(frmSystem),\"\",IF(AND(ISNUMBER(frmRnLimit1),ISNUMBER(BS18)),frmRnLimit1*BS18,\"--\")))","v":""},{"$nulls":5},{"$f":"IF(LEN(frmImportiert)=0,\"\",IF(ISNA(frmSystem),\"\",IF(AND(ISNUMBER(frmRnLimit2),ISNUMBER(BY18)),frmRnLimit2*BY18,\"--\")))","v":""},{"$nulls":5},{"$f":"IF(LEN(frmImportiert)=0,\"\",IF(ISNA(frmSystem),\"\",IF(AND(ISNUMBER(frmRnLimit3),ISNUMBER(CE18)),frmRnLimit3*CE18,\"--\")))","v":""},{"$nulls":5},{"$f":"IF(LEN(frmImportiert)=0,\"\",IF(ISNA(frmSystem),\"\",IF(AND(ISNUMBER(frmRnLimit4),ISNUMBER(CK18)),frmRnLimit4*CK18,\"--\")))","v":""},{"$nulls":12},"System1","x",null,"x",null,"x",null,"x",null,"x",null,"x",null,"x",null,"x",1]
[{"$nulls":10},{"$f":"IF(ISNA(frmSystem),\"\",IF(frmTaqMan<>\"MX Pro\",\"Baseline \"&VLOOKUP(frmModul,tabPCRSysteme,5,FALSE),\"\"))","v":""},{"$nulls":30},{"$f":"IF(LEN(frmImportiert)=0,\"\",IF(ISNA(frmSystem),\"\",IF(frmTaqMan<>\"MX Pro\",IF(AO20<>frmBaseLineSoll,\"!!!\",\"\"),\"\")))","v":""},{"$nulls":12},"Auswertung",{"$nulls":46},"System2",null,"x","x",null,null,"x","x",null,null,"x","x",null,null,"x","x",2]
[{"$nulls":11},{"$f":"IF(ISNA(frmSystem),\"\",IF(LEN(B7)>0,\"not validated\",IF(AND('Ct Report'!C6=0,'Ct Report'!H6=0),\"No Ct / \"&frmROX&\" Data available\",IF('Ct Report'!C6=0,\"No Ct Data available\",IF('Ct Report'!H6=0,\"No \"&frmROX&\" Data available\",\"\")))))","v":""},{"$nulls":6},{"$f":"IF(ISNA(frmSystem),\"\",IF(frmAnzahlSysteme<3,\"\",IF(LEN(B7)>0,\"not validated\",IF(AND('Ct Report'!D6=0,'Ct Report'!I6=0),\"No Ct / \"&frmROX&\" Data available\",IF('Ct Report'!D6=0,\"No Ct Data available\",IF('Ct Report'!I6=0,\"No \"&frmROX&\" Data available\",\"\"))))))","v":""},{"$nulls":6},{"$f":"IF(ISNA(frmSystem),\"\",IF(frmAnzahlSysteme<4,\"\",IF(LEN(B7)>0,\"not validated\",IF(AND('Ct Report'!E6=0,'Ct Report'!J6=0),\"No Ct / \"&frmROX&\" Data available\",IF('Ct Report'!E6=0,\"No Ct Data available\",IF('Ct Report'!J6=0,\"No \"&frmROX&\" Data available\",\"\"))))))","v":""},{"$nulls":6},{"$f":"IF(ISNA(frmSystem),\"\",IF(frmAnzahlSysteme<5,\"\",IF(LEN(B7)>0,\"not validated\",IF(AND('Ct Report'!F6=0,'Ct Report'!K6=0),\"No Ct / \"&frmROX&\" Data available\",IF('Ct Report'!F6=0,\"No Ct Data available\",IF('Ct Report'!K6=0,\"No \"&frmROX&\" Data available\",\"\"))))))","v":""},{"$nulls":6},{"$f":"IF(ISNA(frmSystem),\"\",IF(LEN(B7)>0,\"not validated\",IF(AND('Ct Report'!G6=0,'Ct Report'!L6=0),\"No Ct / \"&frmROX&\" Data available\",IF('Ct Report'!G6=0,\"No Ct Data available\",IF('Ct Report'!L6=0,\"No \"&frmROX&\" Data available\",\"\")))))","v":""},{"$nulls":16},{"$f":"VLOOKUP(frmRTGerät,tabInstruments,3,FALSE)","v":{"$error":"#N/A"}},{"$nulls":12},"System1",{"$nulls":5},"System2",{"$nulls":5},"System3",{"$nulls":5},"System4",{"$nulls":5},"System5",{"$nulls":7},"System3",{"$nulls":3},"x","x","x","x",{"$nulls":4},"x","x","x","x",4]
[{"$nulls":7},"Out",{"$nulls":3},{"$f":"IF(ISNA(frmSystem),\"No Module Selected\",VLOOKUP(frmModul,tabPCRSysteme,5,FALSE))","v":"No Module Selected"},{"$nulls":6},{"$f":"IF(ISNA(frmSystem),\"No Module Selected\",IF(VLOOKUP(frmModul,tabPCRSysteme,10,FALSE)=0,\"\",VLOOKUP(frmModul,tabPCRSysteme,10,FALSE)))","v":"No Module Selected"},{"$nulls":6},{"$f":"IF(ISNA(frmSystem),\"No Module Selected\",IF(VLOOKUP(frmModul,tabPCRSysteme,15,FALSE)=0,\"\",VLOOKUP(frmModul,tabPCRSysteme,15,FALSE)))","v":"No Module Selected"},{"$nulls":6},{"$f":"IF(ISNA(frmSystem),\"No Module Selected\",IF(VLOOKUP(frmModul,tabPCRSysteme,20,FALSE)=0,\"\",VLOOKUP(frmModul,tabPCRSysteme,20,FALSE)))","v":"No Module Selected"},{"$nulls":6},"IPC",{"$nulls":16},"A10:B108",null,"Spalten Ct-Werte",{"$nulls":4},"Spalten dRN-Werte",{"$nulls":8},"PCR",{"$nulls":5},"PCR",{"$nulls":5},"PCR",{"$nulls":5},"PCR",{"$nulls":4},"Nur Cq-Scoring",null,null,"Asymetrie",null,null,"System4",{"$nulls":7},"x","x","x","x","x","x","x","x",8]
["Nr","Well",null,"Sample","Dil.","Task",{"$nulls":3},"PCRID",null,"Ct",{"$f":"frmROX","v":{"$error":"#N/A"}},"Res",{"$nulls":4},"Ct",{"$f":"frmROX","v":{"$error":"#N/A"}},"Res",{"$nulls":4},"Ct",{"$f":"frmROX","v":{"$error":"#N/A"}},"Res",{"$nulls":4},"Ct",{"$f":"frmROX","v":{"$error":"#N/A"}},"Res",{"$nulls":4},"Ct",{"$f":"frmROX","v":{"$error":"#N/A"}},"Total",{"$nulls":13},"Max. Anzahl Systeme",{"$f":"IF(ISNA(VLOOKUP(frmTaqMan,tabTaqManID,6,FALSE)),VLOOKUP(frmTaqMan*1,tabTaqManID,6,FALSE),VLOOKUP(frmTaqMan,tabTaqManID,6,FALSE))","v":{"$error":"#N/A"}},7,8,9,10,11,12,13,14,15,16,17,null,"Res Ct","Res dRN","Total","Result","Asymetrie",null,"Res Ct","Res dRN","Total","Result","Asymetrie",null,"Res Ct","Res dRN","Total","Result","Asymetrie",null,"Res Ct","Res dRN","Total","Result","Asymetrie",null,"Res Ct","Res dRN","Res Ct","Res dRN",null,"Gesamt"]
[1,{"$f":"IF(LEN($A24)=0,\"\",VLOOKUP($A24,INDIRECT(\"tabLayout\"&frmLayout),2,FALSE))","v":"A1"},{"$f":"IF(B24<>\"\",VLOOKUP($A24,tabPlattenLayout,5,FALSE),\"\")","v":{"$error":"#NAME?"}},{"$f":"IF(LEN($B24)=0,\"\",IF('Ct Report'!B$6=0,\"\",VLOOKUP($B24,INDIRECT(\"'Ct Report'!\"&$BE$22),2,FALSE)))","v":""},null,{"$f":"IF(LEN($A24)=0,\"\",VLOOKUP($A24,INDIRECT(\"tabLayout\"&frmLayout),3,FALSE))","v":"N"},{"$nulls":3},{"$f":"IF($B24<>\"\",IF(VLOOKUP($A24,tabPlattenLayout2,AS$23+4,FALSE)=\"./.\",\"\",VLOOKUP($A24,tabPlattenLayout2,AS$23+4,FALSE)*1),\"\")","v":{"$error":"#NAME?"}},{"$f":"IF(B24<>\"\",VLOOKUP(frmModul,tabPCRSysteme,5,FALSE),\"\")","v":{"$error":"#N/A"}},{"$f":"IF($B24=\"\",\"\",IF('Ct Report'!C$6=0,\"\",IF(INDEX(INDIRECT(\"'Ct Report'!\"&$BG$24),MATCH(B24,INDIRECT(\"'Ct Report'!\"&$BF$24),0))=frmNoAmplification,frmZyklen,INDEX(INDIRECT(\"'Ct Report'!\"&$BG$24),MATCH(B24,INDIRECT(\"'Ct Report'!\"&$BF$24),0))*1)))","v":""},{"$f":"IF($B24<>\"\",IF('Ct Report'!H$6=0,\"\",INDEX(INDIRECT(\"'Ct Report'!\"&$BL$24),MATCH(B24,INDIRECT(\"'Ct Report'!\"&$BF$24),0))*1),\"\")","v":""},{"$f":"IF(ISNA(frmSystem),\"\",IF(B24=\"\",\"\",IF(LEN(L$21)>0,\"\",INDEX(lstResultGMO2Short,MATCH($AP24&BT24,lstResultGMO2Def,0),0))))","v":""},{"$f":"IF(ISNA(frmSystem),\"\",IF($B20=\"\",\"\",IF(frmShiftAsymetrie=0,\"\",IF(N24=\"+\",\"\",IF($CU24>0,IF(HLOOKUP($CU24,$CY$18:$DM$22,2,FALSE)=0,\"S\",\"\"),\"\")))))","v":""},{"$nulls":3},{"$f":"IF(ISNA(frmSystem),\"\",IF($B24=\"\",\"\",IF(frmAnzahlSysteme<3,\"\",IF(LEN(S$21)>0,\"\",IF(INDEX(INDIRECT(\"'Ct Report'!\"&$BH$24),MATCH(B24,INDIRECT(\"'Ct Report'!\"&$BF$24),0))=frmNoAmplification,frmZyklen,INDEX(INDIRECT(\"'Ct Report'!\"&$BH$24),MATCH(B24,INDIRECT(\"'Ct Report'!\"&$BF$24),0))*1)))))","v":""},{"$f":"IF(ISNA(frmSystem),\"\",IF($B24=\"\",\"\",IF(frmAnzahlSysteme<3,\"\",IF('Ct Report'!I$6=0,\"\",INDEX(INDIRECT(\"'Ct Report'!\"&$BM$24),MATCH($B24,INDIRECT(\"'Ct Report'!\"&$BF$24),0))*1))))","v":""},{"$f":"IF(ISNA(frmSystem),\"\",IF(B24=\"\",\"\",IF(frmAnzahlSysteme<3,\"\",IF(LEN(S$21)>0,\"\",INDEX(lstResultGMO2Short,MATCH($AP24&BZ24,lstResultGMO2Def,0),0)))))","v":""},{"$f":"IF(ISNA(frmSystem),\"\",IF($B24=\"\",\"\",IF(frmAnzahlSysteme<3,\"\",IF(frmShiftAsymetrie=0,\"\",IF(U24=\"+\",\"\",IF($CU24>0,IF(HLOOKUP($CU24,$CY$18:$DM$22,3,FALSE)=0,\"S\",\"\"),\"\"))))))","v":""},{"$nulls":3},{"$f":"IF(ISNA(frmSystem),\"\",IF($B24=\"\",\"\",IF(frmAnzahlSysteme<4,\"\",IF(LEN(Z$21)>0,\"\",IF(INDEX(INDIRECT(\"'Ct Report'!\"&$BI$24),MATCH(B24,INDIRECT(\"'Ct Report'!\"&$BF$24),0))=frmNoAmplification,frmZyklen,INDEX(INDIRECT(\"'Ct Report'!\"&$BI$24),MATCH(B24,INDIRECT(\"'Ct Report'!\"&$BF$24),0))*1)))))","v":""},{"$f":"IF(ISNA(frmSystem),\"\",IF($B24=\"\",\"\",IF(frmAnzahlSysteme<4,\"\",IF('Ct Report'!J$6=0,\"\",INDEX(INDIRECT(\"'Ct Report'!\"&$BN$24),MATCH($B24,INDIRECT(\"'Ct Report'!\"&$BF$24),0))*1))))","v":""},{"$f":"IF(ISNA(frmSystem),\"\",IF(B24=\"\",\"\",IF(frmAnzahlSysteme<4,\"\",IF(LEN(Z$21)>0,\"\",INDEX(lstResultGMO2Short,MATCH($AP24&CF24,lstResultGMO2Def,0),0)))))","v":""},{"$f":"IF(ISNA(frmSystem),\"\",IF($B24=\"\",\"\",IF(frmAnzahlSysteme<4,\"\",IF(frmShiftAsymetrie=0,\"\",IF(AB24=\"+\",\"\",IF($CU24>0,IF(HLOOKUP($CU24,$CY$18:$DM$22,4,FALSE)=0,\"S\",\"\"),\"\"))))))","v":""},{"$nulls":3},{"$f":"IF(ISNA(frmSystem),\"\",IF($B24=\"\",\"\",IF(frmAnzahlSysteme<5,\"\",IF(INDEX(INDIRECT(\"'Ct Report'!\"&$BJ$24),MATCH(B24,INDIRECT(\"'Ct Report'!\"&$BF$24),0))=frmNoAmplification,frmZyklen,INDEX(INDIRECT(\"'Ct Report'!\"&$BJ$24),MATCH(B24,INDIRECT(\"'Ct Report'!\"&$BF$24),0))*1))))","v":""},{"$f":"IF(ISNA(frmSystem),\"\",IF($B24=\"\",\"\",IF(frmAnzahlSysteme<5,\"\",IF('Ct Report'!K$6=0,\"\",INDEX(INDIRECT(\"'Ct Report'!\"&$BO$24),MATCH($B24,INDIRECT(\"'Ct Report'!\"&$BF$24),0))*1))))","v":""},{"$f":"IF(ISNA(frmSystem),\"\",IF(B24=\"\",\"\",IF(frmAnzahlSysteme<5,\"\",IF(LEN(AG$21)>0,\"\",INDEX(lstResultGMO2Short,MATCH($AP24&CL24,lstResultGMO2Def,0),0)))))","v":""},{"$f":"IF(ISNA(frmSystem),\"\",IF($B24=\"\",\"\",IF(frmAnzahlSysteme<5,\"\",IF(frmShiftAsymetrie=0,\"\",IF(AI24=\"+\",\"\",IF($CU24>0,IF(HLOOKUP($CU24,$CY$18:$DM$22,5,FALSE)=0,\"S\",\"\"),\"\"))))))","v":""},{"$nulls":3},{"$f":"IF($B24=\"\",\"\",IF('Ct Report'!G$6=0,\"\",IF(INDEX(INDIRECT(\"'Ct Report'!\"&$BK$24),MATCH($B24,INDIRECT(\"'Ct Report'!\"&$BF$24),0))=frmNoAmplification,frmZyklen,INDEX(INDIRECT(\"'Ct Report'!\"&$BK$24),MATCH($B24,INDIRECT(\"'Ct Report'!\"&$BF$24),0)))))","v":""},{"$f":"IF($B24=\"\",\"\",IF('Ct Report'!L$6=0,\"\",INDEX(INDIRECT(\"'Ct Report'!\"&$BP$24),MATCH($B24,INDIRECT(\"'Ct Report'!\"&$BF$24),0))*1))","v":""},{"$f":"IF(ISNA(frmSystem),\"\",IF(B24=\"\",\"\",IF(LEN(AN$21)>0,\"\",IF(frmCqScoringSystem5,VLOOKUP(SUM(CR24:CS24),tabResultIPC,2,FALSE),VLOOKUP(SUM(CP24:CQ24),tabResultIPC,2,FALSE)))))","v":""},{"$nulls":13},"No Amplification",{"$f":"IFERROR(VLOOKUP(frmRTGerät,tabInstruments,2,FALSE),\"---\")","v":"---"},"A10:A108","C10:C108","D10:D108","E10:E108","F10:F108","G10:G108","H10:H108","I10:I108","J10:J108","K10:K108","L10:L108",null,{"$f":"IF(LEN($B24)=0,\"\",IF(L24=\"\",\"\",IF(L24=frmZyklen,0,IF(BU$18=TRUE,IF(L24<=frmCutOff1,10,0),IF(ISNUMBER(BR$12),IF(L24<=BS$12,20,IF(AND(L24>BS$12,L24<=frmCutOff1),10,0)),IF(L24<=frmCutOff1,10,0))))))","v":""},{"$f":"IF(B24=\"\",\"\",IF(M24=\"\",\"\",IF(BU$18=TRUE,IF(L24<=frmCutOff1,1,0),IF(ISNUMBER(frmRnLimit1Low),IF(AND(M24>=frmRnLimit1Low,M24<frmRnLimit1),2,IF(M24>=frmRnLimit1,1,0)),IF(M24>=frmRnLimit1,1,0)))))","v":""},{"$f":"IF(B24=\"\",\"\",IF(OR(BR24=\"\",BS24=\"\"),\"\",VLOOKUP(SUM(BR24:BS24),tabResultGMO,2,FALSE)))","v":""},{"$f":"IF(B24=\"\",\"\",IF(OR(BR24=\"\",BS24=\"\"),\"\",INDEX(lstResultGMO2,MATCH($AP24&BT24,lstResultGMO2Def,0),0)))","v":""},{"$f":"IF(LEN($B24)=0,\"\",IF(L24=\"\",\"\",IF(ISERROR(L24),0,IF(L24-System1_MwPos<=frmShiftAsymetrie,1,0))))","v":""},null,{"$f":"IF(LEN($B24)=0,\"\",IF(frmAnzahlSysteme<3,\"\",IF(S24=\"\",\"\",IF(S24=frmZyklen,0,IF(CA$18=TRUE,IF(S24<=frmCutOff2,10,1),IF(ISNUMBER(BX$12),IF(S24<=BY$12,20,IF(AND(S24>BY$12,S24<=frmCutOff2),10,0)),IF(S24<=frmCutOff2,10,0)))))))","v":{"$error":"#N/A"}},{"$f":"IF(B24=\"\",\"\",IF(frmAnzahlSysteme<3,\"\",IF(T24=\"\",\"\",IF(CA$18=TRUE,IF(S24<=frmCutOff2,1,1),IF(ISNUMBER(frmRnLimit2Low),IF(AND(T24>=frmRnLimit2Low,T24<frmRnLimit2),2,IF(T24>=frmRnLimit2,1,0)),IF(T24>=frmRnLimit2,1,0))))))","v":{"$error":"#N/A"}},{"$f":"IF($B24=\"\",\"\",IF(OR(BX24=\"\",BY24=\"\"),\"\",VLOOKUP(SUM(BX24:BY24),tabResultGMO,2,FALSE)))","v":{"$error":"#N/A"}},{"$f":"IF($B24=\"\",\"\",IF(OR(BX24=\"\",BY24=\"\"),\"\",INDEX(lstResultGMO2,MATCH($AP24&BZ24,lstResultGMO2Def,0),0)))","v":{"$error":"#N/A"}},{"$f":"IF(LEN($B24)=0,0,IF(frmAnzahlSysteme<3,0,IF(S24=\"\",0,IF(S24-System2_MwPos<=frmShiftAsymetrie,2,0))))","v":{"$error":"#N/A"}},null,{"$f":"IF(LEN($B24)=0,\"\",IF(frmAnzahlSysteme<4,\"\",IF(Z24=\"\",\"\",IF(Z24=frmZyklen,0,IF(CG$18=TRUE,IF(Z24<=frmCutOff3,10,0),IF(ISNUMBER(CD$12),IF(Z24<=CE$12,20,IF(AND(Z24>CE$12,Z24<=frmCutOff3),10,0)),IF(Z24<=frmCutOff3,10,0)))))))","v":{"$error":"#N/A"}},{"$f":"IF(B24=\"\",\"\",IF(frmAnzahlSysteme<4,\"\",IF(AA24=\"\",\"\",IF(CG$18=TRUE,IF(Z24<=frmCutOff3,1,0),IF(ISNUMBER(frmRnLimit3Low),IF(AND(AA24>=frmRnLimit3Low,AA24<frmRnLimit3),2,IF(AA24>=frmRnLimit3,1,0)),IF(AA24>=frmRnLimit3,1,0))))))","v":{"$error":"#N/A"}},{"$f":"IF($B24=\"\",\"\",IF(OR(CD24=\"\",CE24=\"\"),\"\",VLOOKUP(SUM(CD24:CE24),tabResultGMO,2,FALSE)))","v":{"$error":"#N/A"}},{"$f":"IF($B24=\"\",\"\",IF(OR(CD24=\"\",CE24=\"\"),\"\",INDEX(lstResultGMO2,MATCH($AP24&CF24,lstResultGMO2Def,0),0)))","v":{"$error":"#N/A"}},{"$f":"IF(LEN($B24)=0,0,IF(frmAnzahlSysteme<4,0,IF(Z24=\"\",0,IF(Z24-System3_MwPos<=frmShiftAsymetrie,4,0))))","v":{"$error":"#N/A"}},null,{"$f":"IF(LEN($B24)=0,\"\",IF(frmAnzahlSysteme<5,\"\",IF(AG24=\"\",\"\",IF(AG24=frmZyklen,0,IF(CM$18=TRUE,IF(AG24<=frmCutOff4,10,0),IF(ISNUMBER(CJ$12),IF(AG24<=CK$12,20,IF(AND(AG24>CK$12,AG24<=frmCutOff4),10,0)),IF(AG24<=frmCutOff4,10,0)))))))","v":{"$error":"#N/A"}},{"$f":"IF(B24=\"\",\"\",IF(frmAnzahlSysteme<5,\"\",IF(AH24=\"\",\"\",IF(CM$18=TRUE,IF(AG24<=frmCutOff4,1,0),IF(ISNUMBER(frmRnLimit4Low),IF(AND(AH24>=frmRnLimit4Low,AH24<frmRnLimit4),2,IF(AH24>=frmRnLimit4,1,0)),IF(AH24>=frmRnLimit4,1,0))))))","v":{"$error":"#N/A"}},{"$f":"IF($B24=\"\",\"\",IF(OR(CJ24=\"\",CK24=\"\"),\"\",VLOOKUP(SUM(CJ24:CK24),tabResultGMO,2,FALSE)))","v":{"$error":"#N/A"}},{"$f":"IF($B24=\"\",\"\",IF(OR(CJ24=\"\",CK24=\"\"),\"\",INDEX(lstResultGMO2,MATCH($AP24&CL24,lstResultGMO2Def,0),0)))","v":{"$error":"#N/A"}},{"$f":"IF(LEN($B24)=0,0,IF(frmAnzahlSysteme<5,0,IF(AG24=\"\",0,IF(AG24-System4_MwPos<=frmShiftAsymetrie,8,0))))","v":{"$error":"#N/A"}},null,{"$f":"IF(LEN($B24)=0,\"\",IF(AN24=\"\",\"\",IF(AN24=frmZyklen,0,IF(ISNUMBER(CP$12),IF(AN24<=CQ$12,200,IF(AND(AN24>CQ$12,AN24<=frmCutOffIPC),100,0)),IF(AN24<=frmCutOffIPC,100,0)))))","v":""},{"$f":"IF(B24=\"\",\"\",IF(AO24=\"\",\"\",IF(AO24>=frmRnLimitIPC,1000,0)))","v":""},{"$f":"IF(LEN($B24)=0,\"\",IF(AN24=\"\",\"\",IF(AN24=frmZyklen,0,IF(ISNUMBER(CP$12),IF(AN24<=CQ$12,100,IF(AND(AN24>CQ$12,AN24<=frmCutOffIPC),1100,0)),IF(AN24<=frmCutOffIPC,100,0)))))","v":""},{"$f":"IF(B24=\"\",\"\",IF(AO24=\"\",\"\",IF(frmCqScoringSystem5,0,IF(AO24>=frmRnLimitIPC,1000,1000))))","v":""},null,{"$f":"IF(IFERROR(frmShiftAsymetrie,0)<0,CHOOSE(frmAnzahlSysteme-1,CW24,CX24,CY24,CZ24),0)","v":0},null,{"$f":"BV24","v":""},{"$f":"BV24+CB24","v":{"$error":"#VALUE!"}},{"$f":"BV24+CB24+CH24","v":{"$error":"#VALUE!"}},{"$f":"BV24+CB24+CH24+CN24","v":{"$error":"#VALUE!"}}]
[2,"A2",{"$f":"IF(B25<>\"\",VLOOKUP($A25,tabPlattenLayout,5,FALSE),\"\")","v":{"$error":"#NAME?"}},{"$f":"IF(LEN($B25)=0,\"\",IF('Ct Report'!B$6=0,\"\",VLOOKUP($B25,INDIRECT(\"'Ct Report'!\"&$BE$22),2,FALSE)))","v":""},null,"N",{"$nulls":3},{"$error":"#NAME?"},{"$error":"#N/A"},{"$f":"IF($B25=\"\",\"\",IF('Ct Report'!C$6=0,\"\",IF(INDEX(INDIRECT(\"'Ct Report'!\"&$BG$24),MATCH(B25,INDIRECT(\"'Ct Report'!\"&$BF$24),0))=frmNoAmplification,frmZyklen,INDEX(INDIRECT(\"'Ct Report'!\"&$BG$24),MATCH(B25,INDIRECT(\"'Ct Report'!\"&$BF$24),0))*1)))","v":""},{"$f":"IF($B25<>\"\",IF('Ct Report'!H$6=0,\"\",INDEX(INDIRECT(\"'Ct Report'!\"&$BL$24),MATCH(B25,INDIRECT(\"'Ct Report'!\"&$BF$24),0))*1),\"\")","v":""},"","",{"$nulls":3},"",{"$f":"IF(ISNA(frmSystem),\"\",IF($B25=\"\",\"\",IF(frmAnzahlSysteme<3,\"\",IF('Ct Report'!I$6=0,\"\",INDEX(INDIRECT(\"'Ct Report'!\"&$BM$24),MATCH($B25,INDIRECT(\"'Ct Report'!\"&$BF$24),0))*1))))","v":""},"","",{"$nulls":3},"",{"$f":"IF(ISNA(frmSystem),\"\",IF($B25=\"\",\"\",IF(frmAnzahlSysteme<4,\"\",IF('Ct Report'!J$6=0,\"\",INDEX(INDIRECT(\"'Ct Report'!\"&$BN$24),MATCH($B25,INDIRECT(\"'Ct Report'!\"&$BF$24),0))*1))))","v":""},"","",{"$nulls":3},"",{"$f":"IF(ISNA(frmSystem),\"\",IF($B25=\"\",\"\",IF(frmAnzahlSysteme<5,\"\",IF('Ct Report'!K$6=0,\"\",INDEX(INDIRECT(\"'Ct Report'!\"&$BO$24),MATCH($B25,INDIRECT(\"'Ct Report'!\"&$BF$24),0))*1))))","v":""},"","",{"$nulls":3},{"$f":"IF($B25=\"\",\"\",IF('Ct Report'!G$6=0,\"\",IF(INDEX(INDIRECT(\"'Ct Report'!\"&$BK$24),MATCH($B25,INDIRECT(\"'Ct Report'!\"&$BF$24),0))=frmNoAmplification,frmZyklen,INDEX(INDIRECT(\"'Ct Report'!\"&$BK$24),MATCH($B25,INDIRECT(\"'Ct Report'!\"&$BF$24),0)))))","v":""},{"$f":"IF($B25=\"\",\"\",IF('Ct Report'!L$6=0,\"\",INDEX(INDIRECT(\"'Ct Report'!\"&$BP$24),MATCH($B25,INDIRECT(\"'Ct Report'!\"&$BF$24),0))*1))","v":""},"",{"$nulls":13},"Anzahl OutLier PosCtl",{"$f":"VLOOKUP(frmModul,tabPCRSysteme,$BF$25,FALSE)","v":{"$error":"#N/A"}},43,{"$nulls":11},"","","","","",null,{"$error":"#N/A"},{"$error":"#N/A"},{"$error":"#N/A"},{"$error":"#N/A"},{"$error":"#N/A"},null,{"$error":"#N/A"},{"$error":"#N/A"},{"$error":"#N/A"},{"$error":"#N/A"},{"$error":"#N/A"},null,{"$error":"#N/A"},{"$error":"#N/A"},{"$error":"#N/A"},{"$error":"#N/A"},{"$error":"#N/A"},null,"","","","",null,0,null,{"$f":"BV25","v":""},{"$f":"BV25+CB25","v":{"$error":"#VALUE!"}},{"$f":"BV25+CB25+CH25","v":{"$error":"#VALUE!"}},{"$f":"BV25+CB25+CH25+CN25","v":{"$error":"#VALUE!"}}]
[3,"A3",{"$error":"#NAME?"},{"$f":"IF(LEN($B26)=0,\"\",IF('Ct Report'!B$6=0,\"\",VLOOKUP($B26,INDIRECT(\"'Ct Report'!\"&$BE$22),2,FALSE)))","v":""},null,"P",{"$nulls":3},{"$error":"#NAME?"},{"$error":"#N/A"},{"$f":"IF($B26=\"\",\"\",IF('Ct Report'!C$6=0,\"\",IF(INDEX(INDIRECT(\"'Ct Report'!\"&$BG$24),MATCH(B26,INDIRECT(\"'Ct Report'!\"&$BF$24),0))=frmNoAmplification,frmZyklen,INDEX(INDIRECT(\"'Ct Report'!\"&$BG$24),MATCH(B26,INDIRECT(\"'Ct Report'!\"&$BF$24),0))*1)))","v":""},{"$f":"IF($B26<>\"\",IF('Ct Report'!H$6=0,\"\",INDEX(INDIRECT(\"'Ct Report'!\"&$BL$24),MATCH(B26,INDIRECT(\"'Ct Report'!\"&$BF$24),0))*1),\"\")","v":""},"","",{"$nulls":3},"",{"$f":"IF(ISNA(frmSystem),\"\",IF($B26=\"\",\"\",IF(frmAnzahlSysteme<3,\"\",IF('Ct Report'!I$6=0,\"\",INDEX(INDIRECT(\"'Ct Report'!\"&$BM$24),MATCH($B26,INDIRECT(\"'Ct Report'!\"&$BF$24),0))*1))))","v":""},"","",{"$nulls":3},"",{"$f":"IF(ISNA(frmSystem),\"\",IF($B26=\"\",\"\",IF(frmAnzahlSysteme<4,\"\",IF('Ct Report'!J$6=0,\"\",INDEX(INDIRECT(\"'Ct Report'!\"&$BN$24),MATCH($B26,INDIRECT(\"'Ct Report'!\"&$BF$24),0))*1))))","v":""},"","",{"$nulls":3},"",{"$f":"IF(ISNA(frmSystem),\"\",IF($B26=\"\",\"\",IF(frmAnzahlSysteme<5,\"\",IF('Ct Report'!K$6=0,\"\",INDEX(INDIRECT(\"'Ct Report'!\"&$BO$24),MATCH($B26,INDIRECT(\"'Ct Report'!\"&$BF$24),0))*1))))","v":""},"","",{"$nulls":3},{"$f":"IF($B26=\"\",\"\",IF('Ct Report'!G$6=0,\"\",IF(INDEX(INDIRECT(\"'Ct Report'!\"&$BK$24),MATCH($B26,INDIRECT(\"'Ct Report'!\"&$BF$24),0))=frmNoAmplification,frmZyklen,INDEX(INDIRECT(\"'Ct Report'!\"&$BK$24),MATCH($B26,INDIRECT(\"'Ct Report'!\"&$BF$24),0)))))","v":""},{"$f":"IF($B26=\"\",\"\",IF('Ct Report'!L$6=0,\"\",INDEX(INDIRECT(\"'Ct Report'!\"&$BP$24),MATCH($B26,INDIRECT(\"'Ct Report'!\"&$BF$24),0))*1))","v":""},"",{"$nulls":13},"Anzahl OutLier NTC (nur IPC)",{"$f":"VLOOKUP(frmModul,tabPCRSysteme,$BF$25+1,FALSE)","v":{"$error":"#N/A"}},{"$nulls":12},"","","","","",null,{"$error":"#N/A"},{"$error":"#N/A"},{"$error":"#N/A"},{"$error":"#N/A"},{"$error":"#N/A"},null,{"$error":"#N/A"},{"$error":"#N/A"},{"$error":"#N/A"},{"$error":"#N/A"},{"$error":"#N/A"},null,{"$error":"#N/A"},{"$error":"#N/A"},{"$error":"#N/A"},{"$error":"#N/A"},{"$error":"#N/A"},null,"","","","",null,0,null,"",{"$error":"#VALUE!"},{"$error":"#VALUE!"},{"$error":"#VALUE!"}]
[4,"A4",{"$error":"#NAME?"},{"$f":"IF(LEN($B27)=0,\"\",IF('Ct Report'!B$6=0,\"\",VLOOKUP($B27,INDIRECT(\"'Ct Report'!\"&$BE$22),2,FALSE)))","v":""},null,"P",{"$nulls":3},{"$error":"#NAME?"},{"$error":"#N/A"},{"$f":"IF($B27=\"\",\"\",IF('Ct Report'!C$6=0,\"\",IF(INDEX(INDIRECT(\"'Ct Report'!\"&$BG$24),MATCH(B27,INDIRECT(\"'Ct Report'!\"&$BF$24),0))=frmNoAmplification,frmZyklen,INDEX(INDIRECT(\"'Ct Report'!\"&$BG$24),MATCH(B27,INDIRECT(\"'Ct Report'!\"&$BF$24),0))*1)))","v":""},{"$f":"IF($B27<>\"\",IF('Ct Report'!H$6=0,\"\",INDEX(INDIRECT(\"'Ct Report'!\"&$BL$24),MATCH(B27,INDIRECT(\"'Ct Report'!\"&$BF$24),0))*1),\"\")","v":""},"","",{"$nulls":3},"",{"$f":"IF(ISNA(frmSystem),\"\",IF($B27=\"\",\"\",IF(frmAnzahlSysteme<3,\"\",IF('Ct Report'!I$6=0,\"\",INDEX(INDIRECT(\"'Ct Report'!\"&$BM$24),MATCH($B27,INDIRECT(\"'Ct Report'!\"&$BF$24),0))*1))))","v":""},"","",{"$nulls":3},"",{"$f":"IF(ISNA(frmSystem),\"\",IF($B27=\"\",\"\",IF(frmAnzahlSysteme<4,\"\",IF('Ct Report'!J$6=0,\"\",INDEX(INDIRECT(\"'Ct Report'!\"&$BN$24),MATCH($B27,INDIRECT(\"'Ct Report'!\"&$BF$24),0))*1))))","v":""},"","",{"$nulls":3},"",{"$f":"IF(ISNA(frmSystem),\"\",IF($B27=\"\",\"\",IF(frmAnzahlSysteme<5,\"\",IF('Ct Report'!K$6=0,\"\",INDEX(INDIRECT(\"'Ct Report'!\"&$BO$24),MATCH($B27,INDIRECT(\"'Ct Report'!\"&$BF$24),0))*1))))","v":""},"","",{"$nulls":3},{"$f":"IF($B27=\"\",\"\",IF('Ct Report'!G$6=0,\"\",IF(INDEX(INDIRECT(\"'Ct Report'!\"&$BK$24),MATCH($B27,INDIRECT(\"'Ct Report'!\"&$BF$24),0))=frmNoAmplification,frmZyklen,INDEX(INDIRECT(\"'Ct Report'!\"&$BK$24),MATCH($B27,INDIRECT(\"'Ct Report'!\"&$BF$24),0)))))","v":""},{"$f":"IF($B27=\"\",\"\",IF('Ct Report'!L$6=0,\"\",INDEX(INDIRECT(\"'Ct Report'!\"&$BP$24),MATCH($B27,INDIRECT(\"'Ct Report'!\"&$BF$24),0))*1))","v":""},"",{"$nulls":13},"Identifier MM Soll",{"$f":"IF(ISERROR(VLOOKUP(frmModul,tabPCRSysteme,$BF$25+9,FALSE)),\"N/A\",IF(VLOOKUP(frmModul,tabPCRSysteme,$BF$25+9,FALSE)=0,\"---\",VLOOKUP(frmModul,tabPCRSysteme,$BF$25+9,FALSE)))","v":"N/A"},{"$nulls":12},"","","","","",null,{"$error":"#N/A"},{"$error":"#N/A"},{"$error":"#N/A"},{"$error":"#N/A"},{"$error":"#N/A"},null,{"$error":"#N/A"},{"$error":"#N/A"},{"$error":"#N/A"},{"$error":"#N/A"},{"$error":"#N/A"},null,{"$error":"#N/A"},{"$error":"#N/A"},{"$error":"#N/A"},{"$error":"#N/A"},{"$error":"#N/A"},null,"","","","",null,0,null,"",{"$error":"#VALUE!"},{"$error":"#VALUE!"},{"$error":"#VALUE!"}]
[5,"A5",{"$error":"#NAME?"},{"$f":"IF(LEN($B28)=0,\"\",IF('Ct Report'!B$6=0,\"\",VLOOKUP($B28,INDIRECT(\"'Ct Report'!\"&$BE$22),2,FALSE)))","v":""},null,"U",{"$nulls":3},{"$error":"#NAME?"},{"$error":"#N/A"},{"$f":"IF($B28=\"\",\"\",IF('Ct Report'!C$6=0,\"\",IF(INDEX(INDIRECT(\"'Ct Report'!\"&$BG$24),MATCH(B28,INDIRECT(\"'Ct Report'!\"&$BF$24),0))=frmNoAmplification,frmZyklen,INDEX(INDIRECT(\"'Ct Report'!\"&$BG$24),MATCH(B28,INDIRECT(\"'Ct Report'!\"&$BF$24),0))*1)))","v":""},{"$f":"IF($B28<>\"\",IF('Ct Report'!H$6=0,\"\",INDEX(INDIRECT(\"'Ct Report'!\"&$BL$24),MATCH(B28,INDIRECT(\"'Ct Report'!\"&$BF$24),0))*1),\"\")","v":""},"","",{"$nulls":3},"",{"$f":"IF(ISNA(frmSystem),\"\",IF($B28=\"\",\"\",IF(frmAnzahlSysteme<3,\"\",IF('Ct Report'!I$6=0,\"\",INDEX(INDIRECT(\"'Ct Report'!\"&$BM$24),MATCH($B28,INDIRECT(\"'Ct Report'!\"&$BF$24),0))*1))))","v":""},"","",{"$nulls":3},"",{"$f":"IF(ISNA(frmSystem),\"\",IF($B28=\"\",\"\",IF(frmAnzahlSysteme<4,\"\",IF('Ct Report'!J$6=0,\"\",INDEX(INDIRECT(\"'Ct Report'!\"&$BN$24),MATCH($B28,INDIRECT(\"'Ct Report'!\"&$BF$24),0))*1))))","v":""},"","",{"$nulls":3},"",{"$f":"IF(ISNA(frmSystem),\"\",IF($B28=\"\",\"\",IF(frmAnzahlSysteme<5,\"\",IF('Ct Report'!K$6=0,\"\",INDEX(INDIRECT(\"'Ct Report'!\"&$BO$24),MATCH($B28,INDIRECT(\"'Ct Report'!\"&$BF$24),0))*1))))","v":""},"","",{"$nulls":3},{"$f":"IF($B28=\"\",\"\",IF('Ct Report'!G$6=0,\"\",IF(INDEX(INDIRECT(\"'Ct Report'!\"&$BK$24),MATCH($B28,INDIRECT(\"'Ct Report'!\"&$BF$24),0))=frmNoAmplification,frmZyklen,INDEX(INDIRECT(\"'Ct Report'!\"&$BK$24),MATCH($B28,INDIRECT(\"'Ct Report'!\"&$BF$24),0)))))","v":""},{"$f":"IF($B28=\"\",\"\",IF('Ct Report'!L$6=0,\"\",INDEX(INDIRECT(\"'Ct Report'!\"&$BP$24),MATCH($B28,INDIRECT(\"'Ct Report'!\"&$BF$24),0))*1))","v":""},"",{"$nulls":13},"dR only (Instrument):",{"$f":"VLOOKUP(frmRTGerät,tabInstruments,4,FALSE)","v":{"$error":"#N/A"}},{"$nulls":12},"","","","","",null,{"$error":"#N/A"},{"$error":"#N/A"},{"$error":"#N/A"},{"$error":"#N/A"},{"$error":"#N/A"},null,{"$error":"#N/A"},{"$error":"#N/A"},{"$error":"#N/A"},{"$error":"#N/A"},{"$error":"#N/A"},null,{"$error":"#N/A"},{"$error":"#N/A"},{"$error":"#N/A"},{"$error":"#N/A"},{"$error":"#N/A"},null,"","","","",null,0,null,"",{"$error":"#VALUE!"},{"$error":"#VALUE!"},{"$error":"#VALUE!"}]
[6,"A6",{"$error":"#NAME?"},{"$f":"IF(LEN($B29)=0,\"\",IF('Ct Report'!B$6=0,\"\",VLOOKUP($B29,INDIRECT(\"'Ct Report'!\"&$BE$22),2,FALSE)))","v":""},null,"U",{"$nulls":3},{"$error":"#NAME?"},{"$error":"#N/A"},{"$f":"IF($B29=\"\",\"\",IF('Ct Report'!C$6=0,\"\",IF(INDEX(INDIRECT(\"'Ct Report'!\"&$BG$24),MATCH(B29,INDIRECT(\"'Ct Report'!\"&$BF$24),0))=frmNoAmplification,frmZyklen,INDEX(INDIRECT(\"'Ct Report'!\"&$BG$24),MATCH(B29,INDIRECT(\"'Ct Report'!\"&$BF$24),0))*1)))","v":""},{"$f":"IF($B29<>\"\",IF('Ct Report'!H$6=0,\"\",INDEX(INDIRECT(\"'Ct Report'!\"&$BL$24),MATCH(B29,INDIRECT(\"'Ct Report'!\"&$BF$24),0))*1),\"\")","v":""},"","",{"$nulls":3},"",{"$f":"IF(ISNA(frmSystem),\"\",IF($B29=\"\",\"\",IF(frmAnzahlSysteme<3,\"\",IF('Ct Report'!I$6=0,\"\",INDEX(INDIRECT(\"'Ct Report'!\"&$BM$24),MATCH($B29,INDIRECT(\"'Ct Report'!\"&$BF$24),0))*1))))","v":""},"","",{"$nulls":3},"",{"$f":"IF(ISNA(frmSystem),\"\",IF($B29=\"\",\"\",IF(frmAnzahlSysteme<4,\"\",IF('Ct Report'!J$6=0,\"\",INDEX(INDIRECT(\"'Ct Report'!\"&$BN$24),MATCH($B29,INDIRECT(\"'Ct Report'!\"&$BF$24),0))*1))))","v":""},"","",{"$nulls":3},"",{"$f":"IF(ISNA(frmSystem),\"\",IF($B29=\"\",\"\",IF(frmAnzahlSysteme<5,\"\",IF('Ct Report'!K$6=0,\"\",INDEX(INDIRECT(\"'Ct Report'!\"&$BO$24),MATCH($B29,INDIRECT(\"'Ct Report'!\"&$BF$24),0))*1))))","v":""},"","",{"$nulls":3},{"$f":"IF($B29=\"\",\"\",IF('Ct Report'!G$6=0,\"\",IF(INDEX(INDIRECT(\"'Ct Report'!\"&$BK$24),MATCH($B29,INDIRECT(\"'Ct Report'!\"&$BF$24),0))=frmNoAmplification,frmZyklen,INDEX(INDIRECT(\"'Ct Report'!\"&$BK$24),MATCH($B29,INDIRECT(\"'Ct Report'!\"&$BF$24),0)))))","v":""},{"$f":"IF($B29=\"\",\"\",IF('Ct Report'!L$6=0,\"\",INDEX(INDIRECT(\"'Ct Report'!\"&$BP$24),MATCH($B29,INDIRECT(\"'Ct Report'!\"&$BF$24),0))*1))","v":""},"",{"$nulls":13},"ROX-Normalisierung",{"$f":"IF(frmROXTypInstrument=-1,\"dR\",VLOOKUP(frmModul,tabPCRSysteme,$BF$4+5,FALSE))","v":{"$error":"#N/A"}},{"$nulls":12},"","","","","",null,{"$error":"#N/A"},{"$error":"#N/A"},{"$error":"#N/A"},{"$error":"#N/A"},{"$error":"#N/A"},null,{"$error":"#N/A"},{"$error":"#N/A"},{"$error":"#N/A"},{"$error":"#N/A"},{"$error":"#N/A"},null,{"$error":"#N/A"},{"$error":"#N/A"},{"$error":"#N/A"},{"$error":"#N/A"},{"$error":"#N/A"},null,"","","","",null,0,null,"",{"$error":"#VALUE!"},{"$error":"#VALUE!"},{"$error":"#VALUE!"}]
[7,"A7",{"$error":"#NAME?"},{"$f":"IF(LEN($B30)=0,\"\",IF('Ct Report'!B$6=0,\"\",VLOOKUP($B30,INDIRECT(\"'Ct Report'!\"&$BE$22),2,FALSE)))","v":""},null,"U",{"$nulls":3},{"$error":"#NAME?"},{"$error":"#N/A"},{"$f":"IF($B30=\"\",\"\",IF('Ct Report'!C$6=0,\"\",IF(INDEX(INDIRECT(\"'Ct Report'!\"&$BG$24),MATCH(B30,INDIRECT(\"'Ct Report'!\"&$BF$24),0))=frmNoAmplification,frmZyklen,INDEX(INDIRECT(\"'Ct Report'!\"&$BG$24),MATCH(B30,INDIRECT(\"'Ct Report'!\"&$BF$24),0))*1)))","v":""},{"$f":"IF($B30<>\"\",IF('Ct Report'!H$6=0,\"\",INDEX(INDIRECT(\"'Ct Report'!\"&$BL$24),MATCH(B30,INDIRECT(\"'Ct Report'!\"&$BF$24),0))*1),\"\")","v":""},"","",{"$nulls":3},"",{"$f":"IF(ISNA(frmSystem),\"\",IF($B30=\"\",\"\",IF(frmAnzahlSysteme<3,\"\",IF('Ct Report'!I$6=0,\"\",INDEX(INDIRECT(\"'Ct Report'!\"&$BM$24),MATCH($B30,INDIRECT(\"'Ct Report'!\"&$BF$24),0))*1))))","v":""},"","",{"$nulls":3},"",{"$f":"IF(ISNA(frmSystem),\"\",IF($B30=\"\",\"\",IF(frmAnzahlSysteme<4,\"\",IF('Ct Report'!J$6=0,\"\",INDEX(INDIRECT(\"'Ct Report'!\"&$BN$24),MATCH($B30,INDIRECT(\"'Ct Report'!\"&$BF$24),0))*1))))","v":""},"","",{"$nulls":3},"",{"$f":"IF(ISNA(frmSystem),\"\",IF($B30=\"\",\"\",IF(frmAnzahlSysteme<5,\"\",IF('Ct Report'!K$6=0,\"\",INDEX(INDIRECT(\"'Ct Report'!\"&$BO$24),MATCH($B30,INDIRECT(\"'Ct Report'!\"&$BF$24),0))*1))))","v":""},"","",{"$nulls":3},{"$f":"IF($B30=\"\",\"\",IF('Ct Report'!G$6=0,\"\",IF(INDEX(INDIRECT(\"'Ct Report'!\"&$BK$24),MATCH($B30,INDIRECT(\"'Ct Report'!\"&$BF$24),0))=frmNoAmplification,frmZyklen,INDEX(INDIRECT(\"'Ct Report'!\"&$BK$24),MATCH($B30,INDIRECT(\"'Ct Report'!\"&$BF$24),0)))))","v":""},{"$f":"IF($B30=\"\",\"\",IF('Ct Report'!L$6=0,\"\",INDEX(INDIRECT(\"'Ct Report'!\"&$BP$24),MATCH($B30,INDIRECT(\"'Ct Report'!\"&$BF$24),0))*1))","v":""},"",{"$nulls":13},"Senstivität Asymetrie",{"$f":"ABS(VLOOKUP(frmModulKurz,INDIRECT(frmTabReporter),79,FALSE))*-1","v":{"$error":"#N/A"}},{"$nulls":12},"","","","","",null,{"$error":"#N/A"},{"$error":"#N/A"},{"$error":"#N/A"},{"$error":"#N/A"},{"$error":"#N/A"},null,{"$error":"#N/A"},{"$error":"#N/A"},{"$error":"#N/A"},{"$error":"#N/A"},{"$error":"#N/A"},null,{"$error":"#N/A"},{"$error":"#N/A"},{"$error":"#N/A"},{"$error":"#N/A"},{"$error":"#N/A"},null,"","","","",null,0,null,"",{"$error":"#VALUE!"},{"$error":"#VALUE!"},{"$error":"#VALUE!"}]
[8,"A8",{"$error":"#NAME?"},{"$f":"IF(LEN($B31)=0,\"\",IF('Ct Report'!B$6=0,\"\",VLOOKUP($B31,INDIRECT(\"'Ct Report'!\"&$BE$22),2,FALSE)))","v":""},null,"U",{"$nulls":3},{"$error":"#NAME?"},{"$error":"#N/A"},{"$f":"IF($B31=\"\",\"\",IF('Ct Report'!C$6=0,\"\",IF(INDEX(INDIRECT(\"'Ct Report'!\"&$BG$24),MATCH(B31,INDIRECT(\"'Ct Report'!\"&$BF$24),0))=frmNoAmplification,frmZyklen,INDEX(INDIRECT(\"'Ct Report'!\"&$BG$24),MATCH(B31,INDIRECT(\"'Ct Report'!\"&$BF$24),0))*1)))","v":""},{"$f":"IF($B31<>\"\",IF('Ct Report'!H$6=0,\"\",INDEX(INDIRECT(\"'Ct Report'!\"&$BL$24),MATCH(B31,INDIRECT(\"'Ct Report'!\"&$BF$24),0))*1),\"\")","v":""},"","",{"$nulls":3},"",{"$f":"IF(ISNA(frmSystem),\"\",IF($B31=\"\",\"\",IF(frmAnzahlSysteme<3,\"\",IF('Ct Report'!I$6=0,\"\",INDEX(INDIRECT(\"'Ct Report'!\"&$BM$24),MATCH($B31,INDIRECT(\"'Ct Report'!\"&$BF$24),0))*1))))","v":""},"","",{"$nulls":3},"",{"$f":"IF(ISNA(frmSystem),\"\",IF($B31=\"\",\"\",IF(frmAnzahlSysteme<4,\"\",IF('Ct Report'!J$6=0,\"\",INDEX(INDIRECT(\"'Ct Report'!\"&$BN$24),MATCH($B31,INDIRECT(\"'Ct Report'!\"&$BF$24),0))*1))))","v":""},"","",{"$nulls":3},"",{"$f":"IF(ISNA(frmSystem),\"\",IF($B31=\"\",\"\",IF(frmAnzahlSysteme<5,\"\",IF('Ct Report'!K$6=0,\"\",INDEX(INDIRECT(\"'Ct Report'!\"&$BO$24),MATCH($B31,INDIRECT(\"'Ct Report'!\"&$BF$24),0))*1))))","v":""},"","",{"$nulls":3},{"$f":"IF($B31=\"\",\"\",IF('Ct Report'!G$6=0,\"\",IF(INDEX(INDIRECT(\"'Ct Report'!\"&$BK$24),MATCH($B31,INDIRECT(\"'Ct Report'!\"&$BF$24),0))=frmNoAmplification,frmZyklen,INDEX(INDIRECT(\"'Ct Report'!\"&$BK$24),MATCH($B31,INDIRECT(\"'Ct Report'!\"&$BF$24),0)))))","v":""},{"$f":"IF($B31=\"\",\"\",IF('Ct Report'!L$6=0,\"\",INDEX(INDIRECT(\"'Ct Report'!\"&$BP$24),MATCH($B31,INDIRECT(\"'Ct Report'!\"&$BF$24),0))*1))","v":""},"",{"$nulls":13},"lower Limit dK+",{"$f":"VLOOKUP(frmModul,tabPCRSysteme,$BF$25+2,FALSE)","v":{"$error":"#N/A"}},{"$nulls":12},"","","","","",null,{"$error":"#N/A"},{"$error":"#N/A"},{"$error":"#N/A"},{"$error":"#N/A"},{"$error":"#N/A"},null,{"$error":"#N/A"},{"$error":"#N/A"},{"$error":"#N/A"},{"$error":"#N/A"},{"$error":"#N/A"},null,{"$error":"#N/A"},{"$error":"#N/A"},{"$error":"#N/A"},{"$error":"#N/A"},{"$error":"#N/A"},null,"","","","",null,0,null,"",{"$error":"#VALUE!"},{"$error":"#VALUE!"},{"$error":"#VALUE!"}]
[9,"A9",{"$error":"#NAME?"},{"$f":"IF(LEN($B32)=0,\"\",IF('Ct Report'!B$6=0,\"\",VLOOKUP($B32,INDIRECT(\"'Ct Report'!\"&$BE$22),2,FALSE)))","v":""},null,"U",{"$nulls":3},{"$error":"#NAME?"},{"$error":"#N/A"},{"$f":"IF($B32=\"\",\"\",IF('Ct Report'!C$6=0,\"\",IF(INDEX(INDIRECT(\"'Ct Report'!\"&$BG$24),MATCH(B32,INDIRECT(\"'Ct Report'!\"&$BF$24),0))=frmNoAmplification,frmZyklen,INDEX(INDIRECT(\"'Ct Report'!\"&$BG$24),MATCH(B32,INDIRECT(\"'Ct Report'!\"&$BF$24),0))*1)))","v":""},{"$f":"IF($B32<>\"\",IF('Ct Report'!H$6=0,\"\",INDEX(INDIRECT(\"'Ct Report'!\"&$BL$24),MATCH(B32,INDIRECT(\"'Ct Report'!\"&$BF$24),0))*1),\"\")","v":""},"","",{"$nulls":3},"",{"$f":"IF(ISNA(frmSystem),\"\",IF($B32=\"\",\"\",IF(frmAnzahlSysteme<3,\"\",IF('Ct Report'!I$6=0,\"\",INDEX(INDIRECT(\"'Ct Report'!\"&$BM$24),MATCH($B32,INDIRECT(\"'Ct Report'!\"&$BF$24),0))*1))))","v":""},"","",{"$nulls":3},"",{"$f":"IF(ISNA(frmSystem),\"\",IF($B32=\"\",\"\",IF(frmAnzahlSysteme<4,\"\",IF('Ct Report'!J$6=0,\"\",INDEX(INDIRECT(\"'Ct Report'!\"&$BN$24),MATCH($B32,INDIRECT(\"'Ct Report'!\"&$BF$24),0))*1))))","v":""},"","",{"$nulls":3},"",{"$f":"IF(ISNA(frmSystem),\"\",IF($B32=\"\",\"\",IF(frmAnzahlSysteme<5,\"\",IF('Ct Report'!K$6=0,\"\",INDEX(INDIRECT(\"'Ct Report'!\"&$BO$24),MATCH($B32,INDIRECT(\"'Ct Report'!\"&$BF$24),0))*1))))","v":""},"","",{"$nulls":3},{"$f":"IF($B32=\"\",\"\",IF('Ct Report'!G$6=0,\"\",IF(INDEX(INDIRECT(\"'Ct Report'!\"&$BK$24),MATCH($B32,INDIRECT(\"'Ct Report'!\"&$BF$24),0))=frmNoAmplification,frmZyklen,INDEX(INDIRECT(\"'Ct Report'!\"&$BK$24),MATCH($B32,INDIRECT(\"'Ct Report'!\"&$BF$24),0)))))","v":""},{"$f":"IF($B32=\"\",\"\",IF('Ct Report'!L$6=0,\"\",INDEX(INDIRECT(\"'Ct Report'!\"&$BP$24),MATCH($B32,INDIRECT(\"'Ct Report'!\"&$BF$24),0))*1))","v":""},"",{"$nulls":13},"upper Limit dK+",{"$f":"VLOOKUP(frmModul,tabPCRSysteme,$BF$25+3,FALSE)","v":{"$error":"#N/A"}},{"$nulls":12},"","","","","",null,{"$error":"#N/A"},{"$error":"#N/A"},{"$error":"#N/A"},{"$error":"#N/A"},{"$error":"#N/A"},null,{"$error":"#N/A"},{"$error":"#N/A"},{"$error":"#N/A"},{"$error":"#N/A"},{"$error":"#N/A"},null,{"$error":"#N/A"},{"$error":"#N/A"},{"$error":"#N/A"},{"$error":"#N/A"},{"$error":"#N/A"},null,"","","","",null,0,null,"",{"$error":"#VALUE!"},{"$error":"#VALUE!"},{"$error":"#VALUE!"}]
[10,"A10",{"$error":"#NAME?"},{"$f":"IF(LEN($B33)=0,\"\",IF('Ct Report'!B$6=0,\"\",VLOOKUP($B33,INDIRECT(\"'Ct Report'!\"&$BE$22),2,FALSE)))","v":""},null,"U",{"$nulls":3},{"$error":"#NAME?"},{"$error":"#N/A"},{"$f":"IF($B33=\"\",\"\",IF('Ct Report'!C$6=0,\"\",IF(INDEX(INDIRECT(\"'Ct Report'!\"&$BG$24),MATCH(B33,INDIRECT(\"'Ct Report'!\"&$BF$24),0))=frmNoAmplification,frmZyklen,INDEX(INDIRECT(\"'Ct Report'!\"&$BG$24),MATCH(B33,INDIRECT(\"'Ct Report'!\"&$BF$24),0))*1)))","v":""},{"$f":"IF($B33<>\"\",IF('Ct Report'!H$6=0,\"\",INDEX(INDIRECT(\"'Ct Report'!\"&$BL$24),MATCH(B33,INDIRECT(\"'Ct Report'!\"&$BF$24),0))*1),\"\")","v":""},"","",{"$nulls":3},"",{"$f":"IF(ISNA(frmSystem),\"\",IF($B33=\"\",\"\",IF(frmAnzahlSysteme<3,\"\",IF('Ct Report'!I$6=0,\"\",INDEX(INDIRECT(\"'Ct Report'!\"&$BM$24),MATCH($B33,INDIRECT(\"'Ct Report'!\"&$BF$24),0))*1))))","v":""},"","",{"$nulls":3},"",{"$f":"IF(ISNA(frmSystem),\"\",IF($B33=\"\",\"\",IF(frmAnzahlSysteme<4,\"\",IF('Ct Report'!J$6=0,\"\",INDEX(INDIRECT(\"'Ct Report'!\"&$BN$24),MATCH($B33,INDIRECT(\"'Ct Report'!\"&$BF$24),0))*1))))","v":""},"","",{"$nulls":3},"",{"$f":"IF(ISNA(frmSystem),\"\",IF($B33=\"\",\"\",IF(frmAnzahlSysteme<5,\"\",IF('Ct Report'!K$6=0,\"\",INDEX(INDIRECT(\"'Ct Report'!\"&$BO$24),MATCH($B33,INDIRECT(\"'Ct Report'!\"&$BF$24),0))*1))))","v":""},"","",{"$nulls":3},{"$f":"IF($B33=\"\",\"\",IF('Ct Report'!G$6=0,\"\",IF(INDEX(INDIRECT(\"'Ct Report'!\"&$BK$24),MATCH($B33,INDIRECT(\"'Ct Report'!\"&$BF$24),0))=frmNoAmplification,frmZyklen,INDEX(INDIRECT(\"'Ct Report'!\"&$BK$24),MATCH($B33,INDIRECT(\"'Ct Report'!\"&$BF$24),0)))))","v":""},{"$f":"IF($B33=\"\",\"\",IF('Ct Report'!L$6=0,\"\",INDEX(INDIRECT(\"'Ct Report'!\"&$BP$24),MATCH($B33,INDIRECT(\"'Ct Report'!\"&$BF$24),0))*1))","v":""},"",{"$nulls":12},"Positivkontrolle",{"$nulls":14},"","","","","",null,{"$error":"#N/A"},{"$error":"#N/A"},{"$error":"#N/A"},{"$error":"#N/A"},{"$error":"#N/A"},null,{"$error":"#N/A"},{"$error":"#N/A"},{"$error":"#N/A"},{"$error":"#N/A"},{"$error":"#N/A"},null,{"$error":"#N/A"},{"$error":"#N/A"},{"$error":"#N/A"},{"$error":"#N/A"},{"$error":"#N/A"},null,"","","","",null,0,null,"",{"$error":"#VALUE!"},{"$error":"#VALUE!"},{"$error":"#VALUE!"}]
[11,"A11",{"$error":"#NAME?"},{"$f":"IF(LEN($B34)=0,\"\",IF('Ct Report'!B$6=0,\"\",VLOOKUP($B34,INDIRECT(\"'Ct Report'!\"&$BE$22),2,FALSE)))","v":""},null,"U",{"$nulls":3},{"$error":"#NAME?"},{"$error":"#N/A"},{"$f":"IF($B34=\"\",\"\",IF('Ct Report'!C$6=0,\"\",IF(INDEX(INDIRECT(\"'Ct Report'!\"&$BG$24),MATCH(B34,INDIRECT(\"'Ct Report'!\"&$BF$24),0))=frmNoAmplification,frmZyklen,INDEX(INDIRECT(\"'Ct Report'!\"&$BG$24),MATCH(B34,INDIRECT(\"'Ct Report'!\"&$BF$24),0))*1)))","v":""},{"$f":"IF($B34<>\"\",IF('Ct Report'!H$6=0,\"\",INDEX(INDIRECT(\"'Ct Report'!\"&$BL$24),MATCH(B34,INDIRECT(\"'Ct Report'!\"&$BF$24),0))*1),\"\")","v":""},"","",{"$nulls":3},"",{"$f":"IF(ISNA(frmSystem),\"\",IF($B34=\"\",\"\",IF(frmAnzahlSysteme<3,\"\",IF('Ct Report'!I$6=0,\"\",INDEX(INDIRECT(\"'Ct Report'!\"&$BM$24),MATCH($B34,INDIRECT(\"'Ct Report'!\"&$BF$24),0))*1))))","v":""},"","",{"$nulls":3},"",{"$f":"IF(ISNA(frmSystem),\"\",IF($B34=\"\",\"\",IF(frmAnzahlSysteme<4,\"\",IF('Ct Report'!J$6=0,\"\",INDEX(INDIRECT(\"'Ct Report'!\"&$BN$24),MATCH($B34,INDIRECT(\"'Ct Report'!\"&$BF$24),0))*1))))","v":""},"","",{"$nulls":3},"",{"$f":"IF(ISNA(frmSystem),\"\",IF($B34=\"\",\"\",IF(frmAnzahlSysteme<5,\"\",IF('Ct Report'!K$6=0,\"\",INDEX(INDIRECT(\"'Ct Report'!\"&$BO$24),MATCH($B34,INDIRECT(\"'Ct Report'!\"&$BF$24),0))*1))))","v":""},"","",{"$nulls":3},{"$f":"IF($B34=\"\",\"\",IF('Ct Report'!G$6=0,\"\",IF(INDEX(INDIRECT(\"'Ct Report'!\"&$BK$24),MATCH($B34,INDIRECT(\"'Ct Report'!\"&$BF$24),0))=frmNoAmplification,frmZyklen,INDEX(INDIRECT(\"'Ct Report'!\"&$BK$24),MATCH($B34,INDIRECT(\"'Ct Report'!\"&$BF$24),0)))))","v":""},{"$f":"IF($B34=\"\",\"\",IF('Ct Report'!L$6=0,\"\",INDEX(INDIRECT(\"'Ct Report'!\"&$BP$24),MATCH($B34,INDIRECT(\"'Ct Report'!\"&$BF$24),0))*1))","v":""},"",{"$nulls":12},"Zeile K+1",1,{"$f":"SMALL(IF(INDIRECT(\"F\"&StartWell+1&\":F\" &StartWell+96)=\"P\",ROW(INDIRECT(StartWell+1&\":\"&StartWell+96)),\"\"),BD34)","v":26},{"$nulls":12},"","","","","",null,{"$error":"#N/A"},{"$error":"#N/A"},{"$error":"#N/A"},{"$error":"#N/A"},{"$error":"#N/A"},null,{"$error":"#N/A"},{"$error":"#N/A"},{"$error":"#N/A"},{"$error":"#N/A"},{"$error":"#N/A"},null,{"$error":"#N/A"},{"$error":"#N/A"},{"$error":"#N/A"},{"$error":"#N/A"},{"$error":"#N/A"},null,"","","","",null,0,null,"",{"$error":"#VALUE!"},{"$error":"#VALUE!"},{"$error":"#VALUE!"}]
[12,"A12",{"$error":"#NAME?"},{"$f":"IF(LEN($B35)=0,\"\",IF('Ct Report'!B$6=0,\"\",VLOOKUP($B35,INDIRECT(\"'Ct Report'!\"&$BE$22),2,FALSE)))","v":""},null,"U",{"$nulls":3},{"$error":"#NAME?"},{"$error":"#N/A"},{"$f":"IF($B35=\"\",\"\",IF('Ct Report'!C$6=0,\"\",IF(INDEX(INDIRECT(\"'Ct Report'!\"&$BG$24),MATCH(B35,INDIRECT(\"'Ct Report'!\"&$BF$24),0))=frmNoAmplification,frmZyklen,INDEX(INDIRECT(\"'Ct Report'!\"&$BG$24),MATCH(B35,INDIRECT(\"'Ct Report'!\"&$BF$24),0))*1)))","v":""},{"$f":"IF($B35<>\"\",IF('Ct Report'!H$6=0,\"\",INDEX(INDIRECT(\"'Ct Report'!\"&$BL$24),MATCH(B35,INDIRECT(\"'Ct Report'!\"&$BF$24),0))*1),\"\")","v":""},"","",{"$nulls":3},"",{"$f":"IF(ISNA(frmSystem),\"\",IF($B35=\"\",\"\",IF(frmAnzahlSysteme<3,\"\",IF('Ct Report'!I$6=0,\"\",INDEX(INDIRECT(\"'Ct Report'!\"&$BM$24),MATCH($B35,INDIRECT(\"'Ct Report'!\"&$BF$24),0))*1))))","v":""},"","",{"$nulls":3},"",{"$f":"IF(ISNA(frmSystem),\"\",IF($B35=\"\",\"\",IF(frmAnzahlSysteme<4,\"\",IF('Ct Report'!J$6=0,\"\",INDEX(INDIRECT(\"'Ct Report'!\"&$BN$24),MATCH($B35,INDIRECT(\"'Ct Report'!\"&$BF$24),0))*1))))","v":""},"","",{"$nulls":3},"",{"$f":"IF(ISNA(frmSystem),\"\",IF($B35=\"\",\"\",IF(frmAnzahlSysteme<5,\"\",IF('Ct Report'!K$6=0,\"\",INDEX(INDIRECT(\"'Ct Report'!\"&$BO$24),MATCH($B35,INDIRECT(\"'Ct Report'!\"&$BF$24),0))*1))))","v":""},"","",{"$nulls":3},{"$f":"IF($B35=\"\",\"\",IF('Ct Report'!G$6=0,\"\",IF(INDEX(INDIRECT(\"'Ct Report'!\"&$BK$24),MATCH($B35,INDIRECT(\"'Ct Report'!\"&$BF$24),0))=frmNoAmplification,frmZyklen,INDEX(INDIRECT(\"'Ct Report'!\"&$BK$24),MATCH($B35,INDIRECT(\"'Ct Report'!\"&$BF$24),0)))))","v":""},{"$f":"IF($B35=\"\",\"\",IF('Ct Report'!L$6=0,\"\",INDEX(INDIRECT(\"'Ct Report'!\"&$BP$24),MATCH($B35,INDIRECT(\"'Ct Report'!\"&$BF$24),0))*1))","v":""},"",{"$nulls":12},"Zeile K+2",2,{"$f":"SMALL(IF(INDIRECT(\"F\"&StartWell+1&\":F\" &StartWell+96)=\"P\",ROW(INDIRECT(StartWell+1&\":\"&StartWell+96)),\"\"),BD35)","v":27},{"$nulls":12},"","","","","",null,{"$error":"#N/A"},{"$error":"#N/A"},{"$error":"#N/A"},{"$error":"#N/A"},{"$error":"#N/A"},null,{"$error":"#N/A"},{"$error":"#N/A"},{"$error":"#N/A"},{"$error":"#N/A"},{"$error":"#N/A"},null,{"$error":"#N/A"},{"$error":"#N/A"},{"$error":"#N/A"},{"$error":"#N/A"},{"$error":"#N/A"},null,"","","","",null,0,null,"",{"$error":"#VALUE!"},{"$error":"#VALUE!"},{"$error":"#VALUE!"}]
[13,"B1",{"$error":"#NAME?"},{"$f":"IF(LEN($B36)=0,\"\",IF('Ct Report'!B$6=0,\"\",VLOOKUP($B36,INDIRECT(\"'Ct Report'!\"&$BE$22),2,FALSE)))","v":""},null,"U",{"$nulls":3},{"$error":"#NAME?"},{"$error":"#N/A"},{"$f":"IF($B36=\"\",\"\",IF('Ct Report'!C$6=0,\"\",IF(INDEX(INDIRECT(\"'Ct Report'!\"&$BG$24),MATCH(B36,INDIRECT(\"'Ct Report'!\"&$BF$24),0))=frmNoAmplification,frmZyklen,INDEX(INDIRECT(\"'Ct Report'!\"&$BG$24),MATCH(B36,INDIRECT(\"'Ct Report'!\"&$BF$24),0))*1)))","v":""},{"$f":"IF($B36<>\"\",IF('Ct Report'!H$6=0,\"\",INDEX(INDIRECT(\"'Ct Report'!\"&$BL$24),MATCH(B36,INDIRECT(\"'Ct Report'!\"&$BF$24),0))*1),\"\")","v":""},"","",{"$nulls":3},"",{"$f":"IF(ISNA(frmSystem),\"\",IF($B36=\"\",\"\",IF(frmAnzahlSysteme<3,\"\",IF('Ct Report'!I$6=0,\"\",INDEX(INDIRECT(\"'Ct Report'!\"&$BM$24),MATCH($B36,INDIRECT(\"'Ct Report'!\"&$BF$24),0))*1))))","v":""},"","",{"$nulls":3},"",{"$f":"IF(ISNA(frmSystem),\"\",IF($B36=\"\",\"\",IF(frmAnzahlSysteme<4,\"\",IF('Ct Report'!J$6=0,\"\",INDEX(INDIRECT(\"'Ct Report'!\"&$BN$24),MATCH($B36,INDIRECT(\"'Ct Report'!\"&$BF$24),0))*1))))","v":""},"","",{"$nulls":3},"",{"$f":"IF(ISNA(frmSystem),\"\",IF($B36=\"\",\"\",IF(frmAnzahlSysteme<5,\"\",IF('Ct Report'!K$6=0,\"\",INDEX(INDIRECT(\"'Ct Report'!\"&$BO$24),MATCH($B36,INDIRECT(\"'Ct Report'!\"&$BF$24),0))*1))))","v":""},"","",{"$nulls":3},{"$f":"IF($B36=\"\",\"\",IF('Ct Report'!G$6=0,\"\",IF(INDEX(INDIRECT(\"'Ct Report'!\"&$BK$24),MATCH($B36,INDIRECT(\"'Ct Report'!\"&$BF$24),0))=frmNoAmplification,frmZyklen,INDEX(INDIRECT(\"'Ct Report'!\"&$BK$24),MATCH($B36,INDIRECT(\"'Ct Report'!\"&$BF$24),0)))))","v":""},{"$f":"IF($B36=\"\",\"\",IF('Ct Report'!L$6=0,\"\",INDEX(INDIRECT(\"'Ct Report'!\"&$BP$24),MATCH($B36,INDIRECT(\"'Ct Report'!\"&$BF$24),0))*1))","v":""},"",{"$nulls":12},"Zeile K+3",3,{"$f":"SMALL(IF(INDIRECT(\"F\"&StartWell+1&\":F\" &StartWell+96)=\"P\",ROW(INDIRECT(StartWell+1&\":\"&StartWell+96)),\"\"),BD36)","v":{"$error":"#NUM!"}},{"$nulls":12},"","","","","",null,{"$error":"#N/A"},{"$error":"#N/A"},{"$error":"#N/A"},{"$error":"#N/A"},{"$error":"#N/A"},null,{"$error":"#N/A"},{"$error":"#N/A"},{"$error":"#N/A"},{"$error":"#N/A"},{"$error":"#N/A"},null,{"$error":"#N/A"},{"$error":"#N/A"},{"$error":"#N/A"},{"$error":"#N/A"},{"$error":"#N/A"},null,"","","","",null,0,null,"",{"$error":"#VALUE!"},{"$error":"#VALUE!"},{"$error":"#VALUE!"}]
[14,"B2",{"$error":"#NAME?"},{"$f":"IF(LEN($B37)=0,\"\",IF('Ct Report'!B$6=0,\"\",VLOOKUP($B37,INDIRECT(\"'Ct Report'!\"&$BE$22),2,FALSE)))","v":""},null,"U",{"$nulls":3},{"$error":"#NAME?"},{"$error":"#N/A"},{"$f":"IF($B37=\"\",\"\",IF('Ct Report'!C$6=0,\"\",IF(INDEX(INDIRECT(\"'Ct Report'!\"&$BG$24),MATCH(B37,INDIRECT(\"'Ct Report'!\"&$BF$24),0))=frmNoAmplification,frmZyklen,INDEX(INDIRECT(\"'Ct Report'!\"&$BG$24),MATCH(B37,INDIRECT(\"'Ct Report'!\"&$BF$24),0))*1)))","v":""},{"$f":"IF($B37<>\"\",IF('Ct Report'!H$6=0,\"\",INDEX(INDIRECT(\"'Ct Report'!\"&$BL$24),MATCH(B37,INDIRECT(\"'Ct Report'!\"&$BF$24),0))*1),\"\")","v":""},"","",{"$nulls":3},"",{"$f":"IF(ISNA(frmSystem),\"\",IF($B37=\"\",\"\",IF(frmAnzahlSysteme<3,\"\",IF('Ct Report'!I$6=0,\"\",INDEX(INDIRECT(\"'Ct Report'!\"&$BM$24),MATCH($B37,INDIRECT(\"'Ct Report'!\"&$BF$24),0))*1))))","v":""},"","",{"$nulls":3},"",{"$f":"IF(ISNA(frmSystem),\"\",IF($B37=\"\",\"\",IF(frmAnzahlSysteme<4,\"\",IF('Ct Report'!J$6=0,\"\",INDEX(INDIRECT(\"'Ct Report'!\"&$BN$24),MATCH($B37,INDIRECT(\"'Ct Report'!\"&$BF$24),0))*1))))","v":""},"","",{"$nulls":3},"",{"$f":"IF(ISNA(frmSystem),\"\",IF($B37=\"\",\"\",IF(frmAnzahlSysteme<5,\"\",IF('Ct Report'!K$6=0,\"\",INDEX(INDIRECT(\"'Ct Report'!\"&$BO$24),MATCH($B37,INDIRECT(\"'Ct Report'!\"&$BF$24),0))*1))))","v":""},"","",{"$nulls":3},{"$f":"IF($B37=\"\",\"\",IF('Ct Report'!G$6=0,\"\",IF(INDEX(INDIRECT(\"'Ct Report'!\"&$BK$24),MATCH($B37,INDIRECT(\"'Ct Report'!\"&$BF$24),0))=frmNoAmplification,frmZyklen,INDEX(INDIRECT(\"'Ct Report'!\"&$BK$24),MATCH($B37,INDIRECT(\"'Ct Report'!\"&$BF$24),0)))))","v":""},{"$f":"IF($B37=\"\",\"\",IF('Ct Report'!L$6=0,\"\",INDEX(INDIRECT(\"'Ct Report'!\"&$BP$24),MATCH($B37,INDIRECT(\"'Ct Report'!\"&$BF$24),0))*1))","v":""},"",{"$nulls":12},"Zeile K+4",4,{"$f":"SMALL(IF(INDIRECT(\"F\"&StartWell+1&\":F\" &StartWell+96)=\"P\",ROW(INDIRECT(StartWell+1&\":\"&StartWell+96)),\"\"),BD37)","v":{"$error":"#NUM!"}},{"$nulls":12},"","","","","",null,{"$error":"#N/A"},{"$error":"#N/A"},{"$error":"#N/A"},{"$error":"#N/A"},{"$error":"#N/A"},null,{"$error":"#N/A"},{"$error":"#N/A"},{"$error":"#N/A"},{"$error":"#N/A"},{"$error":"#N/A"},null,{"$error":"#N/A"},{"$error":"#N/A"},{"$error":"#N/A"},{"$error":"#N/A"},{"$error":"#N/A"},null,"","","","",null,0,null,"",{"$error":"#VALUE!"},{"$error":"#VALUE!"},{"$error":"#VALUE!"}]
[15,"B3",{"$error":"#NAME?"},{"$f":"IF(LEN($B38)=0,\"\",IF('Ct Report'!B$6=0,\"\",VLOOKUP($B38,INDIRECT(\"'Ct Report'!\"&$BE$22),2,FALSE)))","v":""},null,"U",{"$nulls":3},{"$error":"#NAME?"},{"$error":"#N/A"},{"$f":"IF($B38=\"\",\"\",IF('Ct Report'!C$6=0,\"\",IF(INDEX(INDIRECT(\"'Ct Report'!\"&$BG$24),MATCH(B38,INDIRECT(\"'Ct Report'!\"&$BF$24),0))=frmNoAmplification,frmZyklen,INDEX(INDIRECT(\"'Ct Report'!\"&$BG$24),MATCH(B38,INDIRECT(\"'Ct Report'!\"&$BF$24),0))*1)))","v":""},{"$f":"IF($B38<>\"\",IF('Ct Report'!H$6=0,\"\",INDEX(INDIRECT(\"'Ct Report'!\"&$BL$24),MATCH(B38,INDIRECT(\"'Ct Report'!\"&$BF$24),0))*1),\"\")","v":""},"","",{"$nulls":3},"",{"$f":"IF(ISNA(frmSystem),\"\",IF($B38=\"\",\"\",IF(frmAnzahlSysteme<3,\"\",IF('Ct Report'!I$6=0,\"\",INDEX(INDIRECT(\"'Ct Report'!\"&$BM$24),MATCH($B38,INDIRECT(\"'Ct Report'!\"&$BF$24),0))*1))))","v":""},"","",{"$nulls":3},"",{"$f":"IF(ISNA(frmSystem),\"\",IF($B38=\"\",\"\",IF(frmAnzahlSysteme<4,\"\",IF('Ct Report'!J$6=0,\"\",INDEX(INDIRECT(\"'Ct Report'!\"&$BN$24),MATCH($B38,INDIRECT(\"'Ct Report'!\"&$BF$24),0))*1))))","v":""},"","",{"$nulls":3},"",{"$f":"IF(ISNA(frmSystem),\"\",IF($B38=\"\",\"\",IF(frmAnzahlSysteme<5,\"\",IF('Ct Report'!K$6=0,\"\",INDEX(INDIRECT(\"'Ct Report'!\"&$BO$24),MATCH($B38,INDIRECT(\"'Ct Report'!\"&$BF$24),0))*1))))","v":""},"","",{"$nulls":3},{"$f":"IF($B38=\"\",\"\",IF('Ct Report'!G$6=0,\"\",IF(INDEX(INDIRECT(\"'Ct Report'!\"&$BK$24),MATCH($B38,INDIRECT(\"'Ct Report'!\"&$BF$24),0))=frmNoAmplification,frmZyklen,INDEX(INDIRECT(\"'Ct Report'!\"&$BK$24),MATCH($B38,INDIRECT(\"'Ct Report'!\"&$BF$24),0)))))","v":""},{"$f":"IF($B38=\"\",\"\",IF('Ct Report'!L$6=0,\"\",INDEX(INDIRECT(\"'Ct Report'!\"&$BP$24),MATCH($B38,INDIRECT(\"'Ct Report'!\"&$BF$24),0))*1))","v":""},"",{"$nulls":27},"","","","","",null,{"$error":"#N/A"},{"$error":"#N/A"},{"$error":"#N/A"},{"$error":"#N/A"},{"$error":"#N/A"},null,{"$error":"#N/A"},{"$error":"#N/A"},{"$error":"#N/A"},{"$error":"#N/A"},{"$error":"#N/A"},null,{"$error":"#N/A"},{"$error":"#N/A"},{"$error":"#N/A"},{"$error":"#N/A"},{"$error":"#N/A"},null,"","","","",null,0,null,"",{"$error":"#VALUE!"},{"$error":"#VALUE!"},{"$error":"#VALUE!"}]
[16,"B4",{"$error":"#NAME?"},{"$f":"IF(LEN($B39)=0,\"\",IF('Ct Report'!B$6=0,\"\",VLOOKUP($B39,INDIRECT(\"'Ct Report'!\"&$BE$22),2,FALSE)))","v":""},null,"U",{"$nulls":3},{"$error":"#NAME?"},{"$error":"#N/A"},{"$f":"IF($B39=\"\",\"\",IF('Ct Report'!C$6=0,\"\",IF(INDEX(INDIRECT(\"'Ct Report'!\"&$BG$24),MATCH(B39,INDIRECT(\"'Ct Report'!\"&$BF$24),0))=frmNoAmplification,frmZyklen,INDEX(INDIRECT(\"'Ct Report'!\"&$BG$24),MATCH(B39,INDIRECT(\"'Ct Report'!\"&$BF$24),0))*1)))","v":""},{"$f":"IF($B39<>\"\",IF('Ct Report'!H$6=0,\"\",INDEX(INDIRECT(\"'Ct Report'!\"&$BL$24),MATCH(B39,INDIRECT(\"'Ct Report'!\"&$BF$24),0))*1),\"\")","v":""},"","",{"$nulls":3},"",{"$f":"IF(ISNA(frmSystem),\"\",IF($B39=\"\",\"\",IF(frmAnzahlSysteme<3,\"\",IF('Ct Report'!I$6=0,\"\",INDEX(INDIRECT(\"'Ct Report'!\"&$BM$24),MATCH($B39,INDIRECT(\"'Ct Report'!\"&$BF$24),0))*1))))","v":""},"","",{"$nulls":3},"",{"$f":"IF(ISNA(frmSystem),\"\",IF($B39=\"\",\"\",IF(frmAnzahlSysteme<4,\"\",IF('Ct Report'!J$6=0,\"\",INDEX(INDIRECT(\"'Ct Report'!\"&$BN$24),MATCH($B39,INDIRECT(\"'Ct Report'!\"&$BF$24),0))*1))))","v":""},"","",{"$nulls":3},"",{"$f":"IF(ISNA(frmSystem),\"\",IF($B39=\"\",\"\",IF(frmAnzahlSysteme<5,\"\",IF('Ct Report'!K$6=0,\"\",INDEX(INDIRECT(\"'Ct Report'!\"&$BO$24),MATCH($B39,INDIRECT(\"'Ct Report'!\"&$BF$24),0))*1))))","v":""},"","",{"$nulls":3},{"$f":"IF($B39=\"\",\"\",IF('Ct Report'!G$6=0,\"\",IF(INDEX(INDIRECT(\"'Ct Report'!\"&$BK$24),MATCH($B39,INDIRECT(\"'Ct Report'!\"&$BF$24),0))=frmNoAmplification,frmZyklen,INDEX(INDIRECT(\"'Ct Report'!\"&$BK$24),MATCH($B39,INDIRECT(\"'Ct Report'!\"&$BF$24),0)))))","v":""},{"$f":"IF($B39=\"\",\"\",IF('Ct Report'!L$6=0,\"\",INDEX(INDIRECT(\"'Ct Report'!\"&$BP$24),MATCH($B39,INDIRECT(\"'Ct Report'!\"&$BF$24),0))*1))","v":""},"",{"$nulls":27},"","","","","",null,{"$error":"#N/A"},{"$error":"#N/A"},{"$error":"#N/A"},{"$error":"#N/A"},{"$error":"#N/A"},null,{"$error":"#N/A"},{"$error":"#N/A"},{"$error":"#N/A"},{"$error":"#N/A"},{"$error":"#N/A"},null,{"$error":"#N/A"},{"$error":"#N/A"},{"$error":"#N/A"},{"$error":"#N/A"},{"$error":"#N/A"},null,"","","","",null,0,null,"",{"$error":"#VALUE!"},{"$error":"#VALUE!"},{"$error":"#VALUE!"}]
[17,"B5",{"$error":"#NAME?"},{"$f":"IF(LEN($B40)=0,\"\",IF('Ct Report'!B$6=0,\"\",VLOOKUP($B40,INDIRECT(\"'Ct Report'!\"&$BE$22),2,FALSE)))","v":""},null,"U",{"$nulls":3},{"$error":"#NAME?"},{"$error":"#N/A"},{"$f":"IF($B40=\"\",\"\",IF('Ct Report'!C$6=0,\"\",IF(INDEX(INDIRECT(\"'Ct Report'!\"&$BG$24),MATCH(B40,INDIRECT(\"'Ct Report'!\"&$BF$24),0))=frmNoAmplification,frmZyklen,INDEX(INDIRECT(\"'Ct Report'!\"&$BG$24),MATCH(B40,INDIRECT(\"'Ct Report'!\"&$BF$24),0))*1)))","v":""},{"$f":"IF($B40<>\"\",IF('Ct Report'!H$6=0,\"\",INDEX(INDIRECT(\"'Ct Report'!\"&$BL$24),MATCH(B40,INDIRECT(\"'Ct Report'!\"&$BF$24),0))*1),\"\")","v":""},"","",{"$nulls":3},"",{"$f":"IF(ISNA(frmSystem),\"\",IF($B40=\"\",\"\",IF(frmAnzahlSysteme<3,\"\",IF('Ct Report'!I$6=0,\"\",INDEX(INDIRECT(\"'Ct Report'!\"&$BM$24),MATCH($B40,INDIRECT(\"'Ct Report'!\"&$BF$24),0))*1))))","v":""},"","",{"$nulls":3},"",{"$f":"IF(ISNA(frmSystem),\"\",IF($B40=\"\",\"\",IF(frmAnzahlSysteme<4,\"\",IF('Ct Report'!J$6=0,\"\",INDEX(INDIRECT(\"'Ct Report'!\"&$BN$24),MATCH($B40,INDIRECT(\"'Ct Report'!\"&$BF$24),0))*1))))","v":""},"","",{"$nulls":3},"",{"$f":"IF(ISNA(frmSystem),\"\",IF($B40=\"\",\"\",IF(frmAnzahlSysteme<5,\"\",IF('Ct Report'!K$6=0,\"\",INDEX(INDIRECT(\"'Ct Report'!\"&$BO$24),MATCH($B40,INDIRECT(\"'Ct Report'!\"&$BF$24),0))*1))))","v":""},"","",{"$nulls":3},{"$f":"IF($B40=\"\",\"\",IF('Ct Report'!G$6=0,\"\",IF(INDEX(INDIRECT(\"'Ct Report'!\"&$BK$24),MATCH($B40,INDIRECT(\"'Ct Report'!\"&$BF$24),0))=frmNoAmplification,frmZyklen,INDEX(INDIRECT(\"'Ct Report'!\"&$BK$24),MATCH($B40,INDIRECT(\"'Ct Report'!\"&$BF$24),0)))))","v":""},{"$f":"IF($B40=\"\",\"\",IF('Ct Report'!L$6=0,\"\",INDEX(INDIRECT(\"'Ct Report'!\"&$BP$24),MATCH($B40,INDIRECT(\"'Ct Report'!\"&$BF$24),0))*1))","v":""},"",{"$nulls":27},"","","","","",null,{"$error":"#N/A"},{"$error":"#N/A"},{"$error":"#N/A"},{"$error":"#N/A"},{"$error":"#N/A"},null,{"$error":"#N/A"},{"$error":"#N/A"},{"$error":"#N/A"},{"$error":"#N/A"},{"$error":"#N/A"},null,{"$error":"#N/A"},{"$error":"#N/A"},{"$error":"#N/A"},{"$error":"#N/A"},{"$error":"#N/A"},null,"","","","",null,0,null,"",{"$error":"#VALUE!"},{"$error":"#VALUE!"},{"$error":"#VALUE!"}]
[18,"B6",{"$error":"#NAME?"},{"$f":"IF(LEN($B41)=0,\"\",IF('Ct Report'!B$6=0,\"\",VLOOKUP($B41,INDIRECT(\"'Ct Report'!\"&$BE$22),2,FALSE)))","v":""},null,"U",{"$nulls":3},{"$error":"#NAME?"},{"$error":"#N/A"},{"$f":"IF($B41=\"\",\"\",IF('Ct Report'!C$6=0,\"\",IF(INDEX(INDIRECT(\"'Ct Report'!\"&$BG$24),MATCH(B41,INDIRECT(\"'Ct Report'!\"&$BF$24),0))=frmNoAmplification,frmZyklen,INDEX(INDIRECT(\"'Ct Report'!\"&$BG$24),MATCH(B41,INDIRECT(\"'Ct Report'!\"&$BF$24),0))*1)))","v":""},{"$f":"IF($B41<>\"\",IF('Ct Report'!H$6=0,\"\",INDEX(INDIRECT(\"'Ct Report'!\"&$BL$24),MATCH(B41,INDIRECT(\"'Ct Report'!\"&$BF$24),0))*1),\"\")","v":""},"","",{"$nulls":3},"",{"$f":"IF(ISNA(frmSystem),\"\",IF($B41=\"\",\"\",IF(frmAnzahlSysteme<3,\"\",IF('Ct Report'!I$6=0,\"\",INDEX(INDIRECT(\"'Ct Report'!\"&$BM$24),MATCH($B41,INDIRECT(\"'Ct Report'!\"&$BF$24),0))*1))))","v":""},"","",{"$nulls":3},"",{"$f":"IF(ISNA(frmSystem),\"\",IF($B41=\"\",\"\",IF(frmAnzahlSysteme<4,\"\",IF('Ct Report'!J$6=0,\"\",INDEX(INDIRECT(\"'Ct Report'!\"&$BN$24),MATCH($B41,INDIRECT(\"'Ct Report'!\"&$BF$24),0))*1))))","v":""},"","",{"$nulls":3},"",{"$f":"IF(ISNA(frmSystem),\"\",IF($B41=\"\",\"\",IF(frmAnzahlSysteme<5,\"\",IF('Ct Report'!K$6=0,\"\",INDEX(INDIRECT(\"'Ct Report'!\"&$BO$24),MATCH($B41,INDIRECT(\"'Ct Report'!\"&$BF$24),0))*1))))","v":""},"","",{"$nulls":3},{"$f":"IF($B41=\"\",\"\",IF('Ct Report'!G$6=0,\"\",IF(INDEX(INDIRECT(\"'Ct Report'!\"&$BK$24),MATCH($B41,INDIRECT(\"'Ct Report'!\"&$BF$24),0))=frmNoAmplification,frmZyklen,INDEX(INDIRECT(\"'Ct Report'!\"&$BK$24),MATCH($B41,INDIRECT(\"'Ct Report'!\"&$BF$24),0)))))","v":""},{"$f":"IF($B41=\"\",\"\",IF('Ct Report'!L$6=0,\"\",INDEX(INDIRECT(\"'Ct Report'!\"&$BP$24),MATCH($B41,INDIRECT(\"'Ct Report'!\"&$BF$24),0))*1))","v":""},"",{"$nulls":27},"","","","","",null,{"$error":"#N/A"},{"$error":"#N/A"},{"$error":"#N/A"},{"$error":"#N/A"},{"$error":"#N/A"},null,{"$error":"#N/A"},{"$error":"#N/A"},{"$error":"#N/A"},{"$error":"#N/A"},{"$error":"#N/A"},null,{"$error":"#N/A"},{"$error":"#N/A"},{"$error":"#N/A"},{"$error":"#N/A"},{"$error":"#N/A"},null,"","","","",null,0,null,"",{"$error":"#VALUE!"},{"$error":"#VALUE!"},{"$error":"#VALUE!"}]
[19,"B7",{"$error":"#NAME?"},{"$f":"IF(LEN($B42)=0,\"\",IF('Ct Report'!B$6=0,\"\",VLOOKUP($B42,INDIRECT(\"'Ct Report'!\"&$BE$22),2,FALSE)))","v":""},null,"U",{"$nulls":3},{"$error":"#NAME?"},{"$error":"#N/A"},{"$f":"IF($B42=\"\",\"\",IF('Ct Report'!C$6=0,\"\",IF(INDEX(INDIRECT(\"'Ct Report'!\"&$BG$24),MATCH(B42,INDIRECT(\"'Ct Report'!\"&$BF$24),0))=frmNoAmplification,frmZyklen,INDEX(INDIRECT(\"'Ct Report'!\"&$BG$24),MATCH(B42,INDIRECT(\"'Ct Report'!\"&$BF$24),0))*1)))","v":""},{"$f":"IF($B42<>\"\",IF('Ct Report'!H$6=0,\"\",INDEX(INDIRECT(\"'Ct Report'!\"&$BL$24),MATCH(B42,INDIRECT(\"'Ct Report'!\"&$BF$24),0))*1),\"\")","v":""},"","",{"$nulls":3},"",{"$f":"IF(ISNA(frmSystem),\"\",IF($B42=\"\",\"\",IF(frmAnzahlSysteme<3,\"\",IF('Ct Report'!I$6=0,\"\",INDEX(INDIRECT(\"'Ct Report'!\"&$BM$24),MATCH($B42,INDIRECT(\"'Ct Report'!\"&$BF$24),0))*1))))","v":""},"","",{"$nulls":3},"",{"$f":"IF(ISNA(frmSystem),\"\",IF($B42=\"\",\"\",IF(frmAnzahlSysteme<4,\"\",IF('Ct Report'!J$6=0,\"\",INDEX(INDIRECT(\"'Ct Report'!\"&$BN$24),MATCH($B42,INDIRECT(\"'Ct Report'!\"&$BF$24),0))*1))))","v":""},"","",{"$nulls":3},"",{"$f":"IF(ISNA(frmSystem),\"\",IF($B42=\"\",\"\",IF(frmAnzahlSysteme<5,\"\",IF('Ct Report'!K$6=0,\"\",INDEX(INDIRECT(\"'Ct Report'!\"&$BO$24),MATCH($B42,INDIRECT(\"'Ct Report'!\"&$BF$24),0))*1))))","v":""},"","",{"$nulls":3},{"$f":"IF($B42=\"\",\"\",IF('Ct Report'!G$6=0,\"\",IF(INDEX(INDIRECT(\"'Ct Report'!\"&$BK$24),MATCH($B42,INDIRECT(\"'Ct Report'!\"&$BF$24),0))=frmNoAmplification,frmZyklen,INDEX(INDIRECT(\"'Ct Report'!\"&$BK$24),MATCH($B42,INDIRECT(\"'Ct Report'!\"&$BF$24),0)))))","v":""},{"$f":"IF($B42=\"\",\"\",IF('Ct Report'!L$6=0,\"\",INDEX(INDIRECT(\"'Ct Report'!\"&$BP$24),MATCH($B42,INDIRECT(\"'Ct Report'!\"&$BF$24),0))*1))","v":""},"",{"$nulls":27},"","","","","",null,{"$error":"#N/A"},{"$error":"#N/A"},{"$error":"#N/A"},{"$error":"#N/A"},{"$error":"#N/A"},null,{"$error":"#N/A"},{"$error":"#N/A"},{"$error":"#N/A"},{"$error":"#N/A"},{"$error":"#N/A"},null,{"$error":"#N/A"},{"$error":"#N/A"},{"$error":"#N/A"},{"$error":"#N/A"},{"$error":"#N/A"},null,"","","","",null,0,null,"",{"$error":"#VALUE!"},{"$error":"#VALUE!"},{"$error":"#VALUE!"}]
[20,"B8",{"$error":"#NAME?"},{"$f":"IF(LEN($B43)=0,\"\",IF('Ct Report'!B$6=0,\"\",VLOOKUP($B43,INDIRECT(\"'Ct Report'!\"&$BE$22),2,FALSE)))","v":""},null,"U",{"$nulls":3},{"$error":"#NAME?"},{"$error":"#N/A"},{"$f":"IF($B43=\"\",\"\",IF('Ct Report'!C$6=0,\"\",IF(INDEX(INDIRECT(\"'Ct Report'!\"&$BG$24),MATCH(B43,INDIRECT(\"'Ct Report'!\"&$BF$24),0))=frmNoAmplification,frmZyklen,INDEX(INDIRECT(\"'Ct Report'!\"&$BG$24),MATCH(B43,INDIRECT(\"'Ct Report'!\"&$BF$24),0))*1)))","v":""},{"$f":"IF($B43<>\"\",IF('Ct Report'!H$6=0,\"\",INDEX(INDIRECT(\"'Ct Report'!\"&$BL$24),MATCH(B43,INDIRECT(\"'Ct Report'!\"&$BF$24),0))*1),\"\")","v":""},"","",{"$nulls":3},"",{"$f":"IF(ISNA(frmSystem),\"\",IF($B43=\"\",\"\",IF(frmAnzahlSysteme<3,\"\",IF('Ct Report'!I$6=0,\"\",INDEX(INDIRECT(\"'Ct Report'!\"&$BM$24),MATCH($B43,INDIRECT(\"'Ct Report'!\"&$BF$24),0))*1))))","v":""},"","",{"$nulls":3},"",{"$f":"IF(ISNA(frmSystem),\"\",IF($B43=\"\",\"\",IF(frmAnzahlSysteme<4,\"\",IF('Ct Report'!J$6=0,\"\",INDEX(INDIRECT(\"'Ct Report'!\"&$BN$24),MATCH($B43,INDIRECT(\"'Ct Report'!\"&$BF$24),0))*1))))","v":""},"","",{"$nulls":3},"",{"$f":"IF(ISNA(frmSystem),\"\",IF($B43=\"\",\"\",IF(frmAnzahlSysteme<5,\"\",IF('Ct Report'!K$6=0,\"\",INDEX(INDIRECT(\"'Ct Report'!\"&$BO$24),MATCH($B43,INDIRECT(\"'Ct Report'!\"&$BF$24),0))*1))))","v":""},"","",{"$nulls":3},{"$f":"IF($B43=\"\",\"\",IF('Ct Report'!G$6=0,\"\",IF(INDEX(INDIRECT(\"'Ct Report'!\"&$BK$24),MATCH($B43,INDIRECT(\"'Ct Report'!\"&$BF$24),0))=frmNoAmplification,frmZyklen,INDEX(INDIRECT(\"'Ct Report'!\"&$BK$24),MATCH($B43,INDIRECT(\"'Ct Report'!\"&$BF$24),0)))))","v":""},{"$f":"IF($B43=\"\",\"\",IF('Ct Report'!L$6=0,\"\",INDEX(INDIRECT(\"'Ct Report'!\"&$BP$24),MATCH($B43,INDIRECT(\"'Ct Report'!\"&$BF$24),0))*1))","v":""},"",{"$nulls":27},"","","","","",null,{"$error":"#N/A"},{"$error":"#N/A"},{"$error":"#N/A"},{"$error":"#N/A"},{"$error":"#N/A"},null,{"$error":"#N/A"},{"$error":"#N/A"},{"$error":"#N/A"},{"$error":"#N/A"},{"$error":"#N/A"},null,{"$error":"#N/A"},{"$error":"#N/A"},{"$error":"#N/A"},{"$error":"#N/A"},{"$error":"#N/A"},null,"","","","",null,0,null,"",{"$error":"#VALUE!"},{"$error":"#VALUE!"},{"$error":"#VALUE!"}]
[21,"B9",{"$error":"#NAME?"},{"$f":"IF(LEN($B44)=0,\"\",IF('Ct Report'!B$6=0,\"\",VLOOKUP($B44,INDIRECT(\"'Ct Report'!\"&$BE$22),2,FALSE)))","v":""},null,"U",{"$nulls":3},{"$error":"#NAME?"},{"$error":"#N/A"},{"$f":"IF($B44=\"\",\"\",IF('Ct Report'!C$6=0,\"\",IF(INDEX(INDIRECT(\"'Ct Report'!\"&$BG$24),MATCH(B44,INDIRECT(\"'Ct Report'!\"&$BF$24),0))=frmNoAmplification,frmZyklen,INDEX(INDIRECT(\"'Ct Report'!\"&$BG$24),MATCH(B44,INDIRECT(\"'Ct Report'!\"&$BF$24),0))*1)))","v":""},{"$f":"IF($B44<>\"\",IF('Ct Report'!H$6=0,\"\",INDEX(INDIRECT(\"'Ct Report'!\"&$BL$24),MATCH(B44,INDIRECT(\"'Ct Report'!\"&$BF$24),0))*1),\"\")","v":""},"","",{"$nulls":3},"",{"$f":"IF(ISNA(frmSystem),\"\",IF($B44=\"\",\"\",IF(frmAnzahlSysteme<3,\"\",IF('Ct Report'!I$6=0,\"\",INDEX(INDIRECT(\"'Ct Report'!\"&$BM$24),MATCH($B44,INDIRECT(\"'Ct Report'!\"&$BF$24),0))*1))))","v":""},"","",{"$nulls":3},"",{"$f":"IF(ISNA(frmSystem),\"\",IF($B44=\"\",\"\",IF(frmAnzahlSysteme<4,\"\",IF('Ct Report'!J$6=0,\"\",INDEX(INDIRECT(\"'Ct Report'!\"&$BN$24),MATCH($B44,INDIRECT(\"'Ct Report'!\"&$BF$24),0))*1))))","v":""},"","",{"$nulls":3},"",{"$f":"IF(ISNA(frmSystem),\"\",IF($B44=\"\",\"\",IF(frmAnzahlSysteme<5,\"\",IF('Ct Report'!K$6=0,\"\",INDEX(INDIRECT(\"'Ct Report'!\"&$BO$24),MATCH($B44,INDIRECT(\"'Ct Report'!\"&$BF$24),0))*1))))","v":""},"","",{"$nulls":3},{"$f":"IF($B44=\"\",\"\",IF('Ct Report'!G$6=0,\"\",IF(INDEX(INDIRECT(\"'Ct Report'!\"&$BK$24),MATCH($B44,INDIRECT(\"'Ct Report'!\"&$BF$24),0))=frmNoAmplification,frmZyklen,INDEX(INDIRECT(\"'Ct Report'!\"&$BK$24),MATCH($B44,INDIRECT(\"'Ct Report'!\"&$BF$24),0)))))","v":""},{"$f":"IF($B44=\"\",\"\",IF('Ct Report'!L$6=0,\"\",INDEX(INDIRECT(\"'Ct Report'!\"&$BP$24),MATCH($B44,INDIRECT(\"'Ct Report'!\"&$BF$24),0))*1))","v":""},"",{"$nulls":27},"","","","","",null,{"$error":"#N/A"},{"$error":"#N/A"},{"$error":"#N/A"},{"$error":"#N/A"},{"$error":"#N/A"},null,{"$error":"#N/A"},{"$error":"#N/A"},{"$error":"#N/A"},{"$error":"#N/A"},{"$error":"#N/A"},null,{"$error":"#N/A"},{"$error":"#N/A"},{"$error":"#N/A"},{"$error":"#N/A"},{"$error":"#N/A"},null,"","","","",null,0,null,"",{"$error":"#VALUE!"},{"$error":"#VALUE!"},{"$error":"#VALUE!"}]
[22,"B10",{"$error":"#NAME?"},{"$f":"IF(LEN($B45)=0,\"\",IF('Ct Report'!B$6=0,\"\",VLOOKUP($B45,INDIRECT(\"'Ct Report'!\"&$BE$22),2,FALSE)))","v":""},null,"U",{"$nulls":3},{"$error":"#NAME?"},{"$error":"#N/A"},{"$f":"IF($B45=\"\",\"\",IF('Ct Report'!C$6=0,\"\",IF(INDEX(INDIRECT(\"'Ct Report'!\"&$BG$24),MATCH(B45,INDIRECT(\"'Ct Report'!\"&$BF$24),0))=frmNoAmplification,frmZyklen,INDEX(INDIRECT(\"'Ct Report'!\"&$BG$24),MATCH(B45,INDIRECT(\"'Ct Report'!\"&$BF$24),0))*1)))","v":""},{"$f":"IF($B45<>\"\",IF('Ct Report'!H$6=0,\"\",INDEX(INDIRECT(\"'Ct Report'!\"&$BL$24),MATCH(B45,INDIRECT(\"'Ct Report'!\"&$BF$24),0))*1),\"\")","v":""},"","",{"$nulls":3},"",{"$f":"IF(ISNA(frmSystem),\"\",IF($B45=\"\",\"\",IF(frmAnzahlSysteme<3,\"\",IF('Ct Report'!I$6=0,\"\",INDEX(INDIRECT(\"'Ct Report'!\"&$BM$24),MATCH($B45,INDIRECT(\"'Ct Report'!\"&$BF$24),0))*1))))","v":""},"","",{"$nulls":3},"",{"$f":"IF(ISNA(frmSystem),\"\",IF($B45=\"\",\"\",IF(frmAnzahlSysteme<4,\"\",IF('Ct Report'!J$6=0,\"\",INDEX(INDIRECT(\"'Ct Report'!\"&$BN$24),MATCH($B45,INDIRECT(\"'Ct Report'!\"&$BF$24),0))*1))))","v":""},"","",{"$nulls":3},"",{"$f":"IF(ISNA(frmSystem),\"\",IF($B45=\"\",\"\",IF(frmAnzahlSysteme<5,\"\",IF('Ct Report'!K$6=0,\"\",INDEX(INDIRECT(\"'Ct Report'!\"&$BO$24),MATCH($B45,INDIRECT(\"'Ct Report'!\"&$BF$24),0))*1))))","v":""},"","",{"$nulls":3},{"$f":"IF($B45=\"\",\"\",IF('Ct Report'!G$6=0,\"\",IF(INDEX(INDIRECT(\"'Ct Report'!\"&$BK$24),MATCH($B45,INDIRECT(\"'Ct Report'!\"&$BF$24),0))=frmNoAmplification,frmZyklen,INDEX(INDIRECT(\"'Ct Report'!\"&$BK$24),MATCH($B45,INDIRECT(\"'Ct Report'!\"&$BF$24),0)))))","v":""},{"$f":"IF($B45=\"\",\"\",IF('Ct Report'!L$6=0,\"\",INDEX(INDIRECT(\"'Ct Report'!\"&$BP$24),MATCH($B45,INDIRECT(\"'Ct Report'!\"&$BF$24),0))*1))","v":""},"",{"$nulls":27},"","","","","",null,{"$error":"#N/A"},{"$error":"#N/A"},{"$error":"#N/A"},{"$error":"#N/A"},{"$error":"#N/A"},null,{"$error":"#N/A"},{"$error":"#N/A"},{"$error":"#N/A"},{"$error":"#N/A"},{"$error":"#N/A"},null,{"$error":"#N/A"},{"$error":"#N/A"},{"$error":"#N/A"},{"$error":"#N/A"},{"$error":"#N/A"},null,"","","","",null,0,null,"",{"$error":"#VALUE!"},{"$error":"#VALUE!"},{"$error":"#VALUE!"}]
[23,"B11",{"$error":"#NAME?"},{"$f":"IF(LEN($B46)=0,\"\",IF('Ct Report'!B$6=0,\"\",VLOOKUP($B46,INDIRECT(\"'Ct Report'!\"&$BE$22),2,FALSE)))","v":""},null,"U",{"$nulls":3},{"$error":"#NAME?"},{"$error":"#N/A"},{"$f":"IF($B46=\"\",\"\",IF('Ct Report'!C$6=0,\"\",IF(INDEX(INDIRECT(\"'Ct Report'!\"&$BG$24),MATCH(B46,INDIRECT(\"'Ct Report'!\"&$BF$24),0))=frmNoAmplification,frmZyklen,INDEX(INDIRECT(\"'Ct Report'!\"&$BG$24),MATCH(B46,INDIRECT(\"'Ct Report'!\"&$BF$24),0))*1)))","v":""},{"$f":"IF($B46<>\"\",IF('Ct Report'!H$6=0,\"\",INDEX(INDIRECT(\"'Ct Report'!\"&$BL$24),MATCH(B46,INDIRECT(\"'Ct Report'!\"&$BF$24),0))*1),\"\")","v":""},"","",{"$nulls":3},"",{"$f":"IF(ISNA(frmSystem),\"\",IF($B46=\"\",\"\",IF(frmAnzahlSysteme<3,\"\",IF('Ct Report'!I$6=0,\"\",INDEX(INDIRECT(\"'Ct Report'!\"&$BM$24),MATCH($B46,INDIRECT(\"'Ct Report'!\"&$BF$24),0))*1))))","v":""},"","",{"$nulls":3},"",{"$f":"IF(ISNA(frmSystem),\"\",IF($B46=\"\",\"\",IF(frmAnzahlSysteme<4,\"\",IF('Ct Report'!J$6=0,\"\",INDEX(INDIRECT(\"'Ct Report'!\"&$BN$24),MATCH($B46,INDIRECT(\"'Ct Report'!\"&$BF$24),0))*1))))","v":""},"","",{"$nulls":3},"",{"$f":"IF(ISNA(frmSystem),\"\",IF($B46=\"\",\"\",IF(frmAnzahlSysteme<5,\"\",IF('Ct Report'!K$6=0,\"\",INDEX(INDIRECT(\"'Ct Report'!\"&$BO$24),MATCH($B46,INDIRECT(\"'Ct Report'!\"&$BF$24),0))*1))))","v":""},"","",{"$nulls":3},{"$f":"IF($B46=\"\",\"\",IF('Ct Report'!G$6=0,\"\",IF(INDEX(INDIRECT(\"'Ct Report'!\"&$BK$24),MATCH($B46,INDIRECT(\"'Ct Report'!\"&$BF$24),0))=frmNoAmplification,frmZyklen,INDEX(INDIRECT(\"'Ct Report'!\"&$BK$24),MATCH($B46,INDIRECT(\"'Ct Report'!\"&$BF$24),0)))))","v":""},{"$f":"IF($B46=\"\",\"\",IF('Ct Report'!L$6=0,\"\",INDEX(INDIRECT(\"'Ct Report'!\"&$BP$24),MATCH($B46,INDIRECT(\"'Ct Report'!\"&$BF$24),0))*1))","v":""},"",{"$nulls":27},"","","","","",null,{"$error":"#N/A"},{"$error":"#N/A"},{"$error":"#N/A"},{"$error":"#N/A"},{"$error":"#N/A"},null,{"$error":"#N/A"},{"$error":"#N/A"},{"$error":"#N/A"},{"$error":"#N/A"},{"$error":"#N/A"},null,{"$error":"#N/A"},{"$error":"#N/A"},{"$error":"#N/A"},{"$error":"#N/A"},{"$error":"#N/A"},null,"","","","",null,0,null,"",{"$error":"#VALUE!"},{"$error":"#VALUE!"},{"$error":"#VALUE!"}]
[24,"B12",{"$error":"#NAME?"},{"$f":"IF(LEN($B47)=0,\"\",IF('Ct Report'!B$6=0,\"\",VLOOKUP($B47,INDIRECT(\"'Ct Report'!\"&$BE$22),2,FALSE)))","v":""},null,"U",{"$nulls":3},{"$error":"#NAME?"},{"$error":"#N/A"},{"$f":"IF($B47=\"\",\"\",IF('Ct Report'!C$6=0,\"\",IF(INDEX(INDIRECT(\"'Ct Report'!\"&$BG$24),MATCH(B47,INDIRECT(\"'Ct Report'!\"&$BF$24),0))=frmNoAmplification,frmZyklen,INDEX(INDIRECT(\"'Ct Report'!\"&$BG$24),MATCH(B47,INDIRECT(\"'Ct Report'!\"&$BF$24),0))*1)))","v":""},{"$f":"IF($B47<>\"\",IF('Ct Report'!H$6=0,\"\",INDEX(INDIRECT(\"'Ct Report'!\"&$BL$24),MATCH(B47,INDIRECT(\"'Ct Report'!\"&$BF$24),0))*1),\"\")","v":""},"","",{"$nulls":3},"",{"$f":"IF(ISNA(frmSystem),\"\",IF($B47=\"\",\"\",IF(frmAnzahlSysteme<3,\"\",IF('Ct Report'!I$6=0,\"\",INDEX(INDIRECT(\"'Ct Report'!\"&$BM$24),MATCH($B47,INDIRECT(\"'Ct Report'!\"&$BF$24),0))*1))))","v":""},"","",{"$nulls":3},"",{"$f":"IF(ISNA(frmSystem),\"\",IF($B47=\"\",\"\",IF(frmAnzahlSysteme<4,\"\",IF('Ct Report'!J$6=0,\"\",INDEX(INDIRECT(\"'Ct Report'!\"&$BN$24),MATCH($B47,INDIRECT(\"'Ct Report'!\"&$BF$24),0))*1))))","v":""},"","",{"$nulls":3},"",{"$f":"IF(ISNA(frmSystem),\"\",IF($B47=\"\",\"\",IF(frmAnzahlSysteme<5,\"\",IF('Ct Report'!K$6=0,\"\",INDEX(INDIRECT(\"'Ct Report'!\"&$BO$24),MATCH($B47,INDIRECT(\"'Ct Report'!\"&$BF$24),0))*1))))","v":""},"","",{"$nulls":3},{"$f":"IF($B47=\"\",\"\",IF('Ct Report'!G$6=0,\"\",IF(INDEX(INDIRECT(\"'Ct Report'!\"&$BK$24),MATCH($B47,INDIRECT(\"'Ct Report'!\"&$BF$24),0))=frmNoAmplification,frmZyklen,INDEX(INDIRECT(\"'Ct Report'!\"&$BK$24),MATCH($B47,INDIRECT(\"'Ct Report'!\"&$BF$24),0)))))","v":""},{"$f":"IF($B47=\"\",\"\",IF('Ct Report'!L$6=0,\"\",INDEX(INDIRECT(\"'Ct Report'!\"&$BP$24),MATCH($B47,INDIRECT(\"'Ct Report'!\"&$BF$24),0))*1))","v":""},"",{"$nulls":27},"","","","","",null,{"$error":"#N/A"},{"$error":"#N/A"},{"$error":"#N/A"},{"$error":"#N/A"},{"$error":"#N/A"},null,{"$error":"#N/A"},{"$error":"#N/A"},{"$error":"#N/A"},{"$error":"#N/A"},{"$error":"#N/A"},null,{"$error":"#N/A"},{"$error":"#N/A"},{"$error":"#N/A"},{"$error":"#N/A"},{"$error":"#N/A"},null,"","","","",null,0,null,"",{"$error":"#VALUE!"},{"$error":"#VALUE!"},{"$error":"#VALUE!"}]
[25,"C1",{"$error":"#NAME?"},{"$f":"IF(LEN($B48)=0,\"\",IF('Ct Report'!B$6=0,\"\",VLOOKUP($B48,INDIRECT(\"'Ct Report'!\"&$BE$22),2,FALSE)))","v":""},null,"U",{"$nulls":3},{"$error":"#NAME?"},{"$error":"#N/A"},{"$f":"IF($B48=\"\",\"\",IF('Ct Report'!C$6=0,\"\",IF(INDEX(INDIRECT(\"'Ct Report'!\"&$BG$24),MATCH(B48,INDIRECT(\"'Ct Report'!\"&$BF$24),0))=frmNoAmplification,frmZyklen,INDEX(INDIRECT(\"'Ct Report'!\"&$BG$24),MATCH(B48,INDIRECT(\"'Ct Report'!\"&$BF$24),0))*1)))","v":""},{"$f":"IF($B48<>\"\",IF('Ct Report'!H$6=0,\"\",INDEX(INDIRECT(\"'Ct Report'!\"&$BL$24),MATCH(B48,INDIRECT(\"'Ct Report'!\"&$BF$24),0))*1),\"\")","v":""},"","",{"$nulls":3},"",{"$f":"IF(ISNA(frmSystem),\"\",IF($B48=\"\",\"\",IF(frmAnzahlSysteme<3,\"\",IF('Ct Report'!I$6=0,\"\",INDEX(INDIRECT(\"'Ct Report'!\"&$BM$24),MATCH($B48,INDIRECT(\"'Ct Report'!\"&$BF$24),0))*1))))","v":""},"","",{"$nulls":3},"",{"$f":"IF(ISNA(frmSystem),\"\",IF($B48=\"\",\"\",IF(frmAnzahlSysteme<4,\"\",IF('Ct Report'!J$6=0,\"\",INDEX(INDIRECT(\"'Ct Report'!\"&$BN$24),MATCH($B48,INDIRECT(\"'Ct Report'!\"&$BF$24),0))*1))))","v":""},"","",{"$nulls":3},"",{"$f":"IF(ISNA(frmSystem),\"\",IF($B48=\"\",\"\",IF(frmAnzahlSysteme<5,\"\",IF('Ct Report'!K$6=0,\"\",INDEX(INDIRECT(\"'Ct Report'!\"&$BO$24),MATCH($B48,INDIRECT(\"'Ct Report'!\"&$BF$24),0))*1))))","v":""},"","",{"$nulls":3},{"$f":"IF($B48=\"\",\"\",IF('Ct Report'!G$6=0,\"\",IF(INDEX(INDIRECT(\"'Ct Report'!\"&$BK$24),MATCH($B48,INDIRECT(\"'Ct Report'!\"&$BF$24),0))=frmNoAmplification,frmZyklen,INDEX(INDIRECT(\"'Ct Report'!\"&$BK$24),MATCH($B48,INDIRECT(\"'Ct Report'!\"&$BF$24),0)))))","v":""},{"$f":"IF($B48=\"\",\"\",IF('Ct Report'!L$6=0,\"\",INDEX(INDIRECT(\"'Ct Report'!\"&$BP$24),MATCH($B48,INDIRECT(\"'Ct Report'!\"&$BF$24),0))*1))","v":""},"",{"$nulls":27},"","","","","",null,{"$error":"#N/A"},{"$error":"#N/A"},{"$error":"#N/A"},{"$error":"#N/A"},{"$error":"#N/A"},null,{"$error":"#N/A"},{"$error":"#N/A"},{"$error":"#N/A"},{"$error":"#N/A"},{"$error":"#N/A"},null,{"$error":"#N/A"},{"$error":"#N/A"},{"$error":"#N/A"},{"$error":"#N/A"},{"$error":"#N/A"},null,"","","","",null,0,null,"",{"$error":"#VALUE!"},{"$error":"#VALUE!"},{"$error":"#VALUE!"}]
[26,"C2",{"$error":"#NAME?"},{"$f":"IF(LEN($B49)=0,\"\",IF('Ct Report'!B$6=0,\"\",VLOOKUP($B49,INDIRECT(\"'Ct Report'!\"&$BE$22),2,FALSE)))","v":""},null,"U",{"$nulls":3},{"$error":"#NAME?"},{"$error":"#N/A"},{"$f":"IF($B49=\"\",\"\",IF('Ct Report'!C$6=0,\"\",IF(INDEX(INDIRECT(\"'Ct Report'!\"&$BG$24),MATCH(B49,INDIRECT(\"'Ct Report'!\"&$BF$24),0))=frmNoAmplification,frmZyklen,INDEX(INDIRECT(\"'Ct Report'!\"&$BG$24),MATCH(B49,INDIRECT(\"'Ct Report'!\"&$BF$24),0))*1)))","v":""},{"$f":"IF($B49<>\"\",IF('Ct Report'!H$6=0,\"\",INDEX(INDIRECT(\"'Ct Report'!\"&$BL$24),MATCH(B49,INDIRECT(\"'Ct Report'!\"&$BF$24),0))*1),\"\")","v":""},"","",{"$nulls":3},"",{"$f":"IF(ISNA(frmSystem),\"\",IF($B49=\"\",\"\",IF(frmAnzahlSysteme<3,\"\",IF('Ct Report'!I$6=0,\"\",INDEX(INDIRECT(\"'Ct Report'!\"&$BM$24),MATCH($B49,INDIRECT(\"'Ct Report'!\"&$BF$24),0))*1))))","v":""},"","",{"$nulls":3},"",{"$f":"IF(ISNA(frmSystem),\"\",IF($B49=\"\",\"\",IF(frmAnzahlSysteme<4,\"\",IF('Ct Report'!J$6=0,\"\",INDEX(INDIRECT(\"'Ct Report'!\"&$BN$24),MATCH($B49,INDIRECT(\"'Ct Report'!\"&$BF$24),0))*1))))","v":""},"","",{"$nulls":3},"",{"$f":"IF(ISNA(frmSystem),\"\",IF($B49=\"\",\"\",IF(frmAnzahlSysteme<5,\"\",IF('Ct Report'!K$6=0,\"\",INDEX(INDIRECT(\"'Ct Report'!\"&$BO$24),MATCH($B49,INDIRECT(\"'Ct Report'!\"&$BF$24),0))*1))))","v":""},"","",{"$nulls":3},{"$f":"IF($B49=\"\",\"\",IF('Ct Report'!G$6=0,\"\",IF(INDEX(INDIRECT(\"'Ct Report'!\"&$BK$24),MATCH($B49,INDIRECT(\"'Ct Report'!\"&$BF$24),0))=frmNoAmplification,frmZyklen,INDEX(INDIRECT(\"'Ct Report'!\"&$BK$24),MATCH($B49,INDIRECT(\"'Ct Report'!\"&$BF$24),0)))))","v":""},{"$f":"IF($B49=\"\",\"\",IF('Ct Report'!L$6=0,\"\",INDEX(INDIRECT(\"'Ct Report'!\"&$BP$24),MATCH($B49,INDIRECT(\"'Ct Report'!\"&$BF$24),0))*1))","v":""},"",{"$nulls":27},"","","","","",null,{"$error":"#N/A"},{"$error":"#N/A"},{"$error":"#N/A"},{"$error":"#N/A"},{"$error":"#N/A"},null,{"$error":"#N/A"},{"$error":"#N/A"},{"$error":"#N/A"},{"$error":"#N/A"},{"$error":"#N/A"},null,{"$error":"#N/A"},{"$error":"#N/A"},{"$error":"#N/A"},{"$error":"#N/A"},{"$error":"#N/A"},null,"","","","",null,0,null,"",{"$error":"#VALUE!"},{"$error":"#VALUE!"},{"$error":"#VALUE!"}]
[27,"C3",{"$error":"#NAME?"},{"$f":"IF(LEN($B50)=0,\"\",IF('Ct Report'!B$6=0,\"\",VLOOKUP($B50,INDIRECT(\"'Ct Report'!\"&$BE$22),2,FALSE)))","v":""},null,"U",{"$nulls":3},{"$error":"#NAME?"},{"$error":"#N/A"},{"$f":"IF($B50=\"\",\"\",IF('Ct Report'!C$6=0,\"\",IF(INDEX(INDIRECT(\"'Ct Report'!\"&$BG$24),MATCH(B50,INDIRECT(\"'Ct Report'!\"&$BF$24),0))=frmNoAmplification,frmZyklen,INDEX(INDIRECT(\"'Ct Report'!\"&$BG$24),MATCH(B50,INDIRECT(\"'Ct Report'!\"&$BF$24),0))*1)))","v":""},{"$f":"IF($B50<>\"\",IF('Ct Report'!H$6=0,\"\",INDEX(INDIRECT(\"'Ct Report'!\"&$BL$24),MATCH(B50,INDIRECT(\"'Ct Report'!\"&$BF$24),0))*1),\"\")","v":""},"","",{"$nulls":3},"",{"$f":"IF(ISNA(frmSystem),\"\",IF($B50=\"\",\"\",IF(frmAnzahlSysteme<3,\"\",IF('Ct Report'!I$6=0,\"\",INDEX(INDIRECT(\"'Ct Report'!\"&$BM$24),MATCH($B50,INDIRECT(\"'Ct Report'!\"&$BF$24),0))*1))))","v":""},"","",{"$nulls":3},"",{"$f":"IF(ISNA(frmSystem),\"\",IF($B50=\"\",\"\",IF(frmAnzahlSysteme<4,\"\",IF('Ct Report'!J$6=0,\"\",INDEX(INDIRECT(\"'Ct Report'!\"&$BN$24),MATCH($B50,INDIRECT(\"'Ct Report'!\"&$BF$24),0))*1))))","v":""},"","",{"$nulls":3},"",{"$f":"IF(ISNA(frmSystem),\"\",IF($B50=\"\",\"\",IF(frmAnzahlSysteme<5,\"\",IF('Ct Report'!K$6=0,\"\",INDEX(INDIRECT(\"'Ct Report'!\"&$BO$24),MATCH($B50,INDIRECT(\"'Ct Report'!\"&$BF$24),0))*1))))","v":""},"","",{"$nulls":3},{"$f":"IF($B50=\"\",\"\",IF('Ct Report'!G$6=0,\"\",IF(INDEX(INDIRECT(\"'Ct Report'!\"&$BK$24),MATCH($B50,INDIRECT(\"'Ct Report'!\"&$BF$24),0))=frmNoAmplification,frmZyklen,INDEX(INDIRECT(\"'Ct Report'!\"&$BK$24),MATCH($B50,INDIRECT(\"'Ct Report'!\"&$BF$24),0)))))","v":""},{"$f":"IF($B50=\"\",\"\",IF('Ct Report'!L$6=0,\"\",INDEX(INDIRECT(\"'Ct Report'!\"&$BP$24),MATCH($B50,INDIRECT(\"'Ct Report'!\"&$BF$24),0))*1))","v":""},"",{"$nulls":27},"","","","","",null,{"$error":"#N/A"},{"$error":"#N/A"},{"$error":"#N/A"},{"$error":"#N/A"},{"$error":"#N/A"},null,{"$error":"#N/A"},{"$error":"#N/A"},{"$error":"#N/A"},{"$error":"#N/A"},{"$error":"#N/A"},null,{"$error":"#N/A"},{"$error":"#N/A"},{"$error":"#N/A"},{"$error":"#N/A"},{"$error":"#N/A"},null,"","","","",null,0,null,"",{"$error":"#VALUE!"},{"$error":"#VALUE!"},{"$error":"#VALUE!"}]
[28,"C4",{"$error":"#NAME?"},{"$f":"IF(LEN($B51)=0,\"\",IF('Ct Report'!B$6=0,\"\",VLOOKUP($B51,INDIRECT(\"'Ct Report'!\"&$BE$22),2,FALSE)))","v":""},null,"U",{"$nulls":3},{"$error":"#NAME?"},{"$error":"#N/A"},{"$f":"IF($B51=\"\",\"\",IF('Ct Report'!C$6=0,\"\",IF(INDEX(INDIRECT(\"'Ct Report'!\"&$BG$24),MATCH(B51,INDIRECT(\"'Ct Report'!\"&$BF$24),0))=frmNoAmplification,frmZyklen,INDEX(INDIRECT(\"'Ct Report'!\"&$BG$24),MATCH(B51,INDIRECT(\"'Ct Report'!\"&$BF$24),0))*1)))","v":""},{"$f":"IF($B51<>\"\",IF('Ct Report'!H$6=0,\"\",INDEX(INDIRECT(\"'Ct Report'!\"&$BL$24),MATCH(B51,INDIRECT(\"'Ct Report'!\"&$BF$24),0))*1),\"\")","v":""},"","",{"$nulls":3},"",{"$f":"IF(ISNA(frmSystem),\"\",IF($B51=\"\",\"\",IF(frmAnzahlSysteme<3,\"\",IF('Ct Report'!I$6=0,\"\",INDEX(INDIRECT(\"'Ct Report'!\"&$BM$24),MATCH($B51,INDIRECT(\"'Ct Report'!\"&$BF$24),0))*1))))","v":""},"","",{"$nulls":3},"",{"$f":"IF(ISNA(frmSystem),\"\",IF($B51=\"\",\"\",IF(frmAnzahlSysteme<4,\"\",IF('Ct Report'!J$6=0,\"\",INDEX(INDIRECT(\"'Ct Report'!\"&$BN$24),MATCH($B51,INDIRECT(\"'Ct Report'!\"&$BF$24),0))*1))))","v":""},"","",{"$nulls":3},"",{"$f":"IF(ISNA(frmSystem),\"\",IF($B51=\"\",\"\",IF(frmAnzahlSysteme<5,\"\",IF('Ct Report'!K$6=0,\"\",INDEX(INDIRECT(\"'Ct Report'!\"&$BO$24),MATCH($B51,INDIRECT(\"'Ct Report'!\"&$BF$24),0))*1))))","v":""},"","",{"$nulls":3},{"$f":"IF($B51=\"\",\"\",IF('Ct Report'!G$6=0,\"\",IF(INDEX(INDIRECT(\"'Ct Report'!\"&$BK$24),MATCH($B51,INDIRECT(\"'Ct Report'!\"&$BF$24),0))=frmNoAmplification,frmZyklen,INDEX(INDIRECT(\"'Ct Report'!\"&$BK$24),MATCH($B51,INDIRECT(\"'Ct Report'!\"&$BF$24),0)))))","v":""},{"$f":"IF($B51=\"\",\"\",IF('Ct Report'!L$6=0,\"\",INDEX(INDIRECT(\"'Ct Report'!\"&$BP$24),MATCH($B51,INDIRECT(\"'Ct Report'!\"&$BF$24),0))*1))","v":""},"",{"$nulls":27},"","","","","",null,{"$error":"#N/A"},{"$error":"#N/A"},{"$error":"#N/A"},{"$error":"#N/A"},{"$error":"#N/A"},null,{"$error":"#N/A"},{"$error":"#N/A"},{"$error":"#N/A"},{"$error":"#N/A"},{"$error":"#N/A"},null,{"$error":"#N/A"},{"$error":"#N/A"},{"$error":"#N/A"},{"$error":"#N/A"},{"$error":"#N/A"},null,"","","","",null,0,null,"",{"$error":"#VALUE!"},{"$error":"#VALUE!"},{"$error":"#VALUE!"}]
[29,"C5",{"$error":"#NAME?"},{"$f":"IF(LEN($B52)=0,\"\",IF('Ct Report'!B$6=0,\"\",VLOOKUP($B52,INDIRECT(\"'Ct Report'!\"&$BE$22),2,FALSE)))","v":""},null,"U",{"$nulls":3},{"$error":"#NAME?"},{"$error":"#N/A"},{"$f":"IF($B52=\"\",\"\",IF('Ct Report'!C$6=0,\"\",IF(INDEX(INDIRECT(\"'Ct Report'!\"&$BG$24),MATCH(B52,INDIRECT(\"'Ct Report'!\"&$BF$24),0))=frmNoAmplification,frmZyklen,INDEX(INDIRECT(\"'Ct Report'!\"&$BG$24),MATCH(B52,INDIRECT(\"'Ct Report'!\"&$BF$24),0))*1)))","v":""},{"$f":"IF($B52<>\"\",IF('Ct Report'!H$6=0,\"\",INDEX(INDIRECT(\"'Ct Report'!\"&$BL$24),MATCH(B52,INDIRECT(\"'Ct Report'!\"&$BF$24),0))*1),\"\")","v":""},"","",{"$nulls":3},"",{"$f":"IF(ISNA(frmSystem),\"\",IF($B52=\"\",\"\",IF(frmAnzahlSysteme<3,\"\",IF('Ct Report'!I$6=0,\"\",INDEX(INDIRECT(\"'Ct Report'!\"&$BM$24),MATCH($B52,INDIRECT(\"'Ct Report'!\"&$BF$24),0))*1))))","v":""},"","",{"$nulls":3},"",{"$f":"IF(ISNA(frmSystem),\"\",IF($B52=\"\",\"\",IF(frmAnzahlSysteme<4,\"\",IF('Ct Report'!J$6=0,\"\",INDEX(INDIRECT(\"'Ct Report'!\"&$BN$24),MATCH($B52,INDIRECT(\"'Ct Report'!\"&$BF$24),0))*1))))","v":""},"","",{"$nulls":3},"",{"$f":"IF(ISNA(frmSystem),\"\",IF($B52=\"\",\"\",IF(frmAnzahlSysteme<5,\"\",IF('Ct Report'!K$6=0,\"\",INDEX(INDIRECT(\"'Ct Report'!\"&$BO$24),MATCH($B52,INDIRECT(\"'Ct Report'!\"&$BF$24),0))*1))))","v":""},"","",{"$nulls":3},{"$f":"IF($B52=\"\",\"\",IF('Ct Report'!G$6=0,\"\",IF(INDEX(INDIRECT(\"'Ct Report'!\"&$BK$24),MATCH($B52,INDIRECT(\"'Ct Report'!\"&$BF$24),0))=frmNoAmplification,frmZyklen,INDEX(INDIRECT(\"'Ct Report'!\"&$BK$24),MATCH($B52,INDIRECT(\"'Ct Report'!\"&$BF$24),0)))))","v":""},{"$f":"IF($B52=\"\",\"\",IF('Ct Report'!L$6=0,\"\",INDEX(INDIRECT(\"'Ct Report'!\"&$BP$24),MATCH($B52,INDIRECT(\"'Ct Report'!\"&$BF$24),0))*1))","v":""},"",{"$nulls":27},"","","","","",null,{"$error":"#N/A"},{"$error":"#N/A"},{"$error":"#N/A"},{"$error":"#N/A"},{"$error":"#N/A"},null,{"$error":"#N/A"},{"$error":"#N/A"},{"$error":"#N/A"},{"$error":"#N/A"},{"$error":"#N/A"},null,{"$error":"#N/A"},{"$error":"#N/A"},{"$error":"#N/A"},{"$error":"#N/A"},{"$error":"#N/A"},null,"","","","",null,0,null,"",{"$error":"#VALUE!"},{"$error":"#VALUE!"},{"$error":"#VALUE!"}]
[30,"C6",{"$error":"#NAME?"},{"$f":"IF(LEN($B53)=0,\"\",IF('Ct Report'!B$6=0,\"\",VLOOKUP($B53,INDIRECT(\"'Ct Report'!\"&$BE$22),2,FALSE)))","v":""},null,"U",{"$nulls":3},{"$error":"#NAME?"},{"$error":"#N/A"},{"$f":"IF($B53=\"\",\"\",IF('Ct Report'!C$6=0,\"\",IF(INDEX(INDIRECT(\"'Ct Report'!\"&$BG$24),MATCH(B53,INDIRECT(\"'Ct Report'!\"&$BF$24),0))=frmNoAmplification,frmZyklen,INDEX(INDIRECT(\"'Ct Report'!\"&$BG$24),MATCH(B53,INDIRECT(\"'Ct Report'!\"&$BF$24),0))*1)))","v":""},{"$f":"IF($B53<>\"\",IF('Ct Report'!H$6=0,\"\",INDEX(INDIRECT(\"'Ct Report'!\"&$BL$24),MATCH(B53,INDIRECT(\"'Ct Report'!\"&$BF$24),0))*1),\"\")","v":""},"","",{"$nulls":3},"",{"$f":"IF(ISNA(frmSystem),\"\",IF($B53=\"\",\"\",IF(frmAnzahlSysteme<3,\"\",IF('Ct Report'!I$6=0,\"\",INDEX(INDIRECT(\"'Ct Report'!\"&$BM$24),MATCH($B53,INDIRECT(\"'Ct Report'!\"&$BF$24),0))*1))))","v":""},"","",{"$nulls":3},"",{"$f":"IF(ISNA(frmSystem),\"\",IF($B53=\"\",\"\",IF(frmAnzahlSysteme<4,\"\",IF('Ct Report'!J$6=0,\"\",INDEX(INDIRECT(\"'Ct Report'!\"&$BN$24),MATCH($B53,INDIRECT(\"'Ct Report'!\"&$BF$24),0))*1))))","v":""},"","",{"$nulls":3},"",{"$f":"IF(ISNA(frmSystem),\"\",IF($B53=\"\",\"\",IF(frmAnzahlSysteme<5,\"\",IF('Ct Report'!K$6=0,\"\",INDEX(INDIRECT(\"'Ct Report'!\"&$BO$24),MATCH($B53,INDIRECT(\"'Ct Report'!\"&$BF$24),0))*1))))","v":""},"","",{"$nulls":3},{"$f":"IF($B53=\"\",\"\",IF('Ct Report'!G$6=0,\"\",IF(INDEX(INDIRECT(\"'Ct Report'!\"&$BK$24),MATCH($B53,INDIRECT(\"'Ct Report'!\"&$BF$24),0))=frmNoAmplification,frmZyklen,INDEX(INDIRECT(\"'Ct Report'!\"&$BK$24),MATCH($B53,INDIRECT(\"'Ct Report'!\"&$BF$24),0)))))","v":""},{"$f":"IF($B53=\"\",\"\",IF('Ct Report'!L$6=0,\"\",INDEX(INDIRECT(\"'Ct Report'!\"&$BP$24),MATCH($B53,INDIRECT(\"'Ct Report'!\"&$BF$24),0))*1))","v":""},"",{"$nulls":27},"","","","","",null,{"$error":"#N/A"},{"$error":"#N/A"},{"$error":"#N/A"},{"$error":"#N/A"},{"$error":"#N/A"},null,{"$error":"#N/A"},{"$error":"#N/A"},{"$error":"#N/A"},{"$error":"#N/A"},{"$error":"#N/A"},null,{"$error":"#N/A"},{"$error":"#N/A"},{"$error":"#N/A"},{"$error":"#N/A"},{"$error":"#N/A"},null,"","","","",null,0,null,"",{"$error":"#VALUE!"},{"$error":"#VALUE!"},{"$error":"#VALUE!"}]
[31,"C7",{"$error":"#NAME?"},{"$f":"IF(LEN($B54)=0,\"\",IF('Ct Report'!B$6=0,\"\",VLOOKUP($B54,INDIRECT(\"'Ct Report'!\"&$BE$22),2,FALSE)))","v":""},null,"U",{"$nulls":3},{"$error":"#NAME?"},{"$error":"#N/A"},{"$f":"IF($B54=\"\",\"\",IF('Ct Report'!C$6=0,\"\",IF(INDEX(INDIRECT(\"'Ct Report'!\"&$BG$24),MATCH(B54,INDIRECT(\"'Ct Report'!\"&$BF$24),0))=frmNoAmplification,frmZyklen,INDEX(INDIRECT(\"'Ct Report'!\"&$BG$24),MATCH(B54,INDIRECT(\"'Ct Report'!\"&$BF$24),0))*1)))","v":""},{"$f":"IF($B54<>\"\",IF('Ct Report'!H$6=0,\"\",INDEX(INDIRECT(\"'Ct Report'!\"&$BL$24),MATCH(B54,INDIRECT(\"'Ct Report'!\"&$BF$24),0))*1),\"\")","v":""},"","",{"$nulls":3},"",{"$f":"IF(ISNA(frmSystem),\"\",IF($B54=\"\",\"\",IF(frmAnzahlSysteme<3,\"\",IF('Ct Report'!I$6=0,\"\",INDEX(INDIRECT(\"'Ct Report'!\"&$BM$24),MATCH($B54,INDIRECT(\"'Ct Report'!\"&$BF$24),0))*1))))","v":""},"","",{"$nulls":3},"",{"$f":"IF(ISNA(frmSystem),\"\",IF($B54=\"\",\"\",IF(frmAnzahlSysteme<4,\"\",IF('Ct Report'!J$6=0,\"\",INDEX(INDIRECT(\"'Ct Report'!\"&$BN$24),MATCH($B54,INDIRECT(\"'Ct Report'!\"&$BF$24),0))*1))))","v":""},"","",{"$nulls":3},"",{"$f":"IF(ISNA(frmSystem),\"\",IF($B54=\"\",\"\",IF(frmAnzahlSysteme<5,\"\",IF('Ct Report'!K$6=0,\"\",INDEX(INDIRECT(\"'Ct Report'!\"&$BO$24),MATCH($B54,INDIRECT(\"'Ct Report'!\"&$BF$24),0))*1))))","v":""},"","",{"$nulls":3},{"$f":"IF($B54=\"\",\"\",IF('Ct Report'!G$6=0,\"\",IF(INDEX(INDIRECT(\"'Ct Report'!\"&$BK$24),MATCH($B54,INDIRECT(\"'Ct Report'!\"&$BF$24),0))=frmNoAmplification,frmZyklen,INDEX(INDIRECT(\"'Ct Report'!\"&$BK$24),MATCH($B54,INDIRECT(\"'Ct Report'!\"&$BF$24),0)))))","v":""},{"$f":"IF($B54=\"\",\"\",IF('Ct Report'!L$6=0,\"\",INDEX(INDIRECT(\"'Ct Report'!\"&$BP$24),MATCH($B54,INDIRECT(\"'Ct Report'!\"&$BF$24),0))*1))","v":""},"",{"$nulls":27},"","","","","",null,{"$error":"#N/A"},{"$error":"#N/A"},{"$error":"#N/A"},{"$error":"#N/A"},{"$error":"#N/A"},null,{"$error":"#N/A"},{"$error":"#N/A"},{"$error":"#N/A"},{"$error":"#N/A"},{"$error":"#N/A"},null,{"$error":"#N/A"},{"$error":"#N/A"},{"$error":"#N/A"},{"$error":"#N/A"},{"$error":"#N/A"},null,"","","","",null,0,null,"",{"$error":"#VALUE!"},{"$error":"#VALUE!"},{"$error":"#VALUE!"}]
[32,"C8",{"$error":"#NAME?"},{"$f":"IF(LEN($B55)=0,\"\",IF('Ct Report'!B$6=0,\"\",VLOOKUP($B55,INDIRECT(\"'Ct Report'!\"&$BE$22),2,FALSE)))","v":""},null,"U",{"$nulls":3},{"$error":"#NAME?"},{"$error":"#N/A"},{"$f":"IF($B55=\"\",\"\",IF('Ct Report'!C$6=0,\"\",IF(INDEX(INDIRECT(\"'Ct Report'!\"&$BG$24),MATCH(B55,INDIRECT(\"'Ct Report'!\"&$BF$24),0))=frmNoAmplification,frmZyklen,INDEX(INDIRECT(\"'Ct Report'!\"&$BG$24),MATCH(B55,INDIRECT(\"'Ct Report'!\"&$BF$24),0))*1)))","v":""},{"$f":"IF($B55<>\"\",IF('Ct Report'!H$6=0,\"\",INDEX(INDIRECT(\"'Ct Report'!\"&$BL$24),MATCH(B55,INDIRECT(\"'Ct Report'!\"&$BF$24),0))*1),\"\")","v":""},"","",{"$nulls":3},"",{"$f":"IF(ISNA(frmSystem),\"\",IF($B55=\"\",\"\",IF(frmAnzahlSysteme<3,\"\",IF('Ct Report'!I$6=0,\"\",INDEX(INDIRECT(\"'Ct Report'!\"&$BM$24),MATCH($B55,INDIRECT(\"'Ct Report'!\"&$BF$24),0))*1))))","v":""},"","",{"$nulls":3},"",{"$f":"IF(ISNA(frmSystem),\"\",IF($B55=\"\",\"\",IF(frmAnzahlSysteme<4,\"\",IF('Ct Report'!J$6=0,\"\",INDEX(INDIRECT(\"'Ct Report'!\"&$BN$24),MATCH($B55,INDIRECT(\"'Ct Report'!\"&$BF$24),0))*1))))","v":""},"","",{"$nulls":3},"",{"$f":"IF(ISNA(frmSystem),\"\",IF($B55=\"\",\"\",IF(frmAnzahlSysteme<5,\"\",IF('Ct Report'!K$6=0,\"\",INDEX(INDIRECT(\"'Ct Report'!\"&$BO$24),MATCH($B55,INDIRECT(\"'Ct Report'!\"&$BF$24),0))*1))))","v":""},"","",{"$nulls":3},{"$f":"IF($B55=\"\",\"\",IF('Ct Report'!G$6=0,\"\",IF(INDEX(INDIRECT(\"'Ct Report'!\"&$BK$24),MATCH($B55,INDIRECT(\"'Ct Report'!\"&$BF$24),0))=frmNoAmplification,frmZyklen,INDEX(INDIRECT(\"'Ct Report'!\"&$BK$24),MATCH($B55,INDIRECT(\"'Ct Report'!\"&$BF$24),0)))))","v":""},{"$f":"IF($B55=\"\",\"\",IF('Ct Report'!L$6=0,\"\",INDEX(INDIRECT(\"'Ct Report'!\"&$BP$24),MATCH($B55,INDIRECT(\"'Ct Report'!\"&$BF$24),0))*1))","v":""},"",{"$nulls":27},"","","","","",null,{"$error":"#N/A"},{"$error":"#N/A"},{"$error":"#N/A"},{"$error":"#N/A"},{"$error":"#N/A"},null,{"$error":"#N/A"},{"$error":"#N/A"},{"$error":"#N/A"},{"$error":"#N/A"},{"$error":"#N/A"},null,{"$error":"#N/A"},{"$error":"#N/A"},{"$error":"#N/A"},{"$error":"#N/A"},{"$error":"#N/A"},null,"","","","",null,0,null,"",{"$error":"#VALUE!"},{"$error":"#VALUE!"},{"$error":"#VALUE!"}]
[33,{"$f":"IF(LEN($A56)=0,\"\",VLOOKUP($A56,INDIRECT(\"tabLayout\"&frmLayout),2,FALSE))","v":"C9"},{"$error":"#NAME?"},{"$f":"IF(LEN($B56)=0,\"\",IF('Ct Report'!B$6=0,\"\",VLOOKUP($B56,INDIRECT(\"'Ct Report'!\"&$BE$22),2,FALSE)))","v":""},null,{"$f":"IF(LEN($A56)=0,\"\",VLOOKUP($A56,INDIRECT(\"tabLayout\"&frmLayout),3,FALSE))","v":"U"},{"$nulls":3},{"$f":"IF($B56<>\"\",IF(VLOOKUP($A56,tabPlattenLayout2,AS$23+4,FALSE)=\"./.\",\"\",VLOOKUP($A56,tabPlattenLayout2,AS$23+4,FALSE)*1),\"\")","v":{"$error":"#NAME?"}},{"$f":"IF(B56<>\"\",VLOOKUP(frmModul,tabPCRSysteme,5,FALSE),\"\")","v":{"$error":"#N/A"}},{"$f":"IF($B56=\"\",\"\",IF('Ct Report'!C$6=0,\"\",IF(INDEX(INDIRECT(\"'Ct Report'!\"&$BG$24),MATCH(B56,INDIRECT(\"'Ct Report'!\"&$BF$24),0))=frmNoAmplification,frmZyklen,INDEX(INDIRECT(\"'Ct Report'!\"&$BG$24),MATCH(B56,INDIRECT(\"'Ct Report'!\"&$BF$24),0))*1)))","v":""},{"$f":"IF($B56<>\"\",IF('Ct Report'!H$6=0,\"\",INDEX(INDIRECT(\"'Ct Report'!\"&$BL$24),MATCH(B56,INDIRECT(\"'Ct Report'!\"&$BF$24),0))*1),\"\")","v":""},{"$f":"IF(ISNA(frmSystem),\"\",IF(B56=\"\",\"\",IF(LEN(L$21)>0,\"\",INDEX(lstResultGMO2Short,MATCH($AP56&BT56,lstResultGMO2Def,0),0))))","v":""},{"$f":"IF(ISNA(frmSystem),\"\",IF($B52=\"\",\"\",IF(frmShiftAsymetrie=0,\"\",IF(N56=\"+\",\"\",IF($CU56>0,IF(HLOOKUP($CU56,$CY$18:$DM$22,2,FALSE)=0,\"S\",\"\"),\"\")))))","v":""},{"$nulls":3},{"$f":"IF(ISNA(frmSystem),\"\",IF($B56=\"\",\"\",IF(frmAnzahlSysteme<3,\"\",IF(LEN(S$21)>0,\"\",IF(INDEX(INDIRECT(\"'Ct Report'!\"&$BH$24),MATCH(B56,INDIRECT(\"'Ct Report'!\"&$BF$24),0))=frmNoAmplification,frmZyklen,INDEX(INDIRECT(\"'Ct Report'!\"&$BH$24),MATCH(B56,INDIRECT(\"'Ct Report'!\"&$BF$24),0))*1)))))","v":""},{"$f":"IF(ISNA(frmSystem),\"\",IF($B56=\"\",\"\",IF(frmAnzahlSysteme<3,\"\",IF('Ct Report'!I$6=0,\"\",INDEX(INDIRECT(\"'Ct Report'!\"&$BM$24),MATCH($B56,INDIRECT(\"'Ct Report'!\"&$BF$24),0))*1))))","v":""},{"$f":"IF(ISNA(frmSystem),\"\",IF(B56=\"\",\"\",IF(frmAnzahlSysteme<3,\"\",IF(LEN(S$21)>0,\"\",INDEX(lstResultGMO2Short,MATCH($AP56&BZ56,lstResultGMO2Def,0),0)))))","v":""},{"$f":"IF(ISNA(frmSystem),\"\",IF($B56=\"\",\"\",IF(frmAnzahlSysteme<3,\"\",IF(frmShiftAsymetrie=0,\"\",IF(U56=\"+\",\"\",IF($CU56>0,IF(HLOOKUP($CU56,$CY$18:$DM$22,3,FALSE)=0,\"S\",\"\"),\"\"))))))","v":""},{"$nulls":3},{"$f":"IF(ISNA(frmSystem),\"\",IF($B56=\"\",\"\",IF(frmAnzahlSysteme<4,\"\",IF(LEN(Z$21)>0,\"\",IF(INDEX(INDIRECT(\"'Ct Report'!\"&$BI$24),MATCH(B56,INDIRECT(\"'Ct Report'!\"&$BF$24),0))=frmNoAmplification,frmZyklen,INDEX(INDIRECT(\"'Ct Report'!\"&$BI$24),MATCH(B56,INDIRECT(\"'Ct Report'!\"&$BF$24),0))*1)))))","v":""},{"$f":"IF(ISNA(frmSystem),\"\",IF($B56=\"\",\"\",IF(frmAnzahlSysteme<4,\"\",IF('Ct Report'!J$6=0,\"\",INDEX(INDIRECT(\"'Ct Report'!\"&$BN$24),MATCH($B56,INDIRECT(\"'Ct Report'!\"&$BF$24),0))*1))))","v":""},{"$f":"IF(ISNA(frmSystem),\"\",IF(B56=\"\",\"\",IF(frmAnzahlSysteme<4,\"\",IF(LEN(Z$21)>0,\"\",INDEX(lstResultGMO2Short,MATCH($AP56&CF56,lstResultGMO2Def,0),0)))))","v":""},{"$f":"IF(ISNA(frmSystem),\"\",IF($B56=\"\",\"\",IF(frmAnzahlSysteme<4,\"\",IF(frmShiftAsymetrie=0,\"\",IF(AB56=\"+\",\"\",IF($CU56>0,IF(HLOOKUP($CU56,$CY$18:$DM$22,4,FALSE)=0,\"S\",\"\"),\"\"))))))","v":""},{"$nulls":3},{"$f":"IF(ISNA(frmSystem),\"\",IF($B56=\"\",\"\",IF(frmAnzahlSysteme<5,\"\",IF(INDEX(INDIRECT(\"'Ct Report'!\"&$BJ$24),MATCH(B56,INDIRECT(\"'Ct Report'!\"&$BF$24),0))=frmNoAmplification,frmZyklen,INDEX(INDIRECT(\"'Ct Report'!\"&$BJ$24),MATCH(B56,INDIRECT(\"'Ct Report'!\"&$BF$24),0))*1))))","v":""},{"$f":"IF(ISNA(frmSystem),\"\",IF($B56=\"\",\"\",IF(frmAnzahlSysteme<5,\"\",IF('Ct Report'!K$6=0,\"\",INDEX(INDIRECT(\"'Ct Report'!\"&$BO$24),MATCH($B56,INDIRECT(\"'Ct Report'!\"&$BF$24),0))*1))))","v":""},{"$f":"IF(ISNA(frmSystem),\"\",IF(B56=\"\",\"\",IF(frmAnzahlSysteme<5,\"\",IF(LEN(AG$21)>0,\"\",INDEX(lstResultGMO2Short,MATCH($AP56&CL56,lstResultGMO2Def,0),0)))))","v":""},{"$f":"IF(ISNA(frmSystem),\"\",IF($B56=\"\",\"\",IF(frmAnzahlSysteme<5,\"\",IF(frmShiftAsymetrie=0,\"\",IF(AI56=\"+\",\"\",IF($CU56>0,IF(HLOOKUP($CU56,$CY$18:$DM$22,5,FALSE)=0,\"S\",\"\"),\"\"))))))","v":""},{"$nulls":3},{"$f":"IF($B56=\"\",\"\",IF('Ct Report'!G$6=0,\"\",IF(INDEX(INDIRECT(\"'Ct Report'!\"&$BK$24),MATCH($B56,INDIRECT(\"'Ct Report'!\"&$BF$24),0))=frmNoAmplification,frmZyklen,INDEX(INDIRECT(\"'Ct Report'!\"&$BK$24),MATCH($B56,INDIRECT(\"'Ct Report'!\"&$BF$24),0)))))","v":""},{"$f":"IF($B56=\"\",\"\",IF('Ct Report'!L$6=0,\"\",INDEX(INDIRECT(\"'Ct Report'!\"&$BP$24),MATCH($B56,INDIRECT(\"'Ct Report'!\"&$BF$24),0))*1))","v":""},{"$f":"IF(ISNA(frmSystem),\"\",IF(B56=\"\",\"\",IF(LEN(AN$21)>0,\"\",IF(frmCqScoringSystem5,VLOOKUP(SUM(CR56:CS56),tabResultIPC,2,FALSE),VLOOKUP(SUM(CP56:CQ56),tabResultIPC,2,FALSE)))))","v":""},{"$nulls":27},{"$f":"IF(LEN($B56)=0,\"\",IF(L56=\"\",\"\",IF(L56=frmZyklen,0,IF(BU$18=TRUE,IF(L56<=frmCutOff1,10,0),IF(ISNUMBER(BR$12),IF(L56<=BS$12,20,IF(AND(L56>BS$12,L56<=frmCutOff1),10,0)),IF(L56<=frmCutOff1,10,0))))))","v":""},{"$f":"IF(B56=\"\",\"\",IF(M56=\"\",\"\",IF(BU$18=TRUE,IF(L56<=frmCutOff1,1,0),IF(ISNUMBER(frmRnLimit1Low),IF(AND(M56>=frmRnLimit1Low,M56<frmRnLimit1),2,IF(M56>=frmRnLimit1,1,0)),IF(M56>=frmRnLimit1,1,0)))))","v":""},{"$f":"IF(B56=\"\",\"\",IF(OR(BR56=\"\",BS56=\"\"),\"\",VLOOKUP(SUM(BR56:BS56),tabResultGMO,2,FALSE)))","v":""},{"$f":"IF(B56=\"\",\"\",IF(OR(BR56=\"\",BS56=\"\"),\"\",INDEX(lstResultGMO2,MATCH($AP56&BT56,lstResultGMO2Def,0),0)))","v":""},{"$f":"IF(LEN($B56)=0,\"\",IF(L56=\"\",\"\",IF(ISERROR(L56),0,IF(L56-System1_MwPos<=frmShiftAsymetrie,1,0))))","v":""},null,{"$f":"IF(LEN($B56)=0,\"\",IF(frmAnzahlSysteme<3,\"\",IF(S56=\"\",\"\",IF(S56=frmZyklen,0,IF(CA$18=TRUE,IF(S56<=frmCutOff2,10,1),IF(ISNUMBER(BX$12),IF(S56<=BY$12,20,IF(AND(S56>BY$12,S56<=frmCutOff2),10,0)),IF(S56<=frmCutOff2,10,0)))))))","v":{"$error":"#N/A"}},{"$f":"IF(B56=\"\",\"\",IF(frmAnzahlSysteme<3,\"\",IF(T56=\"\",\"\",IF(CA$18=TRUE,IF(S56<=frmCutOff2,1,1),IF(ISNUMBER(frmRnLimit2Low),IF(AND(T56>=frmRnLimit2Low,T56<frmRnLimit2),2,IF(T56>=frmRnLimit2,1,0)),IF(T56>=frmRnLimit2,1,0))))))","v":{"$error":"#N/A"}},{"$f":"IF($B56=\"\",\"\",IF(OR(BX56=\"\",BY56=\"\"),\"\",VLOOKUP(SUM(BX56:BY56),tabResultGMO,2,FALSE)))","v":{"$error":"#N/A"}},{"$f":"IF($B56=\"\",\"\",IF(OR(BX56=\"\",BY56=\"\"),\"\",INDEX(lstResultGMO2,MATCH($AP56&BZ56,lstResultGMO2Def,0),0)))","v":{"$error":"#N/A"}},{"$f":"IF(LEN($B56)=0,0,IF(frmAnzahlSysteme<3,0,IF(S56=\"\",0,IF(S56-System2_MwPos<=frmShiftAsymetrie,2,0))))","v":{"$error":"#N/A"}},null,{"$f":"IF(LEN($B56)=0,\"\",IF(frmAnzahlSysteme<4,\"\",IF(Z56=\"\",\"\",IF(Z56=frmZyklen,0,IF(CG$18=TRUE,IF(Z56<=frmCutOff3,10,0),IF(ISNUMBER(CD$12),IF(Z56<=CE$12,20,IF(AND(Z56>CE$12,Z56<=frmCutOff3),10,0)),IF(Z56<=frmCutOff3,10,0)))))))","v":{"$error":"#N/A"}},{"$f":"IF(B56=\"\",\"\",IF(frmAnzahlSysteme<4,\"\",IF(AA56=\"\",\"\",IF(CG$18=TRUE,IF(Z56<=frmCutOff3,1,0),IF(ISNUMBER(frmRnLimit3Low),IF(AND(AA56>=frmRnLimit3Low,AA56<frmRnLimit3),2,IF(AA56>=frmRnLimit3,1,0)),IF(AA56>=frmRnLimit3,1,0))))))","v":{"$error":"#N/A"}},{"$f":"IF($B56=\"\",\"\",IF(OR(CD56=\"\",CE56=\"\"),\"\",VLOOKUP(SUM(CD56:CE56),tabResultGMO,2,FALSE)))","v":{"$error":"#N/A"}},{"$f":"IF($B56=\"\",\"\",IF(OR(CD56=\"\",CE56=\"\"),\"\",INDEX(lstResultGMO2,MATCH($AP56&CF56,lstResultGMO2Def,0),0)))","v":{"$error":"#N/A"}},{"$f":"IF(LEN($B56)=0,0,IF(frmAnzahlSysteme<4,0,IF(Z56=\"\",0,IF(Z56-System3_MwPos<=frmShiftAsymetrie,4,0))))","v":{"$error":"#N/A"}},null,{"$f":"IF(LEN($B56)=0,\"\",IF(frmAnzahlSysteme<5,\"\",IF(AG56=\"\",\"\",IF(AG56=frmZyklen,0,IF(CM$18=TRUE,IF(AG56<=frmCutOff4,10,0),IF(ISNUMBER(CJ$12),IF(AG56<=CK$12,20,IF(AND(AG56>CK$12,AG56<=frmCutOff4),10,0)),IF(AG56<=frmCutOff4,10,0)))))))","v":{"$error":"#N/A"}},{"$f":"IF(B56=\"\",\"\",IF(frmAnzahlSysteme<5,\"\",IF(AH56=\"\",\"\",IF(CM$18=TRUE,IF(AG56<=frmCutOff4,1,0),IF(ISNUMBER(frmRnLimit4Low),IF(AND(AH56>=frmRnLimit4Low,AH56<frmRnLimit4),2,IF(AH56>=frmRnLimit4,1,0)),IF(AH56>=frmRnLimit4,1,0))))))","v":{"$error":"#N/A"}},{"$f":"IF($B56=\"\",\"\",IF(OR(CJ56=\"\",CK56=\"\"),\"\",VLOOKUP(SUM(CJ56:CK56),tabResultGMO,2,FALSE)))","v":{"$error":"#N/A"}},{"$f":"IF($B56=\"\",\"\",IF(OR(CJ56=\"\",CK56=\"\"),\"\",INDEX(lstResultGMO2,MATCH($AP56&CL56,lstResultGMO2Def,0),0)))","v":{"$error":"#N/A"}},{"$f":"IF(LEN($B56)=0,0,IF(frmAnzahlSysteme<5,0,IF(AG56=\"\",0,IF(AG56-System4_MwPos<=frmShiftAsymetrie,8,0))))","v":{"$error":"#N/A"}},null,{"$f":"IF(LEN($B56)=0,\"\",IF(AN56=\"\",\"\",IF(AN56=frmZyklen,0,IF(ISNUMBER(CP$12),IF(AN56<=CQ$12,200,IF(AND(AN56>CQ$12,AN56<=frmCutOffIPC),100,0)),IF(AN56<=frmCutOffIPC,100,0)))))","v":""},{"$f":"IF(B56=\"\",\"\",IF(AO56=\"\",\"\",IF(AO56>=frmRnLimitIPC,1000,0)))","v":""},{"$f":"IF(LEN($B56)=0,\"\",IF(AN56=\"\",\"\",IF(AN56=frmZyklen,0,IF(ISNUMBER(CP$12),IF(AN56<=CQ$12,100,IF(AND(AN56>CQ$12,AN56<=frmCutOffIPC),1100,0)),IF(AN56<=frmCutOffIPC,100,0)))))","v":""},{"$f":"IF(B56=\"\",\"\",IF(AO56=\"\",\"\",IF(frmCqScoringSystem5,0,IF(AO56>=frmRnLimitIPC,1000,1000))))","v":""},null,{"$f":"IF(IFERROR(frmShiftAsymetrie,0)<0,CHOOSE(frmAnzahlSysteme-1,CW56,CX56,CY56,CZ56),0)","v":0},null,"",{"$error":"#VALUE!"},{"$error":"#VALUE!"},{"$error":"#VALUE!"}]
[34,"C10",{"$error":"#NAME?"},{"$f":"IF(LEN($B57)=0,\"\",IF('Ct Report'!B$6=0,\"\",VLOOKUP($B57,INDIRECT(\"'Ct Report'!\"&$BE$22),2,FALSE)))","v":""},null,"U",{"$nulls":3},{"$error":"#NAME?"},{"$error":"#N/A"},{"$f":"IF($B57=\"\",\"\",IF('Ct Report'!C$6=0,\"\",IF(INDEX(INDIRECT(\"'Ct Report'!\"&$BG$24),MATCH(B57,INDIRECT(\"'Ct Report'!\"&$BF$24),0))=frmNoAmplification,frmZyklen,INDEX(INDIRECT(\"'Ct Report'!\"&$BG$24),MATCH(B57,INDIRECT(\"'Ct Report'!\"&$BF$24),0))*1)))","v":""},{"$f":"IF($B57<>\"\",IF('Ct Report'!H$6=0,\"\",INDEX(INDIRECT(\"'Ct Report'!\"&$BL$24),MATCH(B57,INDIRECT(\"'Ct Report'!\"&$BF$24),0))*1),\"\")","v":""},"","",{"$nulls":3},"",{"$f":"IF(ISNA(frmSystem),\"\",IF($B57=\"\",\"\",IF(frmAnzahlSysteme<3,\"\",IF('Ct Report'!I$6=0,\"\",INDEX(INDIRECT(\"'Ct Report'!\"&$BM$24),MATCH($B57,INDIRECT(\"'Ct Report'!\"&$BF$24),0))*1))))","v":""},"","",{"$nulls":3},"",{"$f":"IF(ISNA(frmSystem),\"\",IF($B57=\"\",\"\",IF(frmAnzahlSysteme<4,\"\",IF('Ct Report'!J$6=0,\"\",INDEX(INDIRECT(\"'Ct Report'!\"&$BN$24),MATCH($B57,INDIRECT(\"'Ct Report'!\"&$BF$24),0))*1))))","v":""},"","",{"$nulls":3},"",{"$f":"IF(ISNA(frmSystem),\"\",IF($B57=\"\",\"\",IF(frmAnzahlSysteme<5,\"\",IF('Ct Report'!K$6=0,\"\",INDEX(INDIRECT(\"'Ct Report'!\"&$BO$24),MATCH($B57,INDIRECT(\"'Ct Report'!\"&$BF$24),0))*1))))","v":""},"","",{"$nulls":3},{"$f":"IF($B57=\"\",\"\",IF('Ct Report'!G$6=0,\"\",IF(INDEX(INDIRECT(\"'Ct Report'!\"&$BK$24),MATCH($B57,INDIRECT(\"'Ct Report'!\"&$BF$24),0))=frmNoAmplification,frmZyklen,INDEX(INDIRECT(\"'Ct Report'!\"&$BK$24),MATCH($B57,INDIRECT(\"'Ct Report'!\"&$BF$24),0)))))","v":""},{"$f":"IF($B57=\"\",\"\",IF('Ct Report'!L$6=0,\"\",INDEX(INDIRECT(\"'Ct Report'!\"&$BP$24),MATCH($B57,INDIRECT(\"'Ct Report'!\"&$BF$24),0))*1))","v":""},"",{"$nulls":27},"","","","","",null,{"$error":"#N/A"},{"$error":"#N/A"},{"$error":"#N/A"},{"$error":"#N/A"},{"$error":"#N/A"},null,{"$error":"#N/A"},{"$error":"#N/A"},{"$error":"#N/A"},{"$error":"#N/A"},{"$error":"#N/A"},null,{"$error":"#N/A"},{"$error":"#N/A"},{"$error":"#N/A"},{"$error":"#N/A"},{"$error":"#N/A"},null,"","","","",null,0,null,"",{"$error":"#VALUE!"},{"$error":"#VALUE!"},{"$error":"#VALUE!"}]
[35,"C11",{"$error":"#NAME?"},{"$f":"IF(LEN($B58)=0,\"\",IF('Ct Report'!B$6=0,\"\",VLOOKUP($B58,INDIRECT(\"'Ct Report'!\"&$BE$22),2,FALSE)))","v":""},null,"U",{"$nulls":3},{"$error":"#NAME?"},{"$error":"#N/A"},{"$f":"IF($B58=\"\",\"\",IF('Ct Report'!C$6=0,\"\",IF(INDEX(INDIRECT(\"'Ct Report'!\"&$BG$24),MATCH(B58,INDIRECT(\"'Ct Report'!\"&$BF$24),0))=frmNoAmplification,frmZyklen,INDEX(INDIRECT(\"'Ct Report'!\"&$BG$24),MATCH(B58,INDIRECT(\"'Ct Report'!\"&$BF$24),0))*1)))","v":""},{"$f":"IF($B58<>\"\",IF('Ct Report'!H$6=0,\"\",INDEX(INDIRECT(\"'Ct Report'!\"&$BL$24),MATCH(B58,INDIRECT(\"'Ct Report'!\"&$BF$24),0))*1),\"\")","v":""},"","",{"$nulls":3},"",{"$f":"IF(ISNA(frmSystem),\"\",IF($B58=\"\",\"\",IF(frmAnzahlSysteme<3,\"\",IF('Ct Report'!I$6=0,\"\",INDEX(INDIRECT(\"'Ct Report'!\"&$BM$24),MATCH($B58,INDIRECT(\"'Ct Report'!\"&$BF$24),0))*1))))","v":""},"","",{"$nulls":3},"",{"$f":"IF(ISNA(frmSystem),\"\",IF($B58=\"\",\"\",IF(frmAnzahlSysteme<4,\"\",IF('Ct Report'!J$6=0,\"\",INDEX(INDIRECT(\"'Ct Report'!\"&$BN$24),MATCH($B58,INDIRECT(\"'Ct Report'!\"&$BF$24),0))*1))))","v":""},"","",{"$nulls":3},"",{"$f":"IF(ISNA(frmSystem),\"\",IF($B58=\"\",\"\",IF(frmAnzahlSysteme<5,\"\",IF('Ct Report'!K$6=0,\"\",INDEX(INDIRECT(\"'Ct Report'!\"&$BO$24),MATCH($B58,INDIRECT(\"'Ct Report'!\"&$BF$24),0))*1))))","v":""},"","",{"$nulls":3},{"$f":"IF($B58=\"\",\"\",IF('Ct Report'!G$6=0,\"\",IF(INDEX(INDIRECT(\"'Ct Report'!\"&$BK$24),MATCH($B58,INDIRECT(\"'Ct Report'!\"&$BF$24),0))=frmNoAmplification,frmZyklen,INDEX(INDIRECT(\"'Ct Report'!\"&$BK$24),MATCH($B58,INDIRECT(\"'Ct Report'!\"&$BF$24),0)))))","v":""},{"$f":"IF($B58=\"\",\"\",IF('Ct Report'!L$6=0,\"\",INDEX(INDIRECT(\"'Ct Report'!\"&$BP$24),MATCH($B58,INDIRECT(\"'Ct Report'!\"&$BF$24),0))*1))","v":""},"",{"$nulls":27},"","","","","",null,{"$error":"#N/A"},{"$error":"#N/A"},{"$error":"#N/A"},{"$error":"#N/A"},{"$error":"#N/A"},null,{"$error":"#N/A"},{"$error":"#N/A"},{"$error":"#N/A"},{"$error":"#N/A"},{"$error":"#N/A"},null,{"$error":"#N/A"},{"$error":"#N/A"},{"$error":"#N/A"},{"$error":"#N/A"},{"$error":"#N/A"},null,"","","","",null,0,null,"",{"$error":"#VALUE!"},{"$error":"#VALUE!"},{"$error":"#VALUE!"}]
[36,"C12",{"$error":"#NAME?"},{"$f":"IF(LEN($B59)=0,\"\",IF('Ct Report'!B$6=0,\"\",VLOOKUP($B59,INDIRECT(\"'Ct Report'!\"&$BE$22),2,FALSE)))","v":""},null,"U",{"$nulls":3},{"$error":"#NAME?"},{"$error":"#N/A"},{"$f":"IF($B59=\"\",\"\",IF('Ct Report'!C$6=0,\"\",IF(INDEX(INDIRECT(\"'Ct Report'!\"&$BG$24),MATCH(B59,INDIRECT(\"'Ct Report'!\"&$BF$24),0))=frmNoAmplification,frmZyklen,INDEX(INDIRECT(\"'Ct Report'!\"&$BG$24),MATCH(B59,INDIRECT(\"'Ct Report'!\"&$BF$24),0))*1)))","v":""},{"$f":"IF($B59<>\"\",IF('Ct Report'!H$6=0,\"\",INDEX(INDIRECT(\"'Ct Report'!\"&$BL$24),MATCH(B59,INDIRECT(\"'Ct Report'!\"&$BF$24),0))*1),\"\")","v":""},"","",{"$nulls":3},"",{"$f":"IF(ISNA(frmSystem),\"\",IF($B59=\"\",\"\",IF(frmAnzahlSysteme<3,\"\",IF('Ct Report'!I$6=0,\"\",INDEX(INDIRECT(\"'Ct Report'!\"&$BM$24),MATCH($B59,INDIRECT(\"'Ct Report'!\"&$BF$24),0))*1))))","v":""},"","",{"$nulls":3},"",{"$f":"IF(ISNA(frmSystem),\"\",IF($B59=\"\",\"\",IF(frmAnzahlSysteme<4,\"\",IF('Ct Report'!J$6=0,\"\",INDEX(INDIRECT(\"'Ct Report'!\"&$BN$24),MATCH($B59,INDIRECT(\"'Ct Report'!\"&$BF$24),0))*1))))","v":""},"","",{"$nulls":3},"",{"$f":"IF(ISNA(frmSystem),\"\",IF($B59=\"\",\"\",IF(frmAnzahlSysteme<5,\"\",IF('Ct Report'!K$6=0,\"\",INDEX(INDIRECT(\"'Ct Report'!\"&$BO$24),MATCH($B59,INDIRECT(\"'Ct Report'!\"&$BF$24),0))*1))))","v":""},"","",{"$nulls":3},{"$f":"IF($B59=\"\",\"\",IF('Ct Report'!G$6=0,\"\",IF(INDEX(INDIRECT(\"'Ct Report'!\"&$BK$24),MATCH($B59,INDIRECT(\"'Ct Report'!\"&$BF$24),0))=frmNoAmplification,frmZyklen,INDEX(INDIRECT(\"'Ct Report'!\"&$BK$24),MATCH($B59,INDIRECT(\"'Ct Report'!\"&$BF$24),0)))))","v":""},{"$f":"IF($B59=\"\",\"\",IF('Ct Report'!L$6=0,\"\",INDEX(INDIRECT(\"'Ct Report'!\"&$BP$24),MATCH($B59,INDIRECT(\"'Ct Report'!\"&$BF$24),0))*1))","v":""},"",{"$nulls":27},"","","","","",null,{"$error":"#N/A"},{"$error":"#N/A"},{"$error":"#N/A"},{"$error":"#N/A"},{"$error":"#N/A"},null,{"$error":"#N/A"},{"$error":"#N/A"},{"$error":"#N/A"},{"$error":"#N/A"},{"$error":"#N/A"},null,{"$error":"#N/A"},{"$error":"#N/A"},{"$error":"#N/A"},{"$error":"#N/A"},{"$error":"#N/A"},null,"","","","",null,0,null,"",{"$error":"#VALUE!"},{"$error":"#VALUE!"},{"$error":"#VALUE!"}]
[37,"D1",{"$error":"#NAME?"},{"$f":"IF(LEN($B60)=0,\"\",IF('Ct Report'!B$6=0,\"\",VLOOKUP($B60,INDIRECT(\"'Ct Report'!\"&$BE$22),2,FALSE)))","v":""},null,"U",{"$nulls":3},{"$error":"#NAME?"},{"$error":"#N/A"},{"$f":"IF($B60=\"\",\"\",IF('Ct Report'!C$6=0,\"\",IF(INDEX(INDIRECT(\"'Ct Report'!\"&$BG$24),MATCH(B60,INDIRECT(\"'Ct Report'!\"&$BF$24),0))=frmNoAmplification,frmZyklen,INDEX(INDIRECT(\"'Ct Report'!\"&$BG$24),MATCH(B60,INDIRECT(\"'Ct Report'!\"&$BF$24),0))*1)))","v":""},{"$f":"IF($B60<>\"\",IF('Ct Report'!H$6=0,\"\",INDEX(INDIRECT(\"'Ct Report'!\"&$BL$24),MATCH(B60,INDIRECT(\"'Ct Report'!\"&$BF$24),0))*1),\"\")","v":""},"","",{"$nulls":3},"",{"$f":"IF(ISNA(frmSystem),\"\",IF($B60=\"\",\"\",IF(frmAnzahlSysteme<3,\"\",IF('Ct Report'!I$6=0,\"\",INDEX(INDIRECT(\"'Ct Report'!\"&$BM$24),MATCH($B60,INDIRECT(\"'Ct Report'!\"&$BF$24),0))*1))))","v":""},"","",{"$nulls":3},"",{"$f":"IF(ISNA(frmSystem),\"\",IF($B60=\"\",\"\",IF(frmAnzahlSysteme<4,\"\",IF('Ct Report'!J$6=0,\"\",INDEX(INDIRECT(\"'Ct Report'!\"&$BN$24),MATCH($B60,INDIRECT(\"'Ct Report'!\"&$BF$24),0))*1))))","v":""},"","",{"$nulls":3},"",{"$f":"IF(ISNA(frmSystem),\"\",IF($B60=\"\",\"\",IF(frmAnzahlSysteme<5,\"\",IF('Ct Report'!K$6=0,\"\",INDEX(INDIRECT(\"'Ct Report'!\"&$BO$24),MATCH($B60,INDIRECT(\"'Ct Report'!\"&$BF$24),0))*1))))","v":""},"","",{"$nulls":3},{"$f":"IF($B60=\"\",\"\",IF('Ct Report'!G$6=0,\"\",IF(INDEX(INDIRECT(\"'Ct Report'!\"&$BK$24),MATCH($B60,INDIRECT(\"'Ct Report'!\"&$BF$24),0))=frmNoAmplification,frmZyklen,INDEX(INDIRECT(\"'Ct Report'!\"&$BK$24),MATCH($B60,INDIRECT(\"'Ct Report'!\"&$BF$24),0)))))","v":""},{"$f":"IF($B60=\"\",\"\",IF('Ct Report'!L$6=0,\"\",INDEX(INDIRECT(\"'Ct Report'!\"&$BP$24),MATCH($B60,INDIRECT(\"'Ct Report'!\"&$BF$24),0))*1))","v":""},"",{"$nulls":27},"","","","","",null,{"$error":"#N/A"},{"$error":"#N/A"},{"$error":"#N/A"},{"$error":"#N/A"},{"$error":"#N/A"},null,{"$error":"#N/A"},{"$error":"#N/A"},{"$error":"#N/A"},{"$error":"#N/A"},{"$error":"#N/A"},null,{"$error":"#N/A"},{"$error":"#N/A"},{"$error":"#N/A"},{"$error":"#N/A"},{"$error":"#N/A"},null,"","","","",null,0,null,"",{"$error":"#VALUE!"},{"$error":"#VALUE!"},{"$error":"#VALUE!"}]
[38,"D2",{"$error":"#NAME?"},{"$f":"IF(LEN($B61)=0,\"\",IF('Ct Report'!B$6=0,\"\",VLOOKUP($B61,INDIRECT(\"'Ct Report'!\"&$BE$22),2,FALSE)))","v":""},null,"U",{"$nulls":3},{"$error":"#NAME?"},{"$error":"#N/A"},{"$f":"IF($B61=\"\",\"\",IF('Ct Report'!C$6=0,\"\",IF(INDEX(INDIRECT(\"'Ct Report'!\"&$BG$24),MATCH(B61,INDIRECT(\"'Ct Report'!\"&$BF$24),0))=frmNoAmplification,frmZyklen,INDEX(INDIRECT(\"'Ct Report'!\"&$BG$24),MATCH(B61,INDIRECT(\"'Ct Report'!\"&$BF$24),0))*1)))","v":""},{"$f":"IF($B61<>\"\",IF('Ct Report'!H$6=0,\"\",INDEX(INDIRECT(\"'Ct Report'!\"&$BL$24),MATCH(B61,INDIRECT(\"'Ct Report'!\"&$BF$24),0))*1),\"\")","v":""},"","",{"$nulls":3},"",{"$f":"IF(ISNA(frmSystem),\"\",IF($B61=\"\",\"\",IF(frmAnzahlSysteme<3,\"\",IF('Ct Report'!I$6=0,\"\",INDEX(INDIRECT(\"'Ct Report'!\"&$BM$24),MATCH($B61,INDIRECT(\"'Ct Report'!\"&$BF$24),0))*1))))","v":""},"","",{"$nulls":3},"",{"$f":"IF(ISNA(frmSystem),\"\",IF($B61=\"\",\"\",IF(frmAnzahlSysteme<4,\"\",IF('Ct Report'!J$6=0,\"\",INDEX(INDIRECT(\"'Ct Report'!\"&$BN$24),MATCH($B61,INDIRECT(\"'Ct Report'!\"&$BF$24),0))*1))))","v":""},"","",{"$nulls":3},"",{"$f":"IF(ISNA(frmSystem),\"\",IF($B61=\"\",\"\",IF(frmAnzahlSysteme<5,\"\",IF('Ct Report'!K$6=0,\"\",INDEX(INDIRECT(\"'Ct Report'!\"&$BO$24),MATCH($B61,INDIRECT(\"'Ct Report'!\"&$BF$24),0))*1))))","v":""},"","",{"$nulls":3},{"$f":"IF($B61=\"\",\"\",IF('Ct Report'!G$6=0,\"\",IF(INDEX(INDIRECT(\"'Ct Report'!\"&$BK$24),MATCH($B61,INDIRECT(\"'Ct Report'!\"&$BF$24),0))=frmNoAmplification,frmZyklen,INDEX(INDIRECT(\"'Ct Report'!\"&$BK$24),MATCH($B61,INDIRECT(\"'Ct Report'!\"&$BF$24),0)))))","v":""},{"$f":"IF($B61=\"\",\"\",IF('Ct Report'!L$6=0,\"\",INDEX(INDIRECT(\"'Ct Report'!\"&$BP$24),MATCH($B61,INDIRECT(\"'Ct Report'!\"&$BF$24),0))*1))","v":""},"",{"$nulls":27},"","","","","",null,{"$error":"#N/A"},{"$error":"#N/A"},{"$error":"#N/A"},{"$error":"#N/A"},{"$error":"#N/A"},null,{"$error":"#N/A"},{"$error":"#N/A"},{"$error":"#N/A"},{"$error":"#N/A"},{"$error":"#N/A"},null,{"$error":"#N/A"},{"$error":"#N/A"},{"$error":"#N/A"},{"$error":"#N/A"},{"$error":"#N/A"},null,"","","","",null,0,null,"",{"$error":"#VALUE!"},{"$error":"#VALUE!"},{"$error":"#VALUE!"}]
[39,"D3",{"$error":"#NAME?"},{"$f":"IF(LEN($B62)=0,\"\",IF('Ct Report'!B$6=0,\"\",VLOOKUP($B62,INDIRECT(\"'Ct Report'!\"&$BE$22),2,FALSE)))","v":""},null,"U",{"$nulls":3},{"$error":"#NAME?"},{"$error":"#N/A"},{"$f":"IF($B62=\"\",\"\",IF('Ct Report'!C$6=0,\"\",IF(INDEX(INDIRECT(\"'Ct Report'!\"&$BG$24),MATCH(B62,INDIRECT(\"'Ct Report'!\"&$BF$24),0))=frmNoAmplification,frmZyklen,INDEX(INDIRECT(\"'Ct Report'!\"&$BG$24),MATCH(B62,INDIRECT(\"'Ct Report'!\"&$BF$24),0))*1)))","v":""},{"$f":"IF($B62<>\"\",IF('Ct Report'!H$6=0,\"\",INDEX(INDIRECT(\"'Ct Report'!\"&$BL$24),MATCH(B62,INDIRECT(\"'Ct Report'!\"&$BF$24),0))*1),\"\")","v":""},"","",{"$nulls":3},"",{"$f":"IF(ISNA(frmSystem),\"\",IF($B62=\"\",\"\",IF(frmAnzahlSysteme<3,\"\",IF('Ct Report'!I$6=0,\"\",INDEX(INDIRECT(\"'Ct Report'!\"&$BM$24),MATCH($B62,INDIRECT(\"'Ct Report'!\"&$BF$24),0))*1))))","v":""},"","",{"$nulls":3},"",{"$f":"IF(ISNA(frmSystem),\"\",IF($B62=\"\",\"\",IF(frmAnzahlSysteme<4,\"\",IF('Ct Report'!J$6=0,\"\",INDEX(INDIRECT(\"'Ct Report'!\"&$BN$24),MATCH($B62,INDIRECT(\"'Ct Report'!\"&$BF$24),0))*1))))","v":""},"","",{"$nulls":3},"",{"$f":"IF(ISNA(frmSystem),\"\",IF($B62=\"\",\"\",IF(frmAnzahlSysteme<5,\"\",IF('Ct Report'!K$6=0,\"\",INDEX(INDIRECT(\"'Ct Report'!\"&$BO$24),MATCH($B62,INDIRECT(\"'Ct Report'!\"&$BF$24),0))*1))))","v":""},"","",{"$nulls":3},{"$f":"IF($B62=\"\",\"\",IF('Ct Report'!G$6=0,\"\",IF(INDEX(INDIRECT(\"'Ct Report'!\"&$BK$24),MATCH($B62,INDIRECT(\"'Ct Report'!\"&$BF$24),0))=frmNoAmplification,frmZyklen,INDEX(INDIRECT(\"'Ct Report'!\"&$BK$24),MATCH($B62,INDIRECT(\"'Ct Report'!\"&$BF$24),0)))))","v":""},{"$f":"IF($B62=\"\",\"\",IF('Ct Report'!L$6=0,\"\",INDEX(INDIRECT(\"'Ct Report'!\"&$BP$24),MATCH($B62,INDIRECT(\"'Ct Report'!\"&$BF$24),0))*1))","v":""},"",{"$nulls":27},"","","","","",null,{"$error":"#N/A"},{"$error":"#N/A"},{"$error":"#N/A"},{"$error":"#N/A"},{"$error":"#N/A"},null,{"$error":"#N/A"},{"$error":"#N/A"},{"$error":"#N/A"},{"$error":"#N/A"},{"$error":"#N/A"},null,{"$error":"#N/A"},{"$error":"#N/A"},{"$error":"#N/A"},{"$error":"#N/A"},{"$error":"#N/A"},null,"","","","",null,0,null,"",{"$error":"#VALUE!"},{"$error":"#VALUE!"},{"$error":"#VALUE!"}]
[40,"D4",{"$error":"#NAME?"},{"$f":"IF(LEN($B63)=0,\"\",IF('Ct Report'!B$6=0,\"\",VLOOKUP($B63,INDIRECT(\"'Ct Report'!\"&$BE$22),2,FALSE)))","v":""},null,"U",{"$nulls":3},{"$error":"#NAME?"},{"$error":"#N/A"},{"$f":"IF($B63=\"\",\"\",IF('Ct Report'!C$6=0,\"\",IF(INDEX(INDIRECT(\"'Ct Report'!\"&$BG$24),MATCH(B63,INDIRECT(\"'Ct Report'!\"&$BF$24),0))=frmNoAmplification,frmZyklen,INDEX(INDIRECT(\"'Ct Report'!\"&$BG$24),MATCH(B63,INDIRECT(\"'Ct Report'!\"&$BF$24),0))*1)))","v":""},{"$f":"IF($B63<>\"\",IF('Ct Report'!H$6=0,\"\",INDEX(INDIRECT(\"'Ct Report'!\"&$BL$24),MATCH(B63,INDIRECT(\"'Ct Report'!\"&$BF$24),0))*1),\"\")","v":""},"","",{"$nulls":3},"",{"$f":"IF(ISNA(frmSystem),\"\",IF($B63=\"\",\"\",IF(frmAnzahlSysteme<3,\"\",IF('Ct Report'!I$6=0,\"\",INDEX(INDIRECT(\"'Ct Report'!\"&$BM$24),MATCH($B63,INDIRECT(\"'Ct Report'!\"&$BF$24),0))*1))))","v":""},"","",{"$nulls":3},"",{"$f":"IF(ISNA(frmSystem),\"\",IF($B63=\"\",\"\",IF(frmAnzahlSysteme<4,\"\",IF('Ct Report'!J$6=0,\"\",INDEX(INDIRECT(\"'Ct Report'!\"&$BN$24),MATCH($B63,INDIRECT(\"'Ct Report'!\"&$BF$24),0))*1))))","v":""},"","",{"$nulls":3},"",{"$f":"IF(ISNA(frmSystem),\"\",IF($B63=\"\",\"\",IF(frmAnzahlSysteme<5,\"\",IF('Ct Report'!K$6=0,\"\",INDEX(INDIRECT(\"'Ct Report'!\"&$BO$24),MATCH($B63,INDIRECT(\"'Ct Report'!\"&$BF$24),0))*1))))","v":""},"","",{"$nulls":3},{"$f":"IF($B63=\"\",\"\",IF('Ct Report'!G$6=0,\"\",IF(INDEX(INDIRECT(\"'Ct Report'!\"&$BK$24),MATCH($B63,INDIRECT(\"'Ct Report'!\"&$BF$24),0))=frmNoAmplification,frmZyklen,INDEX(INDIRECT(\"'Ct Report'!\"&$BK$24),MATCH($B63,INDIRECT(\"'Ct Report'!\"&$BF$24),0)))))","v":""},{"$f":"IF($B63=\"\",\"\",IF('Ct Report'!L$6=0,\"\",INDEX(INDIRECT(\"'Ct Report'!\"&$BP$24),MATCH($B63,INDIRECT(\"'Ct Report'!\"&$BF$24),0))*1))","v":""},"",{"$nulls":27},"","","","","",null,{"$error":"#N/A"},{"$error":"#N/A"},{"$error":"#N/A"},{"$error":"#N/A"},{"$error":"#N/A"},null,{"$error":"#N/A"},{"$error":"#N/A"},{"$error":"#N/A"},{"$error":"#N/A"},{"$error":"#N/A"},null,{"$error":"#N/A"},{"$error":"#N/A"},{"$error":"#N/A"},{"$error":"#N/A"},{"$error":"#N/A"},null,"","","","",null,0,null,"",{"$error":"#VALUE!"},{"$error":"#VALUE!"},{"$error":"#VALUE!"}]
[41,"D5",{"$error":"#NAME?"},{"$f":"IF(LEN($B64)=0,\"\",IF('Ct Report'!B$6=0,\"\",VLOOKUP($B64,INDIRECT(\"'Ct Report'!\"&$BE$22),2,FALSE)))","v":""},null,"U",{"$nulls":3},{"$error":"#NAME?"},{"$error":"#N/A"},{"$f":"IF($B64=\"\",\"\",IF('Ct Report'!C$6=0,\"\",IF(INDEX(INDIRECT(\"'Ct Report'!\"&$BG$24),MATCH(B64,INDIRECT(\"'Ct Report'!\"&$BF$24),0))=frmNoAmplification,frmZyklen,INDEX(INDIRECT(\"'Ct Report'!\"&$BG$24),MATCH(B64,INDIRECT(\"'Ct Report'!\"&$BF$24),0))*1)))","v":""},{"$f":"IF($B64<>\"\",IF('Ct Report'!H$6=0,\"\",INDEX(INDIRECT(\"'Ct Report'!\"&$BL$24),MATCH(B64,INDIRECT(\"'Ct Report'!\"&$BF$24),0))*1),\"\")","v":""},"","",{"$nulls":3},"",{"$f":"IF(ISNA(frmSystem),\"\",IF($B64=\"\",\"\",IF(frmAnzahlSysteme<3,\"\",IF('Ct Report'!I$6=0,\"\",INDEX(INDIRECT(\"'Ct Report'!\"&$BM$24),MATCH($B64,INDIRECT(\"'Ct Report'!\"&$BF$24),0))*1))))","v":""},"","",{"$nulls":3},"",{"$f":"IF(ISNA(frmSystem),\"\",IF($B64=\"\",\"\",IF(frmAnzahlSysteme<4,\"\",IF('Ct Report'!J$6=0,\"\",INDEX(INDIRECT(\"'Ct Report'!\"&$BN$24),MATCH($B64,INDIRECT(\"'Ct Report'!\"&$BF$24),0))*1))))","v":""},"","",{"$nulls":3},"",{"$f":"IF(ISNA(frmSystem),\"\",IF($B64=\"\",\"\",IF(frmAnzahlSysteme<5,\"\",IF('Ct Report'!K$6=0,\"\",INDEX(INDIRECT(\"'Ct Report'!\"&$BO$24),MATCH($B64,INDIRECT(\"'Ct Report'!\"&$BF$24),0))*1))))","v":""},"","",{"$nulls":3},{"$f":"IF($B64=\"\",\"\",IF('Ct Report'!G$6=0,\"\",IF(INDEX(INDIRECT(\"'Ct Report'!\"&$BK$24),MATCH($B64,INDIRECT(\"'Ct Report'!\"&$BF$24),0))=frmNoAmplification,frmZyklen,INDEX(INDIRECT(\"'Ct Report'!\"&$BK$24),MATCH($B64,INDIRECT(\"'Ct Report'!\"&$BF$24),0)))))","v":""},{"$f":"IF($B64=\"\",\"\",IF('Ct Report'!L$6=0,\"\",INDEX(INDIRECT(\"'Ct Report'!\"&$BP$24),MATCH($B64,INDIRECT(\"'Ct Report'!\"&$BF$24),0))*1))","v":""},"",{"$nulls":27},"","","","","",null,{"$error":"#N/A"},{"$error":"#N/A"},{"$error":"#N/A"},{"$error":"#N/A"},{"$error":"#N/A"},null,{"$error":"#N/A"},{"$error":"#N/A"},{"$error":"#N/A"},{"$error":"#N/A"},{"$error":"#N/A"},null,{"$error":"#N/A"},{"$error":"#N/A"},{"$error":"#N/A"},{"$error":"#N/A"},{"$error":"#N/A"},null,"","","","",null,0,null,"",{"$error":"#VALUE!"},{"$error":"#VALUE!"},{"$error":"#VALUE!"}]
[42,"D6",{"$error":"#NAME?"},{"$f":"IF(LEN($B65)=0,\"\",IF('Ct Report'!B$6=0,\"\",VLOOKUP($B65,INDIRECT(\"'Ct Report'!\"&$BE$22),2,FALSE)))","v":""},null,"U",{"$nulls":3},{"$error":"#NAME?"},{"$error":"#N/A"},{"$f":"IF($B65=\"\",\"\",IF('Ct Report'!C$6=0,\"\",IF(INDEX(INDIRECT(\"'Ct Report'!\"&$BG$24),MATCH(B65,INDIRECT(\"'Ct Report'!\"&$BF$24),0))=frmNoAmplification,frmZyklen,INDEX(INDIRECT(\"'Ct Report'!\"&$BG$24),MATCH(B65,INDIRECT(\"'Ct Report'!\"&$BF$24),0))*1)))","v":""},{"$f":"IF($B65<>\"\",IF('Ct Report'!H$6=0,\"\",INDEX(INDIRECT(\"'Ct Report'!\"&$BL$24),MATCH(B65,INDIRECT(\"'Ct Report'!\"&$BF$24),0))*1),\"\")","v":""},"","",{"$nulls":3},"",{"$f":"IF(ISNA(frmSystem),\"\",IF($B65=\"\",\"\",IF(frmAnzahlSysteme<3,\"\",IF('Ct Report'!I$6=0,\"\",INDEX(INDIRECT(\"'Ct Report'!\"&$BM$24),MATCH($B65,INDIRECT(\"'Ct Report'!\"&$BF$24),0))*1))))","v":""},"","",{"$nulls":3},"",{"$f":"IF(ISNA(frmSystem),\"\",IF($B65=\"\",\"\",IF(frmAnzahlSysteme<4,\"\",IF('Ct Report'!J$6=0,\"\",INDEX(INDIRECT(\"'Ct Report'!\"&$BN$24),MATCH($B65,INDIRECT(\"'Ct Report'!\"&$BF$24),0))*1))))","v":""},"","",{"$nulls":3},"",{"$f":"IF(ISNA(frmSystem),\"\",IF($B65=\"\",\"\",IF(frmAnzahlSysteme<5,\"\",IF('Ct Report'!K$6=0,\"\",INDEX(INDIRECT(\"'Ct Report'!\"&$BO$24),MATCH($B65,INDIRECT(\"'Ct Report'!\"&$BF$24),0))*1))))","v":""},"","",{"$nulls":3},{"$f":"IF($B65=\"\",\"\",IF('Ct Report'!G$6=0,\"\",IF(INDEX(INDIRECT(\"'Ct Report'!\"&$BK$24),MATCH($B65,INDIRECT(\"'Ct Report'!\"&$BF$24),0))=frmNoAmplification,frmZyklen,INDEX(INDIRECT(\"'Ct Report'!\"&$BK$24),MATCH($B65,INDIRECT(\"'Ct Report'!\"&$BF$24),0)))))","v":""},{"$f":"IF($B65=\"\",\"\",IF('Ct Report'!L$6=0,\"\",INDEX(INDIRECT(\"'Ct Report'!\"&$BP$24),MATCH($B65,INDIRECT(\"'Ct Report'!\"&$BF$24),0))*1))","v":""},"",{"$nulls":27},"","","","","",null,{"$error":"#N/A"},{"$error":"#N/A"},{"$error":"#N/A"},{"$error":"#N/A"},{"$error":"#N/A"},null,{"$error":"#N/A"},{"$error":"#N/A"},{"$error":"#N/A"},{"$error":"#N/A"},{"$error":"#N/A"},null,{"$error":"#N/A"},{"$error":"#N/A"},{"$error":"#N/A"},{"$error":"#N/A"},{"$error":"#N/A"},null,"","","","",null,0,null,"",{"$error":"#VALUE!"},{"$error":"#VALUE!"},{"$error":"#VALUE!"}]
[43,"D7",{"$error":"#NAME?"},{"$f":"IF(LEN($B66)=0,\"\",IF('Ct Report'!B$6=0,\"\",VLOOKUP($B66,INDIRECT(\"'Ct Report'!\"&$BE$22),2,FALSE)))","v":""},null,"U",{"$nulls":3},{"$error":"#NAME?"},{"$error":"#N/A"},{"$f":"IF($B66=\"\",\"\",IF('Ct Report'!C$6=0,\"\",IF(INDEX(INDIRECT(\"'Ct Report'!\"&$BG$24),MATCH(B66,INDIRECT(\"'Ct Report'!\"&$BF$24),0))=frmNoAmplification,frmZyklen,INDEX(INDIRECT(\"'Ct Report'!\"&$BG$24),MATCH(B66,INDIRECT(\"'Ct Report'!\"&$BF$24),0))*1)))","v":""},{"$f":"IF($B66<>\"\",IF('Ct Report'!H$6=0,\"\",INDEX(INDIRECT(\"'Ct Report'!\"&$BL$24),MATCH(B66,INDIRECT(\"'Ct Report'!\"&$BF$24),0))*1),\"\")","v":""},"","",{"$nulls":3},"",{"$f":"IF(ISNA(frmSystem),\"\",IF($B66=\"\",\"\",IF(frmAnzahlSysteme<3,\"\",IF('Ct Report'!I$6=0,\"\",INDEX(INDIRECT(\"'Ct Report'!\"&$BM$24),MATCH($B66,INDIRECT(\"'Ct Report'!\"&$BF$24),0))*1))))","v":""},"","",{"$nulls":3},"",{"$f":"IF(ISNA(frmSystem),\"\",IF($B66=\"\",\"\",IF(frmAnzahlSysteme<4,\"\",IF('Ct Report'!J$6=0,\"\",INDEX(INDIRECT(\"'Ct Report'!\"&$BN$24),MATCH($B66,INDIRECT(\"'Ct Report'!\"&$BF$24),0))*1))))","v":""},"","",{"$nulls":3},"",{"$f":"IF(ISNA(frmSystem),\"\",IF($B66=\"\",\"\",IF(frmAnzahlSysteme<5,\"\",IF('Ct Report'!K$6=0,\"\",INDEX(INDIRECT(\"'Ct Report'!\"&$BO$24),MATCH($B66,INDIRECT(\"'Ct Report'!\"&$BF$24),0))*1))))","v":""},"","",{"$nulls":3},{"$f":"IF($B66=\"\",\"\",IF('Ct Report'!G$6=0,\"\",IF(INDEX(INDIRECT(\"'Ct Report'!\"&$BK$24),MATCH($B66,INDIRECT(\"'Ct Report'!\"&$BF$24),0))=frmNoAmplification,frmZyklen,INDEX(INDIRECT(\"'Ct Report'!\"&$BK$24),MATCH($B66,INDIRECT(\"'Ct Report'!\"&$BF$24),0)))))","v":""},{"$f":"IF($B66=\"\",\"\",IF('Ct Report'!L$6=0,\"\",INDEX(INDIRECT(\"'Ct Report'!\"&$BP$24),MATCH($B66,INDIRECT(\"'Ct Report'!\"&$BF$24),0))*1))","v":""},"",{"$nulls":27},"","","","","",null,{"$error":"#N/A"},{"$error":"#N/A"},{"$error":"#N/A"},{"$error":"#N/A"},{"$error":"#N/A"},null,{"$error":"#N/A"},{"$error":"#N/A"},{"$error":"#N/A"},{"$error":"#N/A"},{"$error":"#N/A"},null,{"$error":"#N/A"},{"$error":"#N/A"},{"$error":"#N/A"},{"$error":"#N/A"},{"$error":"#N/A"},null,"","","","",null,0,null,"",{"$error":"#VALUE!"},{"$error":"#VALUE!"},{"$error":"#VALUE!"}]
[44,"D8",{"$error":"#NAME?"},{"$f":"IF(LEN($B67)=0,\"\",IF('Ct Report'!B$6=0,\"\",VLOOKUP($B67,INDIRECT(\"'Ct Report'!\"&$BE$22),2,FALSE)))","v":""},null,"U",{"$nulls":3},{"$error":"#NAME?"},{"$error":"#N/A"},{"$f":"IF($B67=\"\",\"\",IF('Ct Report'!C$6=0,\"\",IF(INDEX(INDIRECT(\"'Ct Report'!\"&$BG$24),MATCH(B67,INDIRECT(\"'Ct Report'!\"&$BF$24),0))=frmNoAmplification,frmZyklen,INDEX(INDIRECT(\"'Ct Report'!\"&$BG$24),MATCH(B67,INDIRECT(\"'Ct Report'!\"&$BF$24),0))*1)))","v":""},{"$f":"IF($B67<>\"\",IF('Ct Report'!H$6=0,\"\",INDEX(INDIRECT(\"'Ct Report'!\"&$BL$24),MATCH(B67,INDIRECT(\"'Ct Report'!\"&$BF$24),0))*1),\"\")","v":""},"","",{"$nulls":3},"",{"$f":"IF(ISNA(frmSystem),\"\",IF($B67=\"\",\"\",IF(frmAnzahlSysteme<3,\"\",IF('Ct Report'!I$6=0,\"\",INDEX(INDIRECT(\"'Ct Report'!\"&$BM$24),MATCH($B67,INDIRECT(\"'Ct Report'!\"&$BF$24),0))*1))))","v":""},"","",{"$nulls":3},"",{"$f":"IF(ISNA(frmSystem),\"\",IF($B67=\"\",\"\",IF(frmAnzahlSysteme<4,\"\",IF('Ct Report'!J$6=0,\"\",INDEX(INDIRECT(\"'Ct Report'!\"&$BN$24),MATCH($B67,INDIRECT(\"'Ct Report'!\"&$BF$24),0))*1))))","v":""},"","",{"$nulls":3},"",{"$f":"IF(ISNA(frmSystem),\"\",IF($B67=\"\",\"\",IF(frmAnzahlSysteme<5,\"\",IF('Ct Report'!K$6=0,\"\",INDEX(INDIRECT(\"'Ct Report'!\"&$BO$24),MATCH($B67,INDIRECT(\"'Ct Report'!\"&$BF$24),0))*1))))","v":""},"","",{"$nulls":3},{"$f":"IF($B67=\"\",\"\",IF('Ct Report'!G$6=0,\"\",IF(INDEX(INDIRECT(\"'Ct Report'!\"&$BK$24),MATCH($B67,INDIRECT(\"'Ct Report'!\"&$BF$24),0))=frmNoAmplification,frmZyklen,INDEX(INDIRECT(\"'Ct Report'!\"&$BK$24),MATCH($B67,INDIRECT(\"'Ct Report'!\"&$BF$24),0)))))","v":""},{"$f":"IF($B67=\"\",\"\",IF('Ct Report'!L$6=0,\"\",INDEX(INDIRECT(\"'Ct Report'!\"&$BP$24),MATCH($B67,INDIRECT(\"'Ct Report'!\"&$BF$24),0))*1))","v":""},"",{"$nulls":27},"","","","","",null,{"$error":"#N/A"},{"$error":"#N/A"},{"$error":"#N/A"},{"$error":"#N/A"},{"$error":"#N/A"},null,{"$error":"#N/A"},{"$error":"#N/A"},{"$error":"#N/A"},{"$error":"#N/A"},{"$error":"#N/A"},null,{"$error":"#N/A"},{"$error":"#N/A"},{"$error":"#N/A"},{"$error":"#N/A"},{"$error":"#N/A"},null,"","","","",null,0,null,"",{"$error":"#VALUE!"},{"$error":"#VALUE!"},{"$error":"#VALUE!"}]
[45,"D9",{"$error":"#NAME?"},{"$f":"IF(LEN($B68)=0,\"\",IF('Ct Report'!B$6=0,\"\",VLOOKUP($B68,INDIRECT(\"'Ct Report'!\"&$BE$22),2,FALSE)))","v":""},null,"U",{"$nulls":3},{"$error":"#NAME?"},{"$error":"#N/A"},{"$f":"IF($B68=\"\",\"\",IF('Ct Report'!C$6=0,\"\",IF(INDEX(INDIRECT(\"'Ct Report'!\"&$BG$24),MATCH(B68,INDIRECT(\"'Ct Report'!\"&$BF$24),0))=frmNoAmplification,frmZyklen,INDEX(INDIRECT(\"'Ct Report'!\"&$BG$24),MATCH(B68,INDIRECT(\"'Ct Report'!\"&$BF$24),0))*1)))","v":""},{"$f":"IF($B68<>\"\",IF('Ct Report'!H$6=0,\"\",INDEX(INDIRECT(\"'Ct Report'!\"&$BL$24),MATCH(B68,INDIRECT(\"'Ct Report'!\"&$BF$24),0))*1),\"\")","v":""},"","",{"$nulls":3},"",{"$f":"IF(ISNA(frmSystem),\"\",IF($B68=\"\",\"\",IF(frmAnzahlSysteme<3,\"\",IF('Ct Report'!I$6=0,\"\",INDEX(INDIRECT(\"'Ct Report'!\"&$BM$24),MATCH($B68,INDIRECT(\"'Ct Report'!\"&$BF$24),0))*1))))","v":""},"","",{"$nulls":3},"",{"$f":"IF(ISNA(frmSystem),\"\",IF($B68=\"\",\"\",IF(frmAnzahlSysteme<4,\"\",IF('Ct Report'!J$6=0,\"\",INDEX(INDIRECT(\"'Ct Report'!\"&$BN$24),MATCH($B68,INDIRECT(\"'Ct Report'!\"&$BF$24),0))*1))))","v":""},"","",{"$nulls":3},"",{"$f":"IF(ISNA(frmSystem),\"\",IF($B68=\"\",\"\",IF(frmAnzahlSysteme<5,\"\",IF('Ct Report'!K$6=0,\"\",INDEX(INDIRECT(\"'Ct Report'!\"&$BO$24),MATCH($B68,INDIRECT(\"'Ct Report'!\"&$BF$24),0))*1))))","v":""},"","",{"$nulls":3},{"$f":"IF($B68=\"\",\"\",IF('Ct Report'!G$6=0,\"\",IF(INDEX(INDIRECT(\"'Ct Report'!\"&$BK$24),MATCH($B68,INDIRECT(\"'Ct Report'!\"&$BF$24),0))=frmNoAmplification,frmZyklen,INDEX(INDIRECT(\"'Ct Report'!\"&$BK$24),MATCH($B68,INDIRECT(\"'Ct Report'!\"&$BF$24),0)))))","v":""},{"$f":"IF($B68=\"\",\"\",IF('Ct Report'!L$6=0,\"\",INDEX(INDIRECT(\"'Ct Report'!\"&$BP$24),MATCH($B68,INDIRECT(\"'Ct Report'!\"&$BF$24),0))*1))","v":""},"",{"$nulls":27},"","","","","",null,{"$error":"#N/A"},{"$error":"#N/A"},{"$error":"#N/A"},{"$error":"#N/A"},{"$error":"#N/A"},null,{"$error":"#N/A"},{"$error":"#N/A"},{"$error":"#N/A"},{"$error":"#N/A"},{"$error":"#N/A"},null,{"$error":"#N/A"},{"$error":"#N/A"},{"$error":"#N/A"},{"$error":"#N/A"},{"$error":"#N/A"},null,"","","","",null,0,null,"",{"$error":"#VALUE!"},{"$error":"#VALUE!"},{"$error":"#VALUE!"}]
[46,"D10",{"$error":"#NAME?"},{"$f":"IF(LEN($B69)=0,\"\",IF('Ct Report'!B$6=0,\"\",VLOOKUP($B69,INDIRECT(\"'Ct Report'!\"&$BE$22),2,FALSE)))","v":""},null,"U",{"$nulls":3},{"$error":"#NAME?"},{"$error":"#N/A"},{"$f":"IF($B69=\"\",\"\",IF('Ct Report'!C$6=0,\"\",IF(INDEX(INDIRECT(\"'Ct Report'!\"&$BG$24),MATCH(B69,INDIRECT(\"'Ct Report'!\"&$BF$24),0))=frmNoAmplification,frmZyklen,INDEX(INDIRECT(\"'Ct Report'!\"&$BG$24),MATCH(B69,INDIRECT(\"'Ct Report'!\"&$BF$24),0))*1)))","v":""},{"$f":"IF($B69<>\"\",IF('Ct Report'!H$6=0,\"\",INDEX(INDIRECT(\"'Ct Report'!\"&$BL$24),MATCH(B69,INDIRECT(\"'Ct Report'!\"&$BF$24),0))*1),\"\")","v":""},"","",{"$nulls":3},"",{"$f":"IF(ISNA(frmSystem),\"\",IF($B69=\"\",\"\",IF(frmAnzahlSysteme<3,\"\",IF('Ct Report'!I$6=0,\"\",INDEX(INDIRECT(\"'Ct Report'!\"&$BM$24),MATCH($B69,INDIRECT(\"'Ct Report'!\"&$BF$24),0))*1))))","v":""},"","",{"$nulls":3},"",{"$f":"IF(ISNA(frmSystem),\"\",IF($B69=\"\",\"\",IF(frmAnzahlSysteme<4,\"\",IF('Ct Report'!J$6=0,\"\",INDEX(INDIRECT(\"'Ct Report'!\"&$BN$24),MATCH($B69,INDIRECT(\"'Ct Report'!\"&$BF$24),0))*1))))","v":""},"","",{"$nulls":3},"",{"$f":"IF(ISNA(frmSystem),\"\",IF($B69=\"\",\"\",IF(frmAnzahlSysteme<5,\"\",IF('Ct Report'!K$6=0,\"\",INDEX(INDIRECT(\"'Ct Report'!\"&$BO$24),MATCH($B69,INDIRECT(\"'Ct Report'!\"&$BF$24),0))*1))))","v":""},"","",{"$nulls":3},{"$f":"IF($B69=\"\",\"\",IF('Ct Report'!G$6=0,\"\",IF(INDEX(INDIRECT(\"'Ct Report'!\"&$BK$24),MATCH($B69,INDIRECT(\"'Ct Report'!\"&$BF$24),0))=frmNoAmplification,frmZyklen,INDEX(INDIRECT(\"'Ct Report'!\"&$BK$24),MATCH($B69,INDIRECT(\"'Ct Report'!\"&$BF$24),0)))))","v":""},{"$f":"IF($B69=\"\",\"\",IF('Ct Report'!L$6=0,\"\",INDEX(INDIRECT(\"'Ct Report'!\"&$BP$24),MATCH($B69,INDIRECT(\"'Ct Report'!\"&$BF$24),0))*1))","v":""},"",{"$nulls":27},"","","","","",null,{"$error":"#N/A"},{"$error":"#N/A"},{"$error":"#N/A"},{"$error":"#N/A"},{"$error":"#N/A"},null,{"$error":"#N/A"},{"$error":"#N/A"},{"$error":"#N/A"},{"$error":"#N/A"},{"$error":"#N/A"},null,{"$error":"#N/A"},{"$error":"#N/A"},{"$error":"#N/A"},{"$error":"#N/A"},{"$error":"#N/A"},null,"","","","",null,0,null,"",{"$error":"#VALUE!"},{"$error":"#VALUE!"},{"$error":"#VALUE!"}]
[47,"D11",{"$error":"#NAME?"},{"$f":"IF(LEN($B70)=0,\"\",IF('Ct Report'!B$6=0,\"\",VLOOKUP($B70,INDIRECT(\"'Ct Report'!\"&$BE$22),2,FALSE)))","v":""},null,"U",{"$nulls":3},{"$error":"#NAME?"},{"$error":"#N/A"},{"$f":"IF($B70=\"\",\"\",IF('Ct Report'!C$6=0,\"\",IF(INDEX(INDIRECT(\"'Ct Report'!\"&$BG$24),MATCH(B70,INDIRECT(\"'Ct Report'!\"&$BF$24),0))=frmNoAmplification,frmZyklen,INDEX(INDIRECT(\"'Ct Report'!\"&$BG$24),MATCH(B70,INDIRECT(\"'Ct Report'!\"&$BF$24),0))*1)))","v":""},{"$f":"IF($B70<>\"\",IF('Ct Report'!H$6=0,\"\",INDEX(INDIRECT(\"'Ct Report'!\"&$BL$24),MATCH(B70,INDIRECT(\"'Ct Report'!\"&$BF$24),0))*1),\"\")","v":""},"","",{"$nulls":3},"",{"$f":"IF(ISNA(frmSystem),\"\",IF($B70=\"\",\"\",IF(frmAnzahlSysteme<3,\"\",IF('Ct Report'!I$6=0,\"\",INDEX(INDIRECT(\"'Ct Report'!\"&$BM$24),MATCH($B70,INDIRECT(\"'Ct Report'!\"&$BF$24),0))*1))))","v":""},"","",{"$nulls":3},"",{"$f":"IF(ISNA(frmSystem),\"\",IF($B70=\"\",\"\",IF(frmAnzahlSysteme<4,\"\",IF('Ct Report'!J$6=0,\"\",INDEX(INDIRECT(\"'Ct Report'!\"&$BN$24),MATCH($B70,INDIRECT(\"'Ct Report'!\"&$BF$24),0))*1))))","v":""},"","",{"$nulls":3},"",{"$f":"IF(ISNA(frmSystem),\"\",IF($B70=\"\",\"\",IF(frmAnzahlSysteme<5,\"\",IF('Ct Report'!K$6=0,\"\",INDEX(INDIRECT(\"'Ct Report'!\"&$BO$24),MATCH($B70,INDIRECT(\"'Ct Report'!\"&$BF$24),0))*1))))","v":""},"","",{"$nulls":3},{"$f":"IF($B70=\"\",\"\",IF('Ct Report'!G$6=0,\"\",IF(INDEX(INDIRECT(\"'Ct Report'!\"&$BK$24),MATCH($B70,INDIRECT(\"'Ct Report'!\"&$BF$24),0))=frmNoAmplification,frmZyklen,INDEX(INDIRECT(\"'Ct Report'!\"&$BK$24),MATCH($B70,INDIRECT(\"'Ct Report'!\"&$BF$24),0)))))","v":""},{"$f":"IF($B70=\"\",\"\",IF('Ct Report'!L$6=0,\"\",INDEX(INDIRECT(\"'Ct Report'!\"&$BP$24),MATCH($B70,INDIRECT(\"'Ct Report'!\"&$BF$24),0))*1))","v":""},"",{"$nulls":27},"","","","","",null,{"$error":"#N/A"},{"$error":"#N/A"},{"$error":"#N/A"},{"$error":"#N/A"},{"$error":"#N/A"},null,{"$error":"#N/A"},{"$error":"#N/A"},{"$error":"#N/A"},{"$error":"#N/A"},{"$error":"#N/A"},null,{"$error":"#N/A"},{"$error":"#N/A"},{"$error":"#N/A"},{"$error":"#N/A"},{"$error":"#N/A"},null,"","","","",null,0,null,"",{"$error":"#VALUE!"},{"$error":"#VALUE!"},{"$error":"#VALUE!"}]
[48,"D12",{"$error":"#NAME?"},{"$f":"IF(LEN($B71)=0,\"\",IF('Ct Report'!B$6=0,\"\",VLOOKUP($B71,INDIRECT(\"'Ct Report'!\"&$BE$22),2,FALSE)))","v":""},null,"U",{"$nulls":3},{"$error":"#NAME?"},{"$error":"#N/A"},{"$f":"IF($B71=\"\",\"\",IF('Ct Report'!C$6=0,\"\",IF(INDEX(INDIRECT(\"'Ct Report'!\"&$BG$24),MATCH(B71,INDIRECT(\"'Ct Report'!\"&$BF$24),0))=frmNoAmplification,frmZyklen,INDEX(INDIRECT(\"'Ct Report'!\"&$BG$24),MATCH(B71,INDIRECT(\"'Ct Report'!\"&$BF$24),0))*1)))","v":""},{"$f":"IF($B71<>\"\",IF('Ct Report'!H$6=0,\"\",INDEX(INDIRECT(\"'Ct Report'!\"&$BL$24),MATCH(B71,INDIRECT(\"'Ct Report'!\"&$BF$24),0))*1),\"\")","v":""},"","",{"$nulls":3},"",{"$f":"IF(ISNA(frmSystem),\"\",IF($B71=\"\",\"\",IF(frmAnzahlSysteme<3,\"\",IF('Ct Report'!I$6=0,\"\",INDEX(INDIRECT(\"'Ct Report'!\"&$BM$24),MATCH($B71,INDIRECT(\"'Ct Report'!\"&$BF$24),0))*1))))","v":""},"","",{"$nulls":3},"",{"$f":"IF(ISNA(frmSystem),\"\",IF($B71=\"\",\"\",IF(frmAnzahlSysteme<4,\"\",IF('Ct Report'!J$6=0,\"\",INDEX(INDIRECT(\"'Ct Report'!\"&$BN$24),MATCH($B71,INDIRECT(\"'Ct Report'!\"&$BF$24),0))*1))))","v":""},"","",{"$nulls":3},"",{"$f":"IF(ISNA(frmSystem),\"\",IF($B71=\"\",\"\",IF(frmAnzahlSysteme<5,\"\",IF('Ct Report'!K$6=0,\"\",INDEX(INDIRECT(\"'Ct Report'!\"&$BO$24),MATCH($B71,INDIRECT(\"'Ct Report'!\"&$BF$24),0))*1))))","v":""},"","",{"$nulls":3},{"$f":"IF($B71=\"\",\"\",IF('Ct Report'!G$6=0,\"\",IF(INDEX(INDIRECT(\"'Ct Report'!\"&$BK$24),MATCH($B71,INDIRECT(\"'Ct Report'!\"&$BF$24),0))=frmNoAmplification,frmZyklen,INDEX(INDIRECT(\"'Ct Report'!\"&$BK$24),MATCH($B71,INDIRECT(\"'Ct Report'!\"&$BF$24),0)))))","v":""},{"$f":"IF($B71=\"\",\"\",IF('Ct Report'!L$6=0,\"\",INDEX(INDIRECT(\"'Ct Report'!\"&$BP$24),MATCH($B71,INDIRECT(\"'Ct Report'!\"&$BF$24),0))*1))","v":""},"",{"$nulls":27},"","","","","",null,{"$error":"#N/A"},{"$error":"#N/A"},{"$error":"#N/A"},{"$error":"#N/A"},{"$error":"#N/A"},null,{"$error":"#N/A"},{"$error":"#N/A"},{"$error":"#N/A"},{"$error":"#N/A"},{"$error":"#N/A"},null,{"$error":"#N/A"},{"$error":"#N/A"},{"$error":"#N/A"},{"$error":"#N/A"},{"$error":"#N/A"},null,"","","","",null,0,null,"",{"$error":"#VALUE!"},{"$error":"#VALUE!"},{"$error":"#VALUE!"}]
[49,"E1",{"$error":"#NAME?"},{"$f":"IF(LEN($B72)=0,\"\",IF('Ct Report'!B$6=0,\"\",VLOOKUP($B72,INDIRECT(\"'Ct Report'!\"&$BE$22),2,FALSE)))","v":""},null,"U",{"$nulls":3},{"$error":"#NAME?"},{"$error":"#N/A"},{"$f":"IF($B72=\"\",\"\",IF('Ct Report'!C$6=0,\"\",IF(INDEX(INDIRECT(\"'Ct Report'!\"&$BG$24),MATCH(B72,INDIRECT(\"'Ct Report'!\"&$BF$24),0))=frmNoAmplification,frmZyklen,INDEX(INDIRECT(\"'Ct Report'!\"&$BG$24),MATCH(B72,INDIRECT(\"'Ct Report'!\"&$BF$24),0))*1)))","v":""},{"$f":"IF($B72<>\"\",IF('Ct Report'!H$6=0,\"\",INDEX(INDIRECT(\"'Ct Report'!\"&$BL$24),MATCH(B72,INDIRECT(\"'Ct Report'!\"&$BF$24),0))*1),\"\")","v":""},"","",{"$nulls":3},"",{"$f":"IF(ISNA(frmSystem),\"\",IF($B72=\"\",\"\",IF(frmAnzahlSysteme<3,\"\",IF('Ct Report'!I$6=0,\"\",INDEX(INDIRECT(\"'Ct Report'!\"&$BM$24),MATCH($B72,INDIRECT(\"'Ct Report'!\"&$BF$24),0))*1))))","v":""},"","",{"$nulls":3},"",{"$f":"IF(ISNA(frmSystem),\"\",IF($B72=\"\",\"\",IF(frmAnzahlSysteme<4,\"\",IF('Ct Report'!J$6=0,\"\",INDEX(INDIRECT(\"'Ct Report'!\"&$BN$24),MATCH($B72,INDIRECT(\"'Ct Report'!\"&$BF$24),0))*1))))","v":""},"","",{"$nulls":3},"",{"$f":"IF(ISNA(frmSystem),\"\",IF($B72=\"\",\"\",IF(frmAnzahlSysteme<5,\"\",IF('Ct Report'!K$6=0,\"\",INDEX(INDIRECT(\"'Ct Report'!\"&$BO$24),MATCH($B72,INDIRECT(\"'Ct Report'!\"&$BF$24),0))*1))))","v":""},"","",{"$nulls":3},{"$f":"IF($B72=\"\",\"\",IF('Ct Report'!G$6=0,\"\",IF(INDEX(INDIRECT(\"'Ct Report'!\"&$BK$24),MATCH($B72,INDIRECT(\"'Ct Report'!\"&$BF$24),0))=frmNoAmplification,frmZyklen,INDEX(INDIRECT(\"'Ct Report'!\"&$BK$24),MATCH($B72,INDIRECT(\"'Ct Report'!\"&$BF$24),0)))))","v":""},{"$f":"IF($B72=\"\",\"\",IF('Ct Report'!L$6=0,\"\",INDEX(INDIRECT(\"'Ct Report'!\"&$BP$24),MATCH($B72,INDIRECT(\"'Ct Report'!\"&$BF$24),0))*1))","v":""},"",{"$nulls":27},"","","","","",null,{"$error":"#N/A"},{"$error":"#N/A"},{"$error":"#N/A"},{"$error":"#N/A"},{"$error":"#N/A"},null,{"$error":"#N/A"},{"$error":"#N/A"},{"$error":"#N/A"},{"$error":"#N/A"},{"$error":"#N/A"},null,{"$error":"#N/A"},{"$error":"#N/A"},{"$error":"#N/A"},{"$error":"#N/A"},{"$error":"#N/A"},null,"","","","",null,0,null,"",{"$error":"#VALUE!"},{"$error":"#VALUE!"},{"$error":"#VALUE!"}]
[50,"E2",{"$error":"#NAME?"},{"$f":"IF(LEN($B73)=0,\"\",IF('Ct Report'!B$6=0,\"\",VLOOKUP($B73,INDIRECT(\"'Ct Report'!\"&$BE$22),2,FALSE)))","v":""},null,"U",{"$nulls":3},{"$error":"#NAME?"},{"$error":"#N/A"},{"$f":"IF($B73=\"\",\"\",IF('Ct Report'!C$6=0,\"\",IF(INDEX(INDIRECT(\"'Ct Report'!\"&$BG$24),MATCH(B73,INDIRECT(\"'Ct Report'!\"&$BF$24),0))=frmNoAmplification,frmZyklen,INDEX(INDIRECT(\"'Ct Report'!\"&$BG$24),MATCH(B73,INDIRECT(\"'Ct Report'!\"&$BF$24),0))*1)))","v":""},{"$f":"IF($B73<>\"\",IF('Ct Report'!H$6=0,\"\",INDEX(INDIRECT(\"'Ct Report'!\"&$BL$24),MATCH(B73,INDIRECT(\"'Ct Report'!\"&$BF$24),0))*1),\"\")","v":""},"","",{"$nulls":3},"",{"$f":"IF(ISNA(frmSystem),\"\",IF($B73=\"\",\"\",IF(frmAnzahlSysteme<3,\"\",IF('Ct Report'!I$6=0,\"\",INDEX(INDIRECT(\"'Ct Report'!\"&$BM$24),MATCH($B73,INDIRECT(\"'Ct Report'!\"&$BF$24),0))*1))))","v":""},"","",{"$nulls":3},"",{"$f":"IF(ISNA(frmSystem),\"\",IF($B73=\"\",\"\",IF(frmAnzahlSysteme<4,\"\",IF('Ct Report'!J$6=0,\"\",INDEX(INDIRECT(\"'Ct Report'!\"&$BN$24),MATCH($B73,INDIRECT(\"'Ct Report'!\"&$BF$24),0))*1))))","v":""},"","",{"$nulls":3},"",{"$f":"IF(ISNA(frmSystem),\"\",IF($B73=\"\",\"\",IF(frmAnzahlSysteme<5,\"\",IF('Ct Report'!K$6=0,\"\",INDEX(INDIRECT(\"'Ct Report'!\"&$BO$24),MATCH($B73,INDIRECT(\"'Ct Report'!\"&$BF$24),0))*1))))","v":""},"","",{"$nulls":3},{"$f":"IF($B73=\"\",\"\",IF('Ct Report'!G$6=0,\"\",IF(INDEX(INDIRECT(\"'Ct Report'!\"&$BK$24),MATCH($B73,INDIRECT(\"'Ct Report'!\"&$BF$24),0))=frmNoAmplification,frmZyklen,INDEX(INDIRECT(\"'Ct Report'!\"&$BK$24),MATCH($B73,INDIRECT(\"'Ct Report'!\"&$BF$24),0)))))","v":""},{"$f":"IF($B73=\"\",\"\",IF('Ct Report'!L$6=0,\"\",INDEX(INDIRECT(\"'Ct Report'!\"&$BP$24),MATCH($B73,INDIRECT(\"'Ct Report'!\"&$BF$24),0))*1))","v":""},"",{"$nulls":27},"","","","","",null,{"$error":"#N/A"},{"$error":"#N/A"},{"$error":"#N/A"},{"$error":"#N/A"},{"$error":"#N/A"},null,{"$error":"#N/A"},{"$error":"#N/A"},{"$error":"#N/A"},{"$error":"#N/A"},{"$error":"#N/A"},null,{"$error":"#N/A"},{"$error":"#N/A"},{"$error":"#N/A"},{"$error":"#N/A"},{"$error":"#N/A"},null,"","","","",null,0,null,"",{"$error":"#VALUE!"},{"$error":"#VALUE!"},{"$error":"#VALUE!"}]
[51,"E3",{"$error":"#NAME?"},{"$f":"IF(LEN($B74)=0,\"\",IF('Ct Report'!B$6=0,\"\",VLOOKUP($B74,INDIRECT(\"'Ct Report'!\"&$BE$22),2,FALSE)))","v":""},null,"U",{"$nulls":3},{"$error":"#NAME?"},{"$error":"#N/A"},{"$f":"IF($B74=\"\",\"\",IF('Ct Report'!C$6=0,\"\",IF(INDEX(INDIRECT(\"'Ct Report'!\"&$BG$24),MATCH(B74,INDIRECT(\"'Ct Report'!\"&$BF$24),0))=frmNoAmplification,frmZyklen,INDEX(INDIRECT(\"'Ct Report'!\"&$BG$24),MATCH(B74,INDIRECT(\"'Ct Report'!\"&$BF$24),0))*1)))","v":""},{"$f":"IF($B74<>\"\",IF('Ct Report'!H$6=0,\"\",INDEX(INDIRECT(\"'Ct Report'!\"&$BL$24),MATCH(B74,INDIRECT(\"'Ct Report'!\"&$BF$24),0))*1),\"\")","v":""},"","",{"$nulls":3},"",{"$f":"IF(ISNA(frmSystem),\"\",IF($B74=\"\",\"\",IF(frmAnzahlSysteme<3,\"\",IF('Ct Report'!I$6=0,\"\",INDEX(INDIRECT(\"'Ct Report'!\"&$BM$24),MATCH($B74,INDIRECT(\"'Ct Report'!\"&$BF$24),0))*1))))","v":""},"","",{"$nulls":3},"",{"$f":"IF(ISNA(frmSystem),\"\",IF($B74=\"\",\"\",IF(frmAnzahlSysteme<4,\"\",IF('Ct Report'!J$6=0,\"\",INDEX(INDIRECT(\"'Ct Report'!\"&$BN$24),MATCH($B74,INDIRECT(\"'Ct Report'!\"&$BF$24),0))*1))))","v":""},"","",{"$nulls":3},"",{"$f":"IF(ISNA(frmSystem),\"\",IF($B74=\"\",\"\",IF(frmAnzahlSysteme<5,\"\",IF('Ct Report'!K$6=0,\"\",INDEX(INDIRECT(\"'Ct Report'!\"&$BO$24),MATCH($B74,INDIRECT(\"'Ct Report'!\"&$BF$24),0))*1))))","v":""},"","",{"$nulls":3},{"$f":"IF($B74=\"\",\"\",IF('Ct Report'!G$6=0,\"\",IF(INDEX(INDIRECT(\"'Ct Report'!\"&$BK$24),MATCH($B74,INDIRECT(\"'Ct Report'!\"&$BF$24),0))=frmNoAmplification,frmZyklen,INDEX(INDIRECT(\"'Ct Report'!\"&$BK$24),MATCH($B74,INDIRECT(\"'Ct Report'!\"&$BF$24),0)))))","v":""},{"$f":"IF($B74=\"\",\"\",IF('Ct Report'!L$6=0,\"\",INDEX(INDIRECT(\"'Ct Report'!\"&$BP$24),MATCH($B74,INDIRECT(\"'Ct Report'!\"&$BF$24),0))*1))","v":""},"",{"$nulls":27},"","","","","",null,{"$error":"#N/A"},{"$error":"#N/A"},{"$error":"#N/A"},{"$error":"#N/A"},{"$error":"#N/A"},null,{"$error":"#N/A"},{"$error":"#N/A"},{"$error":"#N/A"},{"$error":"#N/A"},{"$error":"#N/A"},null,{"$error":"#N/A"},{"$error":"#N/A"},{"$error":"#N/A"},{"$error":"#N/A"},{"$error":"#N/A"},null,"","","","",null,0,null,"",{"$error":"#VALUE!"},{"$error":"#VALUE!"},{"$error":"#VALUE!"}]
[52,"E4",{"$error":"#NAME?"},{"$f":"IF(LEN($B75)=0,\"\",IF('Ct Report'!B$6=0,\"\",VLOOKUP($B75,INDIRECT(\"'Ct Report'!\"&$BE$22),2,FALSE)))","v":""},null,"U",{"$nulls":3},{"$error":"#NAME?"},{"$error":"#N/A"},{"$f":"IF($B75=\"\",\"\",IF('Ct Report'!C$6=0,\"\",IF(INDEX(INDIRECT(\"'Ct Report'!\"&$BG$24),MATCH(B75,INDIRECT(\"'Ct Report'!\"&$BF$24),0))=frmNoAmplification,frmZyklen,INDEX(INDIRECT(\"'Ct Report'!\"&$BG$24),MATCH(B75,INDIRECT(\"'Ct Report'!\"&$BF$24),0))*1)))","v":""},{"$f":"IF($B75<>\"\",IF('Ct Report'!H$6=0,\"\",INDEX(INDIRECT(\"'Ct Report'!\"&$BL$24),MATCH(B75,INDIRECT(\"'Ct Report'!\"&$BF$24),0))*1),\"\")","v":""},"","",{"$nulls":3},"",{"$f":"IF(ISNA(frmSystem),\"\",IF($B75=\"\",\"\",IF(frmAnzahlSysteme<3,\"\",IF('Ct Report'!I$6=0,\"\",INDEX(INDIRECT(\"'Ct Report'!\"&$BM$24),MATCH($B75,INDIRECT(\"'Ct Report'!\"&$BF$24),0))*1))))","v":""},"","",{"$nulls":3},"",{"$f":"IF(ISNA(frmSystem),\"\",IF($B75=\"\",\"\",IF(frmAnzahlSysteme<4,\"\",IF('Ct Report'!J$6=0,\"\",INDEX(INDIRECT(\"'Ct Report'!\"&$BN$24),MATCH($B75,INDIRECT(\"'Ct Report'!\"&$BF$24),0))*1))))","v":""},"","",{"$nulls":3},"",{"$f":"IF(ISNA(frmSystem),\"\",IF($B75=\"\",\"\",IF(frmAnzahlSysteme<5,\"\",IF('Ct Report'!K$6=0,\"\",INDEX(INDIRECT(\"'Ct Report'!\"&$BO$24),MATCH($B75,INDIRECT(\"'Ct Report'!\"&$BF$24),0))*1))))","v":""},"","",{"$nulls":3},{"$f":"IF($B75=\"\",\"\",IF('Ct Report'!G$6=0,\"\",IF(INDEX(INDIRECT(\"'Ct Report'!\"&$BK$24),MATCH($B75,INDIRECT(\"'Ct Report'!\"&$BF$24),0))=frmNoAmplification,frmZyklen,INDEX(INDIRECT(\"'Ct Report'!\"&$BK$24),MATCH($B75,INDIRECT(\"'Ct Report'!\"&$BF$24),0)))))","v":""},{"$f":"IF($B75=\"\",\"\",IF('Ct Report'!L$6=0,\"\",INDEX(INDIRECT(\"'Ct Report'!\"&$BP$24),MATCH($B75,INDIRECT(\"'Ct Report'!\"&$BF$24),0))*1))","v":""},"",{"$nulls":27},"","","","","",null,{"$error":"#N/A"},{"$error":"#N/A"},{"$error":"#N/A"},{"$error":"#N/A"},{"$error":"#N/A"},null,{"$error":"#N/A"},{"$error":"#N/A"},{"$error":"#N/A"},{"$error":"#N/A"},{"$error":"#N/A"},null,{"$error":"#N/A"},{"$error":"#N/A"},{"$error":"#N/A"},{"$error":"#N/A"},{"$error":"#N/A"},null,"","","","",null,0,null,"",{"$error":"#VALUE!"},{"$error":"#VALUE!"},{"$error":"#VALUE!"}]
[53,"E5",{"$error":"#NAME?"},{"$f":"IF(LEN($B76)=0,\"\",IF('Ct Report'!B$6=0,\"\",VLOOKUP($B76,INDIRECT(\"'Ct Report'!\"&$BE$22),2,FALSE)))","v":""},null,"U",{"$nulls":3},{"$error":"#NAME?"},{"$error":"#N/A"},{"$f":"IF($B76=\"\",\"\",IF('Ct Report'!C$6=0,\"\",IF(INDEX(INDIRECT(\"'Ct Report'!\"&$BG$24),MATCH(B76,INDIRECT(\"'Ct Report'!\"&$BF$24),0))=frmNoAmplification,frmZyklen,INDEX(INDIRECT(\"'Ct Report'!\"&$BG$24),MATCH(B76,INDIRECT(\"'Ct Report'!\"&$BF$24),0))*1)))","v":""},{"$f":"IF($B76<>\"\",IF('Ct Report'!H$6=0,\"\",INDEX(INDIRECT(\"'Ct Report'!\"&$BL$24),MATCH(B76,INDIRECT(\"'Ct Report'!\"&$BF$24),0))*1),\"\")","v":""},"","",{"$nulls":3},"",{"$f":"IF(ISNA(frmSystem),\"\",IF($B76=\"\",\"\",IF(frmAnzahlSysteme<3,\"\",IF('Ct Report'!I$6=0,\"\",INDEX(INDIRECT(\"'Ct Report'!\"&$BM$24),MATCH($B76,INDIRECT(\"'Ct Report'!\"&$BF$24),0))*1))))","v":""},"","",{"$nulls":3},"",{"$f":"IF(ISNA(frmSystem),\"\",IF($B76=\"\",\"\",IF(frmAnzahlSysteme<4,\"\",IF('Ct Report'!J$6=0,\"\",INDEX(INDIRECT(\"'Ct Report'!\"&$BN$24),MATCH($B76,INDIRECT(\"'Ct Report'!\"&$BF$24),0))*1))))","v":""},"","",{"$nulls":3},"",{"$f":"IF(ISNA(frmSystem),\"\",IF($B76=\"\",\"\",IF(frmAnzahlSysteme<5,\"\",IF('Ct Report'!K$6=0,\"\",INDEX(INDIRECT(\"'Ct Report'!\"&$BO$24),MATCH($B76,INDIRECT(\"'Ct Report'!\"&$BF$24),0))*1))))","v":""},"","",{"$nulls":3},{"$f":"IF($B76=\"\",\"\",IF('Ct Report'!G$6=0,\"\",IF(INDEX(INDIRECT(\"'Ct Report'!\"&$BK$24),MATCH($B76,INDIRECT(\"'Ct Report'!\"&$BF$24),0))=frmNoAmplification,frmZyklen,INDEX(INDIRECT(\"'Ct Report'!\"&$BK$24),MATCH($B76,INDIRECT(\"'Ct Report'!\"&$BF$24),0)))))","v":""},{"$f":"IF($B76=\"\",\"\",IF('Ct Report'!L$6=0,\"\",INDEX(INDIRECT(\"'Ct Report'!\"&$BP$24),MATCH($B76,INDIRECT(\"'Ct Report'!\"&$BF$24),0))*1))","v":""},"",{"$nulls":27},"","","","","",null,{"$error":"#N/A"},{"$error":"#N/A"},{"$error":"#N/A"},{"$error":"#N/A"},{"$error":"#N/A"},null,{"$error":"#N/A"},{"$error":"#N/A"},{"$error":"#N/A"},{"$error":"#N/A"},{"$error":"#N/A"},null,{"$error":"#N/A"},{"$error":"#N/A"},{"$error":"#N/A"},{"$error":"#N/A"},{"$error":"#N/A"},null,"","","","",null,0,null,"",{"$error":"#VALUE!"},{"$error":"#VALUE!"},{"$error":"#VALUE!"}]
[54,"E6",{"$error":"#NAME?"},{"$f":"IF(LEN($B77)=0,\"\",IF('Ct Report'!B$6=0,\"\",VLOOKUP($B77,INDIRECT(\"'Ct Report'!\"&$BE$22),2,FALSE)))","v":""},null,"U",{"$nulls":3},{"$error":"#NAME?"},{"$error":"#N/A"},{"$f":"IF($B77=\"\",\"\",IF('Ct Report'!C$6=0,\"\",IF(INDEX(INDIRECT(\"'Ct Report'!\"&$BG$24),MATCH(B77,INDIRECT(\"'Ct Report'!\"&$BF$24),0))=frmNoAmplification,frmZyklen,INDEX(INDIRECT(\"'Ct Report'!\"&$BG$24),MATCH(B77,INDIRECT(\"'Ct Report'!\"&$BF$24),0))*1)))","v":""},{"$f":"IF($B77<>\"\",IF('Ct Report'!H$6=0,\"\",INDEX(INDIRECT(\"'Ct Report'!\"&$BL$24),MATCH(B77,INDIRECT(\"'Ct Report'!\"&$BF$24),0))*1),\"\")","v":""},"","",{"$nulls":3},"",{"$f":"IF(ISNA(frmSystem),\"\",IF($B77=\"\",\"\",IF(frmAnzahlSysteme<3,\"\",IF('Ct Report'!I$6=0,\"\",INDEX(INDIRECT(\"'Ct Report'!\"&$BM$24),MATCH($B77,INDIRECT(\"'Ct Report'!\"&$BF$24),0))*1))))","v":""},"","",{"$nulls":3},"",{"$f":"IF(ISNA(frmSystem),\"\",IF($B77=\"\",\"\",IF(frmAnzahlSysteme<4,\"\",IF('Ct Report'!J$6=0,\"\",INDEX(INDIRECT(\"'Ct Report'!\"&$BN$24),MATCH($B77,INDIRECT(\"'Ct Report'!\"&$BF$24),0))*1))))","v":""},"","",{"$nulls":3},"",{"$f":"IF(ISNA(frmSystem),\"\",IF($B77=\"\",\"\",IF(frmAnzahlSysteme<5,\"\",IF('Ct Report'!K$6=0,\"\",INDEX(INDIRECT(\"'Ct Report'!\"&$BO$24),MATCH($B77,INDIRECT(\"'Ct Report'!\"&$BF$24),0))*1))))","v":""},"","",{"$nulls":3},{"$f":"IF($B77=\"\",\"\",IF('Ct Report'!G$6=0,\"\",IF(INDEX(INDIRECT(\"'Ct Report'!\"&$BK$24),MATCH($B77,INDIRECT(\"'Ct Report'!\"&$BF$24),0))=frmNoAmplification,frmZyklen,INDEX(INDIRECT(\"'Ct Report'!\"&$BK$24),MATCH($B77,INDIRECT(\"'Ct Report'!\"&$BF$24),0)))))","v":""},{"$f":"IF($B77=\"\",\"\",IF('Ct Report'!L$6=0,\"\",INDEX(INDIRECT(\"'Ct Report'!\"&$BP$24),MATCH($B77,INDIRECT(\"'Ct Report'!\"&$BF$24),0))*1))","v":""},"",{"$nulls":27},"","","","","",null,{"$error":"#N/A"},{"$error":"#N/A"},{"$error":"#N/A"},{"$error":"#N/A"},{"$error":"#N/A"},null,{"$error":"#N/A"},{"$error":"#N/A"},{"$error":"#N/A"},{"$error":"#N/A"},{"$error":"#N/A"},null,{"$error":"#N/A"},{"$error":"#N/A"},{"$error":"#N/A"},{"$error":"#N/A"},{"$error":"#N/A"},null,"","","","",null,0,null,"",{"$error":"#VALUE!"},{"$error":"#VALUE!"},{"$error":"#VALUE!"}]
[55,"E7",{"$error":"#NAME?"},{"$f":"IF(LEN($B78)=0,\"\",IF('Ct Report'!B$6=0,\"\",VLOOKUP($B78,INDIRECT(\"'Ct Report'!\"&$BE$22),2,FALSE)))","v":""},null,"U",{"$nulls":3},{"$error":"#NAME?"},{"$error":"#N/A"},{"$f":"IF($B78=\"\",\"\",IF('Ct Report'!C$6=0,\"\",IF(INDEX(INDIRECT(\"'Ct Report'!\"&$BG$24),MATCH(B78,INDIRECT(\"'Ct Report'!\"&$BF$24),0))=frmNoAmplification,frmZyklen,INDEX(INDIRECT(\"'Ct Report'!\"&$BG$24),MATCH(B78,INDIRECT(\"'Ct Report'!\"&$BF$24),0))*1)))","v":""},{"$f":"IF($B78<>\"\",IF('Ct Report'!H$6=0,\"\",INDEX(INDIRECT(\"'Ct Report'!\"&$BL$24),MATCH(B78,INDIRECT(\"'Ct Report'!\"&$BF$24),0))*1),\"\")","v":""},"","",{"$nulls":3},"",{"$f":"IF(ISNA(frmSystem),\"\",IF($B78=\"\",\"\",IF(frmAnzahlSysteme<3,\"\",IF('Ct Report'!I$6=0,\"\",INDEX(INDIRECT(\"'Ct Report'!\"&$BM$24),MATCH($B78,INDIRECT(\"'Ct Report'!\"&$BF$24),0))*1))))","v":""},"","",{"$nulls":3},"",{"$f":"IF(ISNA(frmSystem),\"\",IF($B78=\"\",\"\",IF(frmAnzahlSysteme<4,\"\",IF('Ct Report'!J$6=0,\"\",INDEX(INDIRECT(\"'Ct Report'!\"&$BN$24),MATCH($B78,INDIRECT(\"'Ct Report'!\"&$BF$24),0))*1))))","v":""},"","",{"$nulls":3},"",{"$f":"IF(ISNA(frmSystem),\"\",IF($B78=\"\",\"\",IF(frmAnzahlSysteme<5,\"\",IF('Ct Report'!K$6=0,\"\",INDEX(INDIRECT(\"'Ct Report'!\"&$BO$24),MATCH($B78,INDIRECT(\"'Ct Report'!\"&$BF$24),0))*1))))","v":""},"","",{"$nulls":3},{"$f":"IF($B78=\"\",\"\",IF('Ct Report'!G$6=0,\"\",IF(INDEX(INDIRECT(\"'Ct Report'!\"&$BK$24),MATCH($B78,INDIRECT(\"'Ct Report'!\"&$BF$24),0))=frmNoAmplification,frmZyklen,INDEX(INDIRECT(\"'Ct Report'!\"&$BK$24),MATCH($B78,INDIRECT(\"'Ct Report'!\"&$BF$24),0)))))","v":""},{"$f":"IF($B78=\"\",\"\",IF('Ct Report'!L$6=0,\"\",INDEX(INDIRECT(\"'Ct Report'!\"&$BP$24),MATCH($B78,INDIRECT(\"'Ct Report'!\"&$BF$24),0))*1))","v":""},"",{"$nulls":27},"","","","","",null,{"$error":"#N/A"},{"$error":"#N/A"},{"$error":"#N/A"},{"$error":"#N/A"},{"$error":"#N/A"},null,{"$error":"#N/A"},{"$error":"#N/A"},{"$error":"#N/A"},{"$error":"#N/A"},{"$error":"#N/A"},null,{"$error":"#N/A"},{"$error":"#N/A"},{"$error":"#N/A"},{"$error":"#N/A"},{"$error":"#N/A"},null,"","","","",null,0,null,"",{"$error":"#VALUE!"},{"$error":"#VALUE!"},{"$error":"#VALUE!"}]
[56,"E8",{"$error":"#NAME?"},{"$f":"IF(LEN($B79)=0,\"\",IF('Ct Report'!B$6=0,\"\",VLOOKUP($B79,INDIRECT(\"'Ct Report'!\"&$BE$22),2,FALSE)))","v":""},null,"U",{"$nulls":3},{"$error":"#NAME?"},{"$error":"#N/A"},{"$f":"IF($B79=\"\",\"\",IF('Ct Report'!C$6=0,\"\",IF(INDEX(INDIRECT(\"'Ct Report'!\"&$BG$24),MATCH(B79,INDIRECT(\"'Ct Report'!\"&$BF$24),0))=frmNoAmplification,frmZyklen,INDEX(INDIRECT(\"'Ct Report'!\"&$BG$24),MATCH(B79,INDIRECT(\"'Ct Report'!\"&$BF$24),0))*1)))","v":""},{"$f":"IF($B79<>\"\",IF('Ct Report'!H$6=0,\"\",INDEX(INDIRECT(\"'Ct Report'!\"&$BL$24),MATCH(B79,INDIRECT(\"'Ct Report'!\"&$BF$24),0))*1),\"\")","v":""},"","",{"$nulls":3},"",{"$f":"IF(ISNA(frmSystem),\"\",IF($B79=\"\",\"\",IF(frmAnzahlSysteme<3,\"\",IF('Ct Report'!I$6=0,\"\",INDEX(INDIRECT(\"'Ct Report'!\"&$BM$24),MATCH($B79,INDIRECT(\"'Ct Report'!\"&$BF$24),0))*1))))","v":""},"","",{"$nulls":3},"",{"$f":"IF(ISNA(frmSystem),\"\",IF($B79=\"\",\"\",IF(frmAnzahlSysteme<4,\"\",IF('Ct Report'!J$6=0,\"\",INDEX(INDIRECT(\"'Ct Report'!\"&$BN$24),MATCH($B79,INDIRECT(\"'Ct Report'!\"&$BF$24),0))*1))))","v":""},"","",{"$nulls":3},"",{"$f":"IF(ISNA(frmSystem),\"\",IF($B79=\"\",\"\",IF(frmAnzahlSysteme<5,\"\",IF('Ct Report'!K$6=0,\"\",INDEX(INDIRECT(\"'Ct Report'!\"&$BO$24),MATCH($B79,INDIRECT(\"'Ct Report'!\"&$BF$24),0))*1))))","v":""},"","",{"$nulls":3},{"$f":"IF($B79=\"\",\"\",IF('Ct Report'!G$6=0,\"\",IF(INDEX(INDIRECT(\"'Ct Report'!\"&$BK$24),MATCH($B79,INDIRECT(\"'Ct Report'!\"&$BF$24),0))=frmNoAmplification,frmZyklen,INDEX(INDIRECT(\"'Ct Report'!\"&$BK$24),MATCH($B79,INDIRECT(\"'Ct Report'!\"&$BF$24),0)))))","v":""},{"$f":"IF($B79=\"\",\"\",IF('Ct Report'!L$6=0,\"\",INDEX(INDIRECT(\"'Ct Report'!\"&$BP$24),MATCH($B79,INDIRECT(\"'Ct Report'!\"&$BF$24),0))*1))","v":""},"",{"$nulls":27},"","","","","",null,{"$error":"#N/A"},{"$error":"#N/A"},{"$error":"#N/A"},{"$error":"#N/A"},{"$error":"#N/A"},null,{"$error":"#N/A"},{"$error":"#N/A"},{"$error":"#N/A"},{"$error":"#N/A"},{"$error":"#N/A"},null,{"$error":"#N/A"},{"$error":"#N/A"},{"$error":"#N/A"},{"$error":"#N/A"},{"$error":"#N/A"},null,"","","","",null,0,null,"",{"$error":"#VALUE!"},{"$error":"#VALUE!"},{"$error":"#VALUE!"}]
[57,"E9",{"$error":"#NAME?"},{"$f":"IF(LEN($B80)=0,\"\",IF('Ct Report'!B$6=0,\"\",VLOOKUP($B80,INDIRECT(\"'Ct Report'!\"&$BE$22),2,FALSE)))","v":""},null,"U",{"$nulls":3},{"$error":"#NAME?"},{"$error":"#N/A"},{"$f":"IF($B80=\"\",\"\",IF('Ct Report'!C$6=0,\"\",IF(INDEX(INDIRECT(\"'Ct Report'!\"&$BG$24),MATCH(B80,INDIRECT(\"'Ct Report'!\"&$BF$24),0))=frmNoAmplification,frmZyklen,INDEX(INDIRECT(\"'Ct Report'!\"&$BG$24),MATCH(B80,INDIRECT(\"'Ct Report'!\"&$BF$24),0))*1)))","v":""},{"$f":"IF($B80<>\"\",IF('Ct Report'!H$6=0,\"\",INDEX(INDIRECT(\"'Ct Report'!\"&$BL$24),MATCH(B80,INDIRECT(\"'Ct Report'!\"&$BF$24),0))*1),\"\")","v":""},"","",{"$nulls":3},"",{"$f":"IF(ISNA(frmSystem),\"\",IF($B80=\"\",\"\",IF(frmAnzahlSysteme<3,\"\",IF('Ct Report'!I$6=0,\"\",INDEX(INDIRECT(\"'Ct Report'!\"&$BM$24),MATCH($B80,INDIRECT(\"'Ct Report'!\"&$BF$24),0))*1))))","v":""},"","",{"$nulls":3},"",{"$f":"IF(ISNA(frmSystem),\"\",IF($B80=\"\",\"\",IF(frmAnzahlSysteme<4,\"\",IF('Ct Report'!J$6=0,\"\",INDEX(INDIRECT(\"'Ct Report'!\"&$BN$24),MATCH($B80,INDIRECT(\"'Ct Report'!\"&$BF$24),0))*1))))","v":""},"","",{"$nulls":3},"",{"$f":"IF(ISNA(frmSystem),\"\",IF($B80=\"\",\"\",IF(frmAnzahlSysteme<5,\"\",IF('Ct Report'!K$6=0,\"\",INDEX(INDIRECT(\"'Ct Report'!\"&$BO$24),MATCH($B80,INDIRECT(\"'Ct Report'!\"&$BF$24),0))*1))))","v":""},"","",{"$nulls":3},{"$f":"IF($B80=\"\",\"\",IF('Ct Report'!G$6=0,\"\",IF(INDEX(INDIRECT(\"'Ct Report'!\"&$BK$24),MATCH($B80,INDIRECT(\"'Ct Report'!\"&$BF$24),0))=frmNoAmplification,frmZyklen,INDEX(INDIRECT(\"'Ct Report'!\"&$BK$24),MATCH($B80,INDIRECT(\"'Ct Report'!\"&$BF$24),0)))))","v":""},{"$f":"IF($B80=\"\",\"\",IF('Ct Report'!L$6=0,\"\",INDEX(INDIRECT(\"'Ct Report'!\"&$BP$24),MATCH($B80,INDIRECT(\"'Ct Report'!\"&$BF$24),0))*1))","v":""},"",{"$nulls":27},"","","","","",null,{"$error":"#N/A"},{"$error":"#N/A"},{"$error":"#N/A"},{"$error":"#N/A"},{"$error":"#N/A"},null,{"$error":"#N/A"},{"$error":"#N/A"},{"$error":"#N/A"},{"$error":"#N/A"},{"$error":"#N/A"},null,{"$error":"#N/A"},{"$error":"#N/A"},{"$error":"#N/A"},{"$error":"#N/A"},{"$error":"#N/A"},null,"","","","",null,0,null,"",{"$error":"#VALUE!"},{"$error":"#VALUE!"},{"$error":"#VALUE!"}]
[58,"E10",{"$error":"#NAME?"},{"$f":"IF(LEN($B81)=0,\"\",IF('Ct Report'!B$6=0,\"\",VLOOKUP($B81,INDIRECT(\"'Ct Report'!\"&$BE$22),2,FALSE)))","v":""},null,"U",{"$nulls":3},{"$error":"#NAME?"},{"$error":"#N/A"},{"$f":"IF($B81=\"\",\"\",IF('Ct Report'!C$6=0,\"\",IF(INDEX(INDIRECT(\"'Ct Report'!\"&$BG$24),MATCH(B81,INDIRECT(\"'Ct Report'!\"&$BF$24),0))=frmNoAmplification,frmZyklen,INDEX(INDIRECT(\"'Ct Report'!\"&$BG$24),MATCH(B81,INDIRECT(\"'Ct Report'!\"&$BF$24),0))*1)))","v":""},{"$f":"IF($B81<>\"\",IF('Ct Report'!H$6=0,\"\",INDEX(INDIRECT(\"'Ct Report'!\"&$BL$24),MATCH(B81,INDIRECT(\"'Ct Report'!\"&$BF$24),0))*1),\"\")","v":""},"","",{"$nulls":3},"",{"$f":"IF(ISNA(frmSystem),\"\",IF($B81=\"\",\"\",IF(frmAnzahlSysteme<3,\"\",IF('Ct Report'!I$6=0,\"\",INDEX(INDIRECT(\"'Ct Report'!\"&$BM$24),MATCH($B81,INDIRECT(\"'Ct Report'!\"&$BF$24),0))*1))))","v":""},"","",{"$nulls":3},"",{"$f":"IF(ISNA(frmSystem),\"\",IF($B81=\"\",\"\",IF(frmAnzahlSysteme<4,\"\",IF('Ct Report'!J$6=0,\"\",INDEX(INDIRECT(\"'Ct Report'!\"&$BN$24),MATCH($B81,INDIRECT(\"'Ct Report'!\"&$BF$24),0))*1))))","v":""},"","",{"$nulls":3},"",{"$f":"IF(ISNA(frmSystem),\"\",IF($B81=\"\",\"\",IF(frmAnzahlSysteme<5,\"\",IF('Ct Report'!K$6=0,\"\",INDEX(INDIRECT(\"'Ct Report'!\"&$BO$24),MATCH($B81,INDIRECT(\"'Ct Report'!\"&$BF$24),0))*1))))","v":""},"","",{"$nulls":3},{"$f":"IF($B81=\"\",\"\",IF('Ct Report'!G$6=0,\"\",IF(INDEX(INDIRECT(\"'Ct Report'!\"&$BK$24),MATCH($B81,INDIRECT(\"'Ct Report'!\"&$BF$24),0))=frmNoAmplification,frmZyklen,INDEX(INDIRECT(\"'Ct Report'!\"&$BK$24),MATCH($B81,INDIRECT(\"'Ct Report'!\"&$BF$24),0)))))","v":""},{"$f":"IF($B81=\"\",\"\",IF('Ct Report'!L$6=0,\"\",INDEX(INDIRECT(\"'Ct Report'!\"&$BP$24),MATCH($B81,INDIRECT(\"'Ct Report'!\"&$BF$24),0))*1))","v":""},"",{"$nulls":27},"","","","","",null,{"$error":"#N/A"},{"$error":"#N/A"},{"$error":"#N/A"},{"$error":"#N/A"},{"$error":"#N/A"},null,{"$error":"#N/A"},{"$error":"#N/A"},{"$error":"#N/A"},{"$error":"#N/A"},{"$error":"#N/A"},null,{"$error":"#N/A"},{"$error":"#N/A"},{"$error":"#N/A"},{"$error":"#N/A"},{"$error":"#N/A"},null,"","","","",null,0,null,"",{"$error":"#VALUE!"},{"$error":"#VALUE!"},{"$error":"#VALUE!"}]
[59,"E11",{"$error":"#NAME?"},{"$f":"IF(LEN($B82)=0,\"\",IF('Ct Report'!B$6=0,\"\",VLOOKUP($B82,INDIRECT(\"'Ct Report'!\"&$BE$22),2,FALSE)))","v":""},null,"U",{"$nulls":3},{"$error":"#NAME?"},{"$error":"#N/A"},{"$f":"IF($B82=\"\",\"\",IF('Ct Report'!C$6=0,\"\",IF(INDEX(INDIRECT(\"'Ct Report'!\"&$BG$24),MATCH(B82,INDIRECT(\"'Ct Report'!\"&$BF$24),0))=frmNoAmplification,frmZyklen,INDEX(INDIRECT(\"'Ct Report'!\"&$BG$24),MATCH(B82,INDIRECT(\"'Ct Report'!\"&$BF$24),0))*1)))","v":""},{"$f":"IF($B82<>\"\",IF('Ct Report'!H$6=0,\"\",INDEX(INDIRECT(\"'Ct Report'!\"&$BL$24),MATCH(B82,INDIRECT(\"'Ct Report'!\"&$BF$24),0))*1),\"\")","v":""},"","",{"$nulls":3},"",{"$f":"IF(ISNA(frmSystem),\"\",IF($B82=\"\",\"\",IF(frmAnzahlSysteme<3,\"\",IF('Ct Report'!I$6=0,\"\",INDEX(INDIRECT(\"'Ct Report'!\"&$BM$24),MATCH($B82,INDIRECT(\"'Ct Report'!\"&$BF$24),0))*1))))","v":""},"","",{"$nulls":3},"",{"$f":"IF(ISNA(frmSystem),\"\",IF($B82=\"\",\"\",IF(frmAnzahlSysteme<4,\"\",IF('Ct Report'!J$6=0,\"\",INDEX(INDIRECT(\"'Ct Report'!\"&$BN$24),MATCH($B82,INDIRECT(\"'Ct Report'!\"&$BF$24),0))*1))))","v":""},"","",{"$nulls":3},"",{"$f":"IF(ISNA(frmSystem),\"\",IF($B82=\"\",\"\",IF(frmAnzahlSysteme<5,\"\",IF('Ct Report'!K$6=0,\"\",INDEX(INDIRECT(\"'Ct Report'!\"&$BO$24),MATCH($B82,INDIRECT(\"'Ct Report'!\"&$BF$24),0))*1))))","v":""},"","",{"$nulls":3},{"$f":"IF($B82=\"\",\"\",IF('Ct Report'!G$6=0,\"\",IF(INDEX(INDIRECT(\"'Ct Report'!\"&$BK$24),MATCH($B82,INDIRECT(\"'Ct Report'!\"&$BF$24),0))=frmNoAmplification,frmZyklen,INDEX(INDIRECT(\"'Ct Report'!\"&$BK$24),MATCH($B82,INDIRECT(\"'Ct Report'!\"&$BF$24),0)))))","v":""},{"$f":"IF($B82=\"\",\"\",IF('Ct Report'!L$6=0,\"\",INDEX(INDIRECT(\"'Ct Report'!\"&$BP$24),MATCH($B82,INDIRECT(\"'Ct Report'!\"&$BF$24),0))*1))","v":""},"",{"$nulls":27},"","","","","",null,{"$error":"#N/A"},{"$error":"#N/A"},{"$error":"#N/A"},{"$error":"#N/A"},{"$error":"#N/A"},null,{"$error":"#N/A"},{"$error":"#N/A"},{"$error":"#N/A"},{"$error":"#N/A"},{"$error":"#N/A"},null,{"$error":"#N/A"},{"$error":"#N/A"},{"$error":"#N/A"},{"$error":"#N/A"},{"$error":"#N/A"},null,"","","","",null,0,null,"",{"$error":"#VALUE!"},{"$error":"#VALUE!"},{"$error":"#VALUE!"}]
[60,"E12",{"$error":"#NAME?"},{"$f":"IF(LEN($B83)=0,\"\",IF('Ct Report'!B$6=0,\"\",VLOOKUP($B83,INDIRECT(\"'Ct Report'!\"&$BE$22),2,FALSE)))","v":""},null,"U",{"$nulls":3},{"$error":"#NAME?"},{"$error":"#N/A"},{"$f":"IF($B83=\"\",\"\",IF('Ct Report'!C$6=0,\"\",IF(INDEX(INDIRECT(\"'Ct Report'!\"&$BG$24),MATCH(B83,INDIRECT(\"'Ct Report'!\"&$BF$24),0))=frmNoAmplification,frmZyklen,INDEX(INDIRECT(\"'Ct Report'!\"&$BG$24),MATCH(B83,INDIRECT(\"'Ct Report'!\"&$BF$24),0))*1)))","v":""},{"$f":"IF($B83<>\"\",IF('Ct Report'!H$6=0,\"\",INDEX(INDIRECT(\"'Ct Report'!\"&$BL$24),MATCH(B83,INDIRECT(\"'Ct Report'!\"&$BF$24),0))*1),\"\")","v":""},"","",{"$nulls":3},"",{"$f":"IF(ISNA(frmSystem),\"\",IF($B83=\"\",\"\",IF(frmAnzahlSysteme<3,\"\",IF('Ct Report'!I$6=0,\"\",INDEX(INDIRECT(\"'Ct Report'!\"&$BM$24),MATCH($B83,INDIRECT(\"'Ct Report'!\"&$BF$24),0))*1))))","v":""},"","",{"$nulls":3},"",{"$f":"IF(ISNA(frmSystem),\"\",IF($B83=\"\",\"\",IF(frmAnzahlSysteme<4,\"\",IF('Ct Report'!J$6=0,\"\",INDEX(INDIRECT(\"'Ct Report'!\"&$BN$24),MATCH($B83,INDIRECT(\"'Ct Report'!\"&$BF$24),0))*1))))","v":""},"","",{"$nulls":3},"",{"$f":"IF(ISNA(frmSystem),\"\",IF($B83=\"\",\"\",IF(frmAnzahlSysteme<5,\"\",IF('Ct Report'!K$6=0,\"\",INDEX(INDIRECT(\"'Ct Report'!\"&$BO$24),MATCH($B83,INDIRECT(\"'Ct Report'!\"&$BF$24),0))*1))))","v":""},"","",{"$nulls":3},{"$f":"IF($B83=\"\",\"\",IF('Ct Report'!G$6=0,\"\",IF(INDEX(INDIRECT(\"'Ct Report'!\"&$BK$24),MATCH($B83,INDIRECT(\"'Ct Report'!\"&$BF$24),0))=frmNoAmplification,frmZyklen,INDEX(INDIRECT(\"'Ct Report'!\"&$BK$24),MATCH($B83,INDIRECT(\"'Ct Report'!\"&$BF$24),0)))))","v":""},{"$f":"IF($B83=\"\",\"\",IF('Ct Report'!L$6=0,\"\",INDEX(INDIRECT(\"'Ct Report'!\"&$BP$24),MATCH($B83,INDIRECT(\"'Ct Report'!\"&$BF$24),0))*1))","v":""},"",{"$nulls":27},"","","","","",null,{"$error":"#N/A"},{"$error":"#N/A"},{"$error":"#N/A"},{"$error":"#N/A"},{"$error":"#N/A"},null,{"$error":"#N/A"},{"$error":"#N/A"},{"$error":"#N/A"},{"$error":"#N/A"},{"$error":"#N/A"},null,{"$error":"#N/A"},{"$error":"#N/A"},{"$error":"#N/A"},{"$error":"#N/A"},{"$error":"#N/A"},null,"","","","",null,0,null,"",{"$error":"#VALUE!"},{"$error":"#VALUE!"},{"$error":"#VALUE!"}]
[61,"F1",{"$error":"#NAME?"},{"$f":"IF(LEN($B84)=0,\"\",IF('Ct Report'!B$6=0,\"\",VLOOKUP($B84,INDIRECT(\"'Ct Report'!\"&$BE$22),2,FALSE)))","v":""},null,"U",{"$nulls":3},{"$error":"#NAME?"},{"$error":"#N/A"},{"$f":"IF($B84=\"\",\"\",IF('Ct Report'!C$6=0,\"\",IF(INDEX(INDIRECT(\"'Ct Report'!\"&$BG$24),MATCH(B84,INDIRECT(\"'Ct Report'!\"&$BF$24),0))=frmNoAmplification,frmZyklen,INDEX(INDIRECT(\"'Ct Report'!\"&$BG$24),MATCH(B84,INDIRECT(\"'Ct Report'!\"&$BF$24),0))*1)))","v":""},{"$f":"IF($B84<>\"\",IF('Ct Report'!H$6=0,\"\",INDEX(INDIRECT(\"'Ct Report'!\"&$BL$24),MATCH(B84,INDIRECT(\"'Ct Report'!\"&$BF$24),0))*1),\"\")","v":""},"","",{"$nulls":3},"",{"$f":"IF(ISNA(frmSystem),\"\",IF($B84=\"\",\"\",IF(frmAnzahlSysteme<3,\"\",IF('Ct Report'!I$6=0,\"\",INDEX(INDIRECT(\"'Ct Report'!\"&$BM$24),MATCH($B84,INDIRECT(\"'Ct Report'!\"&$BF$24),0))*1))))","v":""},"","",{"$nulls":3},"",{"$f":"IF(ISNA(frmSystem),\"\",IF($B84=\"\",\"\",IF(frmAnzahlSysteme<4,\"\",IF('Ct Report'!J$6=0,\"\",INDEX(INDIRECT(\"'Ct Report'!\"&$BN$24),MATCH($B84,INDIRECT(\"'Ct Report'!\"&$BF$24),0))*1))))","v":""},"","",{"$nulls":3},"",{"$f":"IF(ISNA(frmSystem),\"\",IF($B84=\"\",\"\",IF(frmAnzahlSysteme<5,\"\",IF('Ct Report'!K$6=0,\"\",INDEX(INDIRECT(\"'Ct Report'!\"&$BO$24),MATCH($B84,INDIRECT(\"'Ct Report'!\"&$BF$24),0))*1))))","v":""},"","",{"$nulls":3},{"$f":"IF($B84=\"\",\"\",IF('Ct Report'!G$6=0,\"\",IF(INDEX(INDIRECT(\"'Ct Report'!\"&$BK$24),MATCH($B84,INDIRECT(\"'Ct Report'!\"&$BF$24),0))=frmNoAmplification,frmZyklen,INDEX(INDIRECT(\"'Ct Report'!\"&$BK$24),MATCH($B84,INDIRECT(\"'Ct Report'!\"&$BF$24),0)))))","v":""},{"$f":"IF($B84=\"\",\"\",IF('Ct Report'!L$6=0,\"\",INDEX(INDIRECT(\"'Ct Report'!\"&$BP$24),MATCH($B84,INDIRECT(\"'Ct Report'!\"&$BF$24),0))*1))","v":""},"",{"$nulls":27},"","","","","",null,{"$error":"#N/A"},{"$error":"#N/A"},{"$error":"#N/A"},{"$error":"#N/A"},{"$error":"#N/A"},null,{"$error":"#N/A"},{"$error":"#N/A"},{"$error":"#N/A"},{"$error":"#N/A"},{"$error":"#N/A"},null,{"$error":"#N/A"},{"$error":"#N/A"},{"$error":"#N/A"},{"$error":"#N/A"},{"$error":"#N/A"},null,"","","","",null,0,null,"",{"$error":"#VALUE!"},{"$error":"#VALUE!"},{"$error":"#VALUE!"}]
[62,"F2",{"$error":"#NAME?"},{"$f":"IF(LEN($B85)=0,\"\",IF('Ct Report'!B$6=0,\"\",VLOOKUP($B85,INDIRECT(\"'Ct Report'!\"&$BE$22),2,FALSE)))","v":""},null,"U",{"$nulls":3},{"$error":"#NAME?"},{"$error":"#N/A"},{"$f":"IF($B85=\"\",\"\",IF('Ct Report'!C$6=0,\"\",IF(INDEX(INDIRECT(\"'Ct Report'!\"&$BG$24),MATCH(B85,INDIRECT(\"'Ct Report'!\"&$BF$24),0))=frmNoAmplification,frmZyklen,INDEX(INDIRECT(\"'Ct Report'!\"&$BG$24),MATCH(B85,INDIRECT(\"'Ct Report'!\"&$BF$24),0))*1)))","v":""},{"$f":"IF($B85<>\"\",IF('Ct Report'!H$6=0,\"\",INDEX(INDIRECT(\"'Ct Report'!\"&$BL$24),MATCH(B85,INDIRECT(\"'Ct Report'!\"&$BF$24),0))*1),\"\")","v":""},"","",{"$nulls":3},"",{"$f":"IF(ISNA(frmSystem),\"\",IF($B85=\"\",\"\",IF(frmAnzahlSysteme<3,\"\",IF('Ct Report'!I$6=0,\"\",INDEX(INDIRECT(\"'Ct Report'!\"&$BM$24),MATCH($B85,INDIRECT(\"'Ct Report'!\"&$BF$24),0))*1))))","v":""},"","",{"$nulls":3},"",{"$f":"IF(ISNA(frmSystem),\"\",IF($B85=\"\",\"\",IF(frmAnzahlSysteme<4,\"\",IF('Ct Report'!J$6=0,\"\",INDEX(INDIRECT(\"'Ct Report'!\"&$BN$24),MATCH($B85,INDIRECT(\"'Ct Report'!\"&$BF$24),0))*1))))","v":""},"","",{"$nulls":3},"",{"$f":"IF(ISNA(frmSystem),\"\",IF($B85=\"\",\"\",IF(frmAnzahlSysteme<5,\"\",IF('Ct Report'!K$6=0,\"\",INDEX(INDIRECT(\"'Ct Report'!\"&$BO$24),MATCH($B85,INDIRECT(\"'Ct Report'!\"&$BF$24),0))*1))))","v":""},"","",{"$nulls":3},{"$f":"IF($B85=\"\",\"\",IF('Ct Report'!G$6=0,\"\",IF(INDEX(INDIRECT(\"'Ct Report'!\"&$BK$24),MATCH($B85,INDIRECT(\"'Ct Report'!\"&$BF$24),0))=frmNoAmplification,frmZyklen,INDEX(INDIRECT(\"'Ct Report'!\"&$BK$24),MATCH($B85,INDIRECT(\"'Ct Report'!\"&$BF$24),0)))))","v":""},{"$f":"IF($B85=\"\",\"\",IF('Ct Report'!L$6=0,\"\",INDEX(INDIRECT(\"'Ct Report'!\"&$BP$24),MATCH($B85,INDIRECT(\"'Ct Report'!\"&$BF$24),0))*1))","v":""},"",{"$nulls":27},"","","","","",null,{"$error":"#N/A"},{"$error":"#N/A"},{"$error":"#N/A"},{"$error":"#N/A"},{"$error":"#N/A"},null,{"$error":"#N/A"},{"$error":"#N/A"},{"$error":"#N/A"},{"$error":"#N/A"},{"$error":"#N/A"},null,{"$error":"#N/A"},{"$error":"#N/A"},{"$error":"#N/A"},{"$error":"#N/A"},{"$error":"#N/A"},null,"","","","",null,0,null,"",{"$error":"#VALUE!"},{"$error":"#VALUE!"},{"$error":"#VALUE!"}]
[63,"F3",{"$error":"#NAME?"},{"$f":"IF(LEN($B86)=0,\"\",IF('Ct Report'!B$6=0,\"\",VLOOKUP($B86,INDIRECT(\"'Ct Report'!\"&$BE$22),2,FALSE)))","v":""},null,"U",{"$nulls":3},{"$error":"#NAME?"},{"$error":"#N/A"},{"$f":"IF($B86=\"\",\"\",IF('Ct Report'!C$6=0,\"\",IF(INDEX(INDIRECT(\"'Ct Report'!\"&$BG$24),MATCH(B86,INDIRECT(\"'Ct Report'!\"&$BF$24),0))=frmNoAmplification,frmZyklen,INDEX(INDIRECT(\"'Ct Report'!\"&$BG$24),MATCH(B86,INDIRECT(\"'Ct Report'!\"&$BF$24),0))*1)))","v":""},{"$f":"IF($B86<>\"\",IF('Ct Report'!H$6=0,\"\",INDEX(INDIRECT(\"'Ct Report'!\"&$BL$24),MATCH(B86,INDIRECT(\"'Ct Report'!\"&$BF$24),0))*1),\"\")","v":""},"","",{"$nulls":3},"",{"$f":"IF(ISNA(frmSystem),\"\",IF($B86=\"\",\"\",IF(frmAnzahlSysteme<3,\"\",IF('Ct Report'!I$6=0,\"\",INDEX(INDIRECT(\"'Ct Report'!\"&$BM$24),MATCH($B86,INDIRECT(\"'Ct Report'!\"&$BF$24),0))*1))))","v":""},"","",{"$nulls":3},"",{"$f":"IF(ISNA(frmSystem),\"\",IF($B86=\"\",\"\",IF(frmAnzahlSysteme<4,\"\",IF('Ct Report'!J$6=0,\"\",INDEX(INDIRECT(\"'Ct Report'!\"&$BN$24),MATCH($B86,INDIRECT(\"'Ct Report'!\"&$BF$24),0))*1))))","v":""},"","",{"$nulls":3},"",{"$f":"IF(ISNA(frmSystem),\"\",IF($B86=\"\",\"\",IF(frmAnzahlSysteme<5,\"\",IF('Ct Report'!K$6=0,\"\",INDEX(INDIRECT(\"'Ct Report'!\"&$BO$24),MATCH($B86,INDIRECT(\"'Ct Report'!\"&$BF$24),0))*1))))","v":""},"","",{"$nulls":3},{"$f":"IF($B86=\"\",\"\",IF('Ct Report'!G$6=0,\"\",IF(INDEX(INDIRECT(\"'Ct Report'!\"&$BK$24),MATCH($B86,INDIRECT(\"'Ct Report'!\"&$BF$24),0))=frmNoAmplification,frmZyklen,INDEX(INDIRECT(\"'Ct Report'!\"&$BK$24),MATCH($B86,INDIRECT(\"'Ct Report'!\"&$BF$24),0)))))","v":""},{"$f":"IF($B86=\"\",\"\",IF('Ct Report'!L$6=0,\"\",INDEX(INDIRECT(\"'Ct Report'!\"&$BP$24),MATCH($B86,INDIRECT(\"'Ct Report'!\"&$BF$24),0))*1))","v":""},"",{"$nulls":27},"","","","","",null,{"$error":"#N/A"},{"$error":"#N/A"},{"$error":"#N/A"},{"$error":"#N/A"},{"$error":"#N/A"},null,{"$error":"#N/A"},{"$error":"#N/A"},{"$error":"#N/A"},{"$error":"#N/A"},{"$error":"#N/A"},null,{"$error":"#N/A"},{"$error":"#N/A"},{"$error":"#N/A"},{"$error":"#N/A"},{"$error":"#N/A"},null,"","","","",null,0,null,"",{"$error":"#VALUE!"},{"$error":"#VALUE!"},{"$error":"#VALUE!"}]
[64,"F4",{"$error":"#NAME?"},{"$f":"IF(LEN($B87)=0,\"\",IF('Ct Report'!B$6=0,\"\",VLOOKUP($B87,INDIRECT(\"'Ct Report'!\"&$BE$22),2,FALSE)))","v":""},null,"U",{"$nulls":3},{"$error":"#NAME?"},{"$error":"#N/A"},{"$f":"IF($B87=\"\",\"\",IF('Ct Report'!C$6=0,\"\",IF(INDEX(INDIRECT(\"'Ct Report'!\"&$BG$24),MATCH(B87,INDIRECT(\"'Ct Report'!\"&$BF$24),0))=frmNoAmplification,frmZyklen,INDEX(INDIRECT(\"'Ct Report'!\"&$BG$24),MATCH(B87,INDIRECT(\"'Ct Report'!\"&$BF$24),0))*1)))","v":""},{"$f":"IF($B87<>\"\",IF('Ct Report'!H$6=0,\"\",INDEX(INDIRECT(\"'Ct Report'!\"&$BL$24),MATCH(B87,INDIRECT(\"'Ct Report'!\"&$BF$24),0))*1),\"\")","v":""},"","",{"$nulls":3},"",{"$f":"IF(ISNA(frmSystem),\"\",IF($B87=\"\",\"\",IF(frmAnzahlSysteme<3,\"\",IF('Ct Report'!I$6=0,\"\",INDEX(INDIRECT(\"'Ct Report'!\"&$BM$24),MATCH($B87,INDIRECT(\"'Ct Report'!\"&$BF$24),0))*1))))","v":""},"","",{"$nulls":3},"",{"$f":"IF(ISNA(frmSystem),\"\",IF($B87=\"\",\"\",IF(frmAnzahlSysteme<4,\"\",IF('Ct Report'!J$6=0,\"\",INDEX(INDIRECT(\"'Ct Report'!\"&$BN$24),MATCH($B87,INDIRECT(\"'Ct Report'!\"&$BF$24),0))*1))))","v":""},"","",{"$nulls":3},"",{"$f":"IF(ISNA(frmSystem),\"\",IF($B87=\"\",\"\",IF(frmAnzahlSysteme<5,\"\",IF('Ct Report'!K$6=0,\"\",INDEX(INDIRECT(\"'Ct Report'!\"&$BO$24),MATCH($B87,INDIRECT(\"'Ct Report'!\"&$BF$24),0))*1))))","v":""},"","",{"$nulls":3},{"$f":"IF($B87=\"\",\"\",IF('Ct Report'!G$6=0,\"\",IF(INDEX(INDIRECT(\"'Ct Report'!\"&$BK$24),MATCH($B87,INDIRECT(\"'Ct Report'!\"&$BF$24),0))=frmNoAmplification,frmZyklen,INDEX(INDIRECT(\"'Ct Report'!\"&$BK$24),MATCH($B87,INDIRECT(\"'Ct Report'!\"&$BF$24),0)))))","v":""},{"$f":"IF($B87=\"\",\"\",IF('Ct Report'!L$6=0,\"\",INDEX(INDIRECT(\"'Ct Report'!\"&$BP$24),MATCH($B87,INDIRECT(\"'Ct Report'!\"&$BF$24),0))*1))","v":""},"",{"$nulls":27},"","","","","",null,{"$error":"#N/A"},{"$error":"#N/A"},{"$error":"#N/A"},{"$error":"#N/A"},{"$error":"#N/A"},null,{"$error":"#N/A"},{"$error":"#N/A"},{"$error":"#N/A"},{"$error":"#N/A"},{"$error":"#N/A"},null,{"$error":"#N/A"},{"$error":"#N/A"},{"$error":"#N/A"},{"$error":"#N/A"},{"$error":"#N/A"},null,"","","","",null,0,null,"",{"$error":"#VALUE!"},{"$error":"#VALUE!"},{"$error":"#VALUE!"}]
[65,{"$f":"IF(LEN($A88)=0,\"\",VLOOKUP($A88,INDIRECT(\"tabLayout\"&frmLayout),2,FALSE))","v":"F5"},{"$error":"#NAME?"},{"$f":"IF(LEN($B88)=0,\"\",IF('Ct Report'!B$6=0,\"\",VLOOKUP($B88,INDIRECT(\"'Ct Report'!\"&$BE$22),2,FALSE)))","v":""},null,{"$f":"IF(LEN($A88)=0,\"\",VLOOKUP($A88,INDIRECT(\"tabLayout\"&frmLayout),3,FALSE))","v":"U"},{"$nulls":3},{"$f":"IF($B88<>\"\",IF(VLOOKUP($A88,tabPlattenLayout2,AS$23+4,FALSE)=\"./.\",\"\",VLOOKUP($A88,tabPlattenLayout2,AS$23+4,FALSE)*1),\"\")","v":{"$error":"#NAME?"}},{"$f":"IF(B88<>\"\",VLOOKUP(frmModul,tabPCRSysteme,5,FALSE),\"\")","v":{"$error":"#N/A"}},{"$f":"IF($B88=\"\",\"\",IF('Ct Report'!C$6=0,\"\",IF(INDEX(INDIRECT(\"'Ct Report'!\"&$BG$24),MATCH(B88,INDIRECT(\"'Ct Report'!\"&$BF$24),0))=frmNoAmplification,frmZyklen,INDEX(INDIRECT(\"'Ct Report'!\"&$BG$24),MATCH(B88,INDIRECT(\"'Ct Report'!\"&$BF$24),0))*1)))","v":""},{"$f":"IF($B88<>\"\",IF('Ct Report'!H$6=0,\"\",INDEX(INDIRECT(\"'Ct Report'!\"&$BL$24),MATCH(B88,INDIRECT(\"'Ct Report'!\"&$BF$24),0))*1),\"\")","v":""},{"$f":"IF(ISNA(frmSystem),\"\",IF(B88=\"\",\"\",IF(LEN(L$21)>0,\"\",INDEX(lstResultGMO2Short,MATCH($AP88&BT88,lstResultGMO2Def,0),0))))","v":""},{"$f":"IF(ISNA(frmSystem),\"\",IF($B84=\"\",\"\",IF(frmShiftAsymetrie=0,\"\",IF(N88=\"+\",\"\",IF($CU88>0,IF(HLOOKUP($CU88,$CY$18:$DM$22,2,FALSE)=0,\"S\",\"\"),\"\")))))","v":""},{"$nulls":3},{"$f":"IF(ISNA(frmSystem),\"\",IF($B88=\"\",\"\",IF(frmAnzahlSysteme<3,\"\",IF(LEN(S$21)>0,\"\",IF(INDEX(INDIRECT(\"'Ct Report'!\"&$BH$24),MATCH(B88,INDIRECT(\"'Ct Report'!\"&$BF$24),0))=frmNoAmplification,frmZyklen,INDEX(INDIRECT(\"'Ct Report'!\"&$BH$24),MATCH(B88,INDIRECT(\"'Ct Report'!\"&$BF$24),0))*1)))))","v":""},{"$f":"IF(ISNA(frmSystem),\"\",IF($B88=\"\",\"\",IF(frmAnzahlSysteme<3,\"\",IF('Ct Report'!I$6=0,\"\",INDEX(INDIRECT(\"'Ct Report'!\"&$BM$24),MATCH($B88,INDIRECT(\"'Ct Report'!\"&$BF$24),0))*1))))","v":""},{"$f":"IF(ISNA(frmSystem),\"\",IF(B88=\"\",\"\",IF(frmAnzahlSysteme<3,\"\",IF(LEN(S$21)>0,\"\",INDEX(lstResultGMO2Short,MATCH($AP88&BZ88,lstResultGMO2Def,0),0)))))","v":""},{"$f":"IF(ISNA(frmSystem),\"\",IF($B88=\"\",\"\",IF(frmAnzahlSysteme<3,\"\",IF(frmShiftAsymetrie=0,\"\",IF(U88=\"+\",\"\",IF($CU88>0,IF(HLOOKUP($CU88,$CY$18:$DM$22,3,FALSE)=0,\"S\",\"\"),\"\"))))))","v":""},{"$nulls":3},{"$f":"IF(ISNA(frmSystem),\"\",IF($B88=\"\",\"\",IF(frmAnzahlSysteme<4,\"\",IF(LEN(Z$21)>0,\"\",IF(INDEX(INDIRECT(\"'Ct Report'!\"&$BI$24),MATCH(B88,INDIRECT(\"'Ct Report'!\"&$BF$24),0))=frmNoAmplification,frmZyklen,INDEX(INDIRECT(\"'Ct Report'!\"&$BI$24),MATCH(B88,INDIRECT(\"'Ct Report'!\"&$BF$24),0))*1)))))","v":""},{"$f":"IF(ISNA(frmSystem),\"\",IF($B88=\"\",\"\",IF(frmAnzahlSysteme<4,\"\",IF('Ct Report'!J$6=0,\"\",INDEX(INDIRECT(\"'Ct Report'!\"&$BN$24),MATCH($B88,INDIRECT(\"'Ct Report'!\"&$BF$24),0))*1))))","v":""},{"$f":"IF(ISNA(frmSystem),\"\",IF(B88=\"\",\"\",IF(frmAnzahlSysteme<4,\"\",IF(LEN(Z$21)>0,\"\",INDEX(lstResultGMO2Short,MATCH($AP88&CF88,lstResultGMO2Def,0),0)))))","v":""},{"$f":"IF(ISNA(frmSystem),\"\",IF($B88=\"\",\"\",IF(frmAnzahlSysteme<4,\"\",IF(frmShiftAsymetrie=0,\"\",IF(AB88=\"+\",\"\",IF($CU88>0,IF(HLOOKUP($CU88,$CY$18:$DM$22,4,FALSE)=0,\"S\",\"\"),\"\"))))))","v":""},{"$nulls":3},{"$f":"IF(ISNA(frmSystem),\"\",IF($B88=\"\",\"\",IF(frmAnzahlSysteme<5,\"\",IF(INDEX(INDIRECT(\"'Ct Report'!\"&$BJ$24),MATCH(B88,INDIRECT(\"'Ct Report'!\"&$BF$24),0))=frmNoAmplification,frmZyklen,INDEX(INDIRECT(\"'Ct Report'!\"&$BJ$24),MATCH(B88,INDIRECT(\"'Ct Report'!\"&$BF$24),0))*1))))","v":""},{"$f":"IF(ISNA(frmSystem),\"\",IF($B88=\"\",\"\",IF(frmAnzahlSysteme<5,\"\",IF('Ct Report'!K$6=0,\"\",INDEX(INDIRECT(\"'Ct Report'!\"&$BO$24),MATCH($B88,INDIRECT(\"'Ct Report'!\"&$BF$24),0))*1))))","v":""},{"$f":"IF(ISNA(frmSystem),\"\",IF(B88=\"\",\"\",IF(frmAnzahlSysteme<5,\"\",IF(LEN(AG$21)>0,\"\",INDEX(lstResultGMO2Short,MATCH($AP88&CL88,lstResultGMO2Def,0),0)))))","v":""},{"$f":"IF(ISNA(frmSystem),\"\",IF($B88=\"\",\"\",IF(frmAnzahlSysteme<5,\"\",IF(frmShiftAsymetrie=0,\"\",IF(AI88=\"+\",\"\",IF($CU88>0,IF(HLOOKUP($CU88,$CY$18:$DM$22,5,FALSE)=0,\"S\",\"\"),\"\"))))))","v":""},{"$nulls":3},{"$f":"IF($B88=\"\",\"\",IF('Ct Report'!G$6=0,\"\",IF(INDEX(INDIRECT(\"'Ct Report'!\"&$BK$24),MATCH($B88,INDIRECT(\"'Ct Report'!\"&$BF$24),0))=frmNoAmplification,frmZyklen,INDEX(INDIRECT(\"'Ct Report'!\"&$BK$24),MATCH($B88,INDIRECT(\"'Ct Report'!\"&$BF$24),0)))))","v":""},{"$f":"IF($B88=\"\",\"\",IF('Ct Report'!L$6=0,\"\",INDEX(INDIRECT(\"'Ct Report'!\"&$BP$24),MATCH($B88,INDIRECT(\"'Ct Report'!\"&$BF$24),0))*1))","v":""},{"$f":"IF(ISNA(frmSystem),\"\",IF(B88=\"\",\"\",IF(LEN(AN$21)>0,\"\",IF(frmCqScoringSystem5,VLOOKUP(SUM(CR88:CS88),tabResultIPC,2,FALSE),VLOOKUP(SUM(CP88:CQ88),tabResultIPC,2,FALSE)))))","v":""},{"$nulls":27},{"$f":"IF(LEN($B88)=0,\"\",IF(L88=\"\",\"\",IF(L88=frmZyklen,0,IF(BU$18=TRUE,IF(L88<=frmCutOff1,10,0),IF(ISNUMBER(BR$12),IF(L88<=BS$12,20,IF(AND(L88>BS$12,L88<=frmCutOff1),10,0)),IF(L88<=frmCutOff1,10,0))))))","v":""},{"$f":"IF(B88=\"\",\"\",IF(M88=\"\",\"\",IF(BU$18=TRUE,IF(L88<=frmCutOff1,1,0),IF(ISNUMBER(frmRnLimit1Low),IF(AND(M88>=frmRnLimit1Low,M88<frmRnLimit1),2,IF(M88>=frmRnLimit1,1,0)),IF(M88>=frmRnLimit1,1,0)))))","v":""},{"$f":"IF(B88=\"\",\"\",IF(OR(BR88=\"\",BS88=\"\"),\"\",VLOOKUP(SUM(BR88:BS88),tabResultGMO,2,FALSE)))","v":""},{"$f":"IF(B88=\"\",\"\",IF(OR(BR88=\"\",BS88=\"\"),\"\",INDEX(lstResultGMO2,MATCH($AP88&BT88,lstResultGMO2Def,0),0)))","v":""},{"$f":"IF(LEN($B88)=0,\"\",IF(L88=\"\",\"\",IF(ISERROR(L88),0,IF(L88-System1_MwPos<=frmShiftAsymetrie,1,0))))","v":""},null,{"$f":"IF(LEN($B88)=0,\"\",IF(frmAnzahlSysteme<3,\"\",IF(S88=\"\",\"\",IF(S88=frmZyklen,0,IF(CA$18=TRUE,IF(S88<=frmCutOff2,10,1),IF(ISNUMBER(BX$12),IF(S88<=BY$12,20,IF(AND(S88>BY$12,S88<=frmCutOff2),10,0)),IF(S88<=frmCutOff2,10,0)))))))","v":{"$error":"#N/A"}},{"$f":"IF(B88=\"\",\"\",IF(frmAnzahlSysteme<3,\"\",IF(T88=\"\",\"\",IF(CA$18=TRUE,IF(S88<=frmCutOff2,1,1),IF(ISNUMBER(frmRnLimit2Low),IF(AND(T88>=frmRnLimit2Low,T88<frmRnLimit2),2,IF(T88>=frmRnLimit2,1,0)),IF(T88>=frmRnLimit2,1,0))))))","v":{"$error":"#N/A"}},{"$f":"IF($B88=\"\",\"\",IF(OR(BX88=\"\",BY88=\"\"),\"\",VLOOKUP(SUM(BX88:BY88),tabResultGMO,2,FALSE)))","v":{"$error":"#N/A"}},{"$f":"IF($B88=\"\",\"\",IF(OR(BX88=\"\",BY88=\"\"),\"\",INDEX(lstResultGMO2,MATCH($AP88&BZ88,lstResultGMO2Def,0),0)))","v":{"$error":"#N/A"}},{"$f":"IF(LEN($B88)=0,0,IF(frmAnzahlSysteme<3,0,IF(S88=\"\",0,IF(S88-System2_MwPos<=frmShiftAsymetrie,2,0))))","v":{"$error":"#N/A"}},null,{"$f":"IF(LEN($B88)=0,\"\",IF(frmAnzahlSysteme<4,\"\",IF(Z88=\"\",\"\",IF(Z88=frmZyklen,0,IF(CG$18=TRUE,IF(Z88<=frmCutOff3,10,0),IF(ISNUMBER(CD$12),IF(Z88<=CE$12,20,IF(AND(Z88>CE$12,Z88<=frmCutOff3),10,0)),IF(Z88<=frmCutOff3,10,0)))))))","v":{"$error":"#N/A"}},{"$f":"IF(B88=\"\",\"\",IF(frmAnzahlSysteme<4,\"\",IF(AA88=\"\",\"\",IF(CG$18=TRUE,IF(Z88<=frmCutOff3,1,0),IF(ISNUMBER(frmRnLimit3Low),IF(AND(AA88>=frmRnLimit3Low,AA88<frmRnLimit3),2,IF(AA88>=frmRnLimit3,1,0)),IF(AA88>=frmRnLimit3,1,0))))))","v":{"$error":"#N/A"}},{"$f":"IF($B88=\"\",\"\",IF(OR(CD88=\"\",CE88=\"\"),\"\",VLOOKUP(SUM(CD88:CE88),tabResultGMO,2,FALSE)))","v":{"$error":"#N/A"}},{"$f":"IF($B88=\"\",\"\",IF(OR(CD88=\"\",CE88=\"\"),\"\",INDEX(lstResultGMO2,MATCH($AP88&CF88,lstResultGMO2Def,0),0)))","v":{"$error":"#N/A"}},{"$f":"IF(LEN($B88)=0,0,IF(frmAnzahlSysteme<4,0,IF(Z88=\"\",0,IF(Z88-System3_MwPos<=frmShiftAsymetrie,4,0))))","v":{"$error":"#N/A"}},null,{"$f":"IF(LEN($B88)=0,\"\",IF(frmAnzahlSysteme<5,\"\",IF(AG88=\"\",\"\",IF(AG88=frmZyklen,0,IF(CM$18=TRUE,IF(AG88<=frmCutOff4,10,0),IF(ISNUMBER(CJ$12),IF(AG88<=CK$12,20,IF(AND(AG88>CK$12,AG88<=frmCutOff4),10,0)),IF(AG88<=frmCutOff4,10,0)))))))","v":{"$error":"#N/A"}},{"$f":"IF(B88=\"\",\"\",IF(frmAnzahlSysteme<5,\"\",IF(AH88=\"\",\"\",IF(CM$18=TRUE,IF(AG88<=frmCutOff4,1,0),IF(ISNUMBER(frmRnLimit4Low),IF(AND(AH88>=frmRnLimit4Low,AH88<frmRnLimit4),2,IF(AH88>=frmRnLimit4,1,0)),IF(AH88>=frmRnLimit4,1,0))))))","v":{"$error":"#N/A"}},{"$f":"IF($B88=\"\",\"\",IF(OR(CJ88=\"\",CK88=\"\"),\"\",VLOOKUP(SUM(CJ88:CK88),tabResultGMO,2,FALSE)))","v":{"$error":"#N/A"}},{"$f":"IF($B88=\"\",\"\",IF(OR(CJ88=\"\",CK88=\"\"),\"\",INDEX(lstResultGMO2,MATCH($AP88&CL88,lstResultGMO2Def,0),0)))","v":{"$error":"#N/A"}},{"$f":"IF(LEN($B88)=0,0,IF(frmAnzahlSysteme<5,0,IF(AG88=\"\",0,IF(AG88-System4_MwPos<=frmShiftAsymetrie,8,0))))","v":{"$error":"#N/A"}},null,{"$f":"IF(LEN($B88)=0,\"\",IF(AN88=\"\",\"\",IF(AN88=frmZyklen,0,IF(ISNUMBER(CP$12),IF(AN88<=CQ$12,200,IF(AND(AN88>CQ$12,AN88<=frmCutOffIPC),100,0)),IF(AN88<=frmCutOffIPC,100,0)))))","v":""},{"$f":"IF(B88=\"\",\"\",IF(AO88=\"\",\"\",IF(AO88>=frmRnLimitIPC,1000,0)))","v":""},{"$f":"IF(LEN($B88)=0,\"\",IF(AN88=\"\",\"\",IF(AN88=frmZyklen,0,IF(ISNUMBER(CP$12),IF(AN88<=CQ$12,100,IF(AND(AN88>CQ$12,AN88<=frmCutOffIPC),1100,0)),IF(AN88<=frmCutOffIPC,100,0)))))","v":""},{"$f":"IF(B88=\"\",\"\",IF(AO88=\"\",\"\",IF(frmCqScoringSystem5,0,IF(AO88>=frmRnLimitIPC,1000,1000))))","v":""},null,{"$f":"IF(IFERROR(frmShiftAsymetrie,0)<0,CHOOSE(frmAnzahlSysteme-1,CW88,CX88,CY88,CZ88),0)","v":0},null,"",{"$error":"#VALUE!"},{"$error":"#VALUE!"},{"$error":"#VALUE!"}]
[66,"F6",{"$f":"IF(B89<>\"\",VLOOKUP($A89,tabPlattenLayout,5,FALSE),\"\")","v":{"$error":"#NAME?"}},{"$f":"IF(LEN($B89)=0,\"\",IF('Ct Report'!B$6=0,\"\",VLOOKUP($B89,INDIRECT(\"'Ct Report'!\"&$BE$22),2,FALSE)))","v":""},null,"U",{"$nulls":3},{"$error":"#NAME?"},{"$error":"#N/A"},{"$f":"IF($B89=\"\",\"\",IF('Ct Report'!C$6=0,\"\",IF(INDEX(INDIRECT(\"'Ct Report'!\"&$BG$24),MATCH(B89,INDIRECT(\"'Ct Report'!\"&$BF$24),0))=frmNoAmplification,frmZyklen,INDEX(INDIRECT(\"'Ct Report'!\"&$BG$24),MATCH(B89,INDIRECT(\"'Ct Report'!\"&$BF$24),0))*1)))","v":""},{"$f":"IF($B89<>\"\",IF('Ct Report'!H$6=0,\"\",INDEX(INDIRECT(\"'Ct Report'!\"&$BL$24),MATCH(B89,INDIRECT(\"'Ct Report'!\"&$BF$24),0))*1),\"\")","v":""},"","",{"$nulls":3},"",{"$f":"IF(ISNA(frmSystem),\"\",IF($B89=\"\",\"\",IF(frmAnzahlSysteme<3,\"\",IF('Ct Report'!I$6=0,\"\",INDEX(INDIRECT(\"'Ct Report'!\"&$BM$24),MATCH($B89,INDIRECT(\"'Ct Report'!\"&$BF$24),0))*1))))","v":""},"","",{"$nulls":3},"",{"$f":"IF(ISNA(frmSystem),\"\",IF($B89=\"\",\"\",IF(frmAnzahlSysteme<4,\"\",IF('Ct Report'!J$6=0,\"\",INDEX(INDIRECT(\"'Ct Report'!\"&$BN$24),MATCH($B89,INDIRECT(\"'Ct Report'!\"&$BF$24),0))*1))))","v":""},"","",{"$nulls":3},"",{"$f":"IF(ISNA(frmSystem),\"\",IF($B89=\"\",\"\",IF(frmAnzahlSysteme<5,\"\",IF('Ct Report'!K$6=0,\"\",INDEX(INDIRECT(\"'Ct Report'!\"&$BO$24),MATCH($B89,INDIRECT(\"'Ct Report'!\"&$BF$24),0))*1))))","v":""},"","",{"$nulls":3},{"$f":"IF($B89=\"\",\"\",IF('Ct Report'!G$6=0,\"\",IF(INDEX(INDIRECT(\"'Ct Report'!\"&$BK$24),MATCH($B89,INDIRECT(\"'Ct Report'!\"&$BF$24),0))=frmNoAmplification,frmZyklen,INDEX(INDIRECT(\"'Ct Report'!\"&$BK$24),MATCH($B89,INDIRECT(\"'Ct Report'!\"&$BF$24),0)))))","v":""},{"$f":"IF($B89=\"\",\"\",IF('Ct Report'!L$6=0,\"\",INDEX(INDIRECT(\"'Ct Report'!\"&$BP$24),MATCH($B89,INDIRECT(\"'Ct Report'!\"&$BF$24),0))*1))","v":""},"",{"$nulls":27},"","","","","",null,{"$error":"#N/A"},{"$error":"#N/A"},{"$error":"#N/A"},{"$error":"#N/A"},{"$error":"#N/A"},null,{"$error":"#N/A"},{"$error":"#N/A"},{"$error":"#N/A"},{"$error":"#N/A"},{"$error":"#N/A"},null,{"$error":"#N/A"},{"$error":"#N/A"},{"$error":"#N/A"},{"$error":"#N/A"},{"$error":"#N/A"},null,"","","","",null,0,null,{"$f":"BV89","v":""},{"$f":"BV89+CB89","v":{"$error":"#VALUE!"}},{"$f":"BV89+CB89+CH89","v":{"$error":"#VALUE!"}},{"$f":"BV89+CB89+CH89+CN89","v":{"$error":"#VALUE!"}}]
[67,"F7",{"$error":"#NAME?"},{"$f":"IF(LEN($B90)=0,\"\",IF('Ct Report'!B$6=0,\"\",VLOOKUP($B90,INDIRECT(\"'Ct Report'!\"&$BE$22),2,FALSE)))","v":""},null,"U",{"$nulls":3},{"$error":"#NAME?"},{"$error":"#N/A"},{"$f":"IF($B90=\"\",\"\",IF('Ct Report'!C$6=0,\"\",IF(INDEX(INDIRECT(\"'Ct Report'!\"&$BG$24),MATCH(B90,INDIRECT(\"'Ct Report'!\"&$BF$24),0))=frmNoAmplification,frmZyklen,INDEX(INDIRECT(\"'Ct Report'!\"&$BG$24),MATCH(B90,INDIRECT(\"'Ct Report'!\"&$BF$24),0))*1)))","v":""},{"$f":"IF($B90<>\"\",IF('Ct Report'!H$6=0,\"\",INDEX(INDIRECT(\"'Ct Report'!\"&$BL$24),MATCH(B90,INDIRECT(\"'Ct Report'!\"&$BF$24),0))*1),\"\")","v":""},"","",{"$nulls":3},"",{"$f":"IF(ISNA(frmSystem),\"\",IF($B90=\"\",\"\",IF(frmAnzahlSysteme<3,\"\",IF('Ct Report'!I$6=0,\"\",INDEX(INDIRECT(\"'Ct Report'!\"&$BM$24),MATCH($B90,INDIRECT(\"'Ct Report'!\"&$BF$24),0))*1))))","v":""},"","",{"$nulls":3},"",{"$f":"IF(ISNA(frmSystem),\"\",IF($B90=\"\",\"\",IF(frmAnzahlSysteme<4,\"\",IF('Ct Report'!J$6=0,\"\",INDEX(INDIRECT(\"'Ct Report'!\"&$BN$24),MATCH($B90,INDIRECT(\"'Ct Report'!\"&$BF$24),0))*1))))","v":""},"","",{"$nulls":3},"",{"$f":"IF(ISNA(frmSystem),\"\",IF($B90=\"\",\"\",IF(frmAnzahlSysteme<5,\"\",IF('Ct Report'!K$6=0,\"\",INDEX(INDIRECT(\"'Ct Report'!\"&$BO$24),MATCH($B90,INDIRECT(\"'Ct Report'!\"&$BF$24),0))*1))))","v":""},"","",{"$nulls":3},{"$f":"IF($B90=\"\",\"\",IF('Ct Report'!G$6=0,\"\",IF(INDEX(INDIRECT(\"'Ct Report'!\"&$BK$24),MATCH($B90,INDIRECT(\"'Ct Report'!\"&$BF$24),0))=frmNoAmplification,frmZyklen,INDEX(INDIRECT(\"'Ct Report'!\"&$BK$24),MATCH($B90,INDIRECT(\"'Ct Report'!\"&$BF$24),0)))))","v":""},{"$f":"IF($B90=\"\",\"\",IF('Ct Report'!L$6=0,\"\",INDEX(INDIRECT(\"'Ct Report'!\"&$BP$24),MATCH($B90,INDIRECT(\"'Ct Report'!\"&$BF$24),0))*1))","v":""},"",{"$nulls":27},"","","","","",null,{"$error":"#N/A"},{"$error":"#N/A"},{"$error":"#N/A"},{"$error":"#N/A"},{"$error":"#N/A"},null,{"$error":"#N/A"},{"$error":"#N/A"},{"$error":"#N/A"},{"$error":"#N/A"},{"$error":"#N/A"},null,{"$error":"#N/A"},{"$error":"#N/A"},{"$error":"#N/A"},{"$error":"#N/A"},{"$error":"#N/A"},null,"","","","",null,0,null,"",{"$error":"#VALUE!"},{"$error":"#VALUE!"},{"$error":"#VALUE!"}]
[68,"F8",{"$error":"#NAME?"},{"$f":"IF(LEN($B91)=0,\"\",IF('Ct Report'!B$6=0,\"\",VLOOKUP($B91,INDIRECT(\"'Ct Report'!\"&$BE$22),2,FALSE)))","v":""},null,"U",{"$nulls":3},{"$error":"#NAME?"},{"$error":"#N/A"},{"$f":"IF($B91=\"\",\"\",IF('Ct Report'!C$6=0,\"\",IF(INDEX(INDIRECT(\"'Ct Report'!\"&$BG$24),MATCH(B91,INDIRECT(\"'Ct Report'!\"&$BF$24),0))=frmNoAmplification,frmZyklen,INDEX(INDIRECT(\"'Ct Report'!\"&$BG$24),MATCH(B91,INDIRECT(\"'Ct Report'!\"&$BF$24),0))*1)))","v":""},{"$f":"IF($B91<>\"\",IF('Ct Report'!H$6=0,\"\",INDEX(INDIRECT(\"'Ct Report'!\"&$BL$24),MATCH(B91,INDIRECT(\"'Ct Report'!\"&$BF$24),0))*1),\"\")","v":""},"","",{"$nulls":3},"",{"$f":"IF(ISNA(frmSystem),\"\",IF($B91=\"\",\"\",IF(frmAnzahlSysteme<3,\"\",IF('Ct Report'!I$6=0,\"\",INDEX(INDIRECT(\"'Ct Report'!\"&$BM$24),MATCH($B91,INDIRECT(\"'Ct Report'!\"&$BF$24),0))*1))))","v":""},"","",{"$nulls":3},"",{"$f":"IF(ISNA(frmSystem),\"\",IF($B91=\"\",\"\",IF(frmAnzahlSysteme<4,\"\",IF('Ct Report'!J$6=0,\"\",INDEX(INDIRECT(\"'Ct Report'!\"&$BN$24),MATCH($B91,INDIRECT(\"'Ct Report'!\"&$BF$24),0))*1))))","v":""},"","",{"$nulls":3},"",{"$f":"IF(ISNA(frmSystem),\"\",IF($B91=\"\",\"\",IF(frmAnzahlSysteme<5,\"\",IF('Ct Report'!K$6=0,\"\",INDEX(INDIRECT(\"'Ct Report'!\"&$BO$24),MATCH($B91,INDIRECT(\"'Ct Report'!\"&$BF$24),0))*1))))","v":""},"","",{"$nulls":3},{"$f":"IF($B91=\"\",\"\",IF('Ct Report'!G$6=0,\"\",IF(INDEX(INDIRECT(\"'Ct Report'!\"&$BK$24),MATCH($B91,INDIRECT(\"'Ct Report'!\"&$BF$24),0))=frmNoAmplification,frmZyklen,INDEX(INDIRECT(\"'Ct Report'!\"&$BK$24),MATCH($B91,INDIRECT(\"'Ct Report'!\"&$BF$24),0)))))","v":""},{"$f":"IF($B91=\"\",\"\",IF('Ct Report'!L$6=0,\"\",INDEX(INDIRECT(\"'Ct Report'!\"&$BP$24),MATCH($B91,INDIRECT(\"'Ct Report'!\"&$BF$24),0))*1))","v":""},"",{"$nulls":27},"","","","","",null,{"$error":"#N/A"},{"$error":"#N/A"},{"$error":"#N/A"},{"$error":"#N/A"},{"$error":"#N/A"},null,{"$error":"#N/A"},{"$error":"#N/A"},{"$error":"#N/A"},{"$error":"#N/A"},{"$error":"#N/A"},null,{"$error":"#N/A"},{"$error":"#N/A"},{"$error":"#N/A"},{"$error":"#N/A"},{"$error":"#N/A"},null,"","","","",null,0,null,"",{"$error":"#VALUE!"},{"$error":"#VALUE!"},{"$error":"#VALUE!"}]
[69,"F9",{"$error":"#NAME?"},{"$f":"IF(LEN($B92)=0,\"\",IF('Ct Report'!B$6=0,\"\",VLOOKUP($B92,INDIRECT(\"'Ct Report'!\"&$BE$22),2,FALSE)))","v":""},null,"U",{"$nulls":3},{"$error":"#NAME?"},{"$error":"#N/A"},{"$f":"IF($B92=\"\",\"\",IF('Ct Report'!C$6=0,\"\",IF(INDEX(INDIRECT(\"'Ct Report'!\"&$BG$24),MATCH(B92,INDIRECT(\"'Ct Report'!\"&$BF$24),0))=frmNoAmplification,frmZyklen,INDEX(INDIRECT(\"'Ct Report'!\"&$BG$24),MATCH(B92,INDIRECT(\"'Ct Report'!\"&$BF$24),0))*1)))","v":""},{"$f":"IF($B92<>\"\",IF('Ct Report'!H$6=0,\"\",INDEX(INDIRECT(\"'Ct Report'!\"&$BL$24),MATCH(B92,INDIRECT(\"'Ct Report'!\"&$BF$24),0))*1),\"\")","v":""},"","",{"$nulls":3},"",{"$f":"IF(ISNA(frmSystem),\"\",IF($B92=\"\",\"\",IF(frmAnzahlSysteme<3,\"\",IF('Ct Report'!I$6=0,\"\",INDEX(INDIRECT(\"'Ct Report'!\"&$BM$24),MATCH($B92,INDIRECT(\"'Ct Report'!\"&$BF$24),0))*1))))","v":""},"","",{"$nulls":3},"",{"$f":"IF(ISNA(frmSystem),\"\",IF($B92=\"\",\"\",IF(frmAnzahlSysteme<4,\"\",IF('Ct Report'!J$6=0,\"\",INDEX(INDIRECT(\"'Ct Report'!\"&$BN$24),MATCH($B92,INDIRECT(\"'Ct Report'!\"&$BF$24),0))*1))))","v":""},"","",{"$nulls":3},"",{"$f":"IF(ISNA(frmSystem),\"\",IF($B92=\"\",\"\",IF(frmAnzahlSysteme<5,\"\",IF('Ct Report'!K$6=0,\"\",INDEX(INDIRECT(\"'Ct Report'!\"&$BO$24),MATCH($B92,INDIRECT(\"'Ct Report'!\"&$BF$24),0))*1))))","v":""},"","",{"$nulls":3},{"$f":"IF($B92=\"\",\"\",IF('Ct Report'!G$6=0,\"\",IF(INDEX(INDIRECT(\"'Ct Report'!\"&$BK$24),MATCH($B92,INDIRECT(\"'Ct Report'!\"&$BF$24),0))=frmNoAmplification,frmZyklen,INDEX(INDIRECT(\"'Ct Report'!\"&$BK$24),MATCH($B92,INDIRECT(\"'Ct Report'!\"&$BF$24),0)))))","v":""},{"$f":"IF($B92=\"\",\"\",IF('Ct Report'!L$6=0,\"\",INDEX(INDIRECT(\"'Ct Report'!\"&$BP$24),MATCH($B92,INDIRECT(\"'Ct Report'!\"&$BF$24),0))*1))","v":""},"",{"$nulls":27},"","","","","",null,{"$error":"#N/A"},{"$error":"#N/A"},{"$error":"#N/A"},{"$error":"#N/A"},{"$error":"#N/A"},null,{"$error":"#N/A"},{"$error":"#N/A"},{"$error":"#N/A"},{"$error":"#N/A"},{"$error":"#N/A"},null,{"$error":"#N/A"},{"$error":"#N/A"},{"$error":"#N/A"},{"$error":"#N/A"},{"$error":"#N/A"},null,"","","","",null,0,null,"",{"$error":"#VALUE!"},{"$error":"#VALUE!"},{"$error":"#VALUE!"}]
[70,"F10",{"$error":"#NAME?"},{"$f":"IF(LEN($B93)=0,\"\",IF('Ct Report'!B$6=0,\"\",VLOOKUP($B93,INDIRECT(\"'Ct Report'!\"&$BE$22),2,FALSE)))","v":""},null,"U",{"$nulls":3},{"$error":"#NAME?"},{"$error":"#N/A"},{"$f":"IF($B93=\"\",\"\",IF('Ct Report'!C$6=0,\"\",IF(INDEX(INDIRECT(\"'Ct Report'!\"&$BG$24),MATCH(B93,INDIRECT(\"'Ct Report'!\"&$BF$24),0))=frmNoAmplification,frmZyklen,INDEX(INDIRECT(\"'Ct Report'!\"&$BG$24),MATCH(B93,INDIRECT(\"'Ct Report'!\"&$BF$24),0))*1)))","v":""},{"$f":"IF($B93<>\"\",IF('Ct Report'!H$6=0,\"\",INDEX(INDIRECT(\"'Ct Report'!\"&$BL$24),MATCH(B93,INDIRECT(\"'Ct Report'!\"&$BF$24),0))*1),\"\")","v":""},"","",{"$nulls":3},"",{"$f":"IF(ISNA(frmSystem),\"\",IF($B93=\"\",\"\",IF(frmAnzahlSysteme<3,\"\",IF('Ct Report'!I$6=0,\"\",INDEX(INDIRECT(\"'Ct Report'!\"&$BM$24),MATCH($B93,INDIRECT(\"'Ct Report'!\"&$BF$24),0))*1))))","v":""},"","",{"$nulls":3},"",{"$f":"IF(ISNA(frmSystem),\"\",IF($B93=\"\",\"\",IF(frmAnzahlSysteme<4,\"\",IF('Ct Report'!J$6=0,\"\",INDEX(INDIRECT(\"'Ct Report'!\"&$BN$24),MATCH($B93,INDIRECT(\"'Ct Report'!\"&$BF$24),0))*1))))","v":""},"","",{"$nulls":3},"",{"$f":"IF(ISNA(frmSystem),\"\",IF($B93=\"\",\"\",IF(frmAnzahlSysteme<5,\"\",IF('Ct Report'!K$6=0,\"\",INDEX(INDIRECT(\"'Ct Report'!\"&$BO$24),MATCH($B93,INDIRECT(\"'Ct Report'!\"&$BF$24),0))*1))))","v":""},"","",{"$nulls":3},{"$f":"IF($B93=\"\",\"\",IF('Ct Report'!G$6=0,\"\",IF(INDEX(INDIRECT(\"'Ct Report'!\"&$BK$24),MATCH($B93,INDIRECT(\"'Ct Report'!\"&$BF$24),0))=frmNoAmplification,frmZyklen,INDEX(INDIRECT(\"'Ct Report'!\"&$BK$24),MATCH($B93,INDIRECT(\"'Ct Report'!\"&$BF$24),0)))))","v":""},{"$f":"IF($B93=\"\",\"\",IF('Ct Report'!L$6=0,\"\",INDEX(INDIRECT(\"'Ct Report'!\"&$BP$24),MATCH($B93,INDIRECT(\"'Ct Report'!\"&$BF$24),0))*1))","v":""},"",{"$nulls":27},"","","","","",null,{"$error":"#N/A"},{"$error":"#N/A"},{"$error":"#N/A"},{"$error":"#N/A"},{"$error":"#N/A"},null,{"$error":"#N/A"},{"$error":"#N/A"},{"$error":"#N/A"},{"$error":"#N/A"},{"$error":"#N/A"},null,{"$error":"#N/A"},{"$error":"#N/A"},{"$error":"#N/A"},{"$error":"#N/A"},{"$error":"#N/A"},null,"","","","",null,0,null,"",{"$error":"#VALUE!"},{"$error":"#VALUE!"},{"$error":"#VALUE!"}]
[71,"F11",{"$error":"#NAME?"},{"$f":"IF(LEN($B94)=0,\"\",IF('Ct Report'!B$6=0,\"\",VLOOKUP($B94,INDIRECT(\"'Ct Report'!\"&$BE$22),2,FALSE)))","v":""},null,"U",{"$nulls":3},{"$error":"#NAME?"},{"$error":"#N/A"},{"$f":"IF($B94=\"\",\"\",IF('Ct Report'!C$6=0,\"\",IF(INDEX(INDIRECT(\"'Ct Report'!\"&$BG$24),MATCH(B94,INDIRECT(\"'Ct Report'!\"&$BF$24),0))=frmNoAmplification,frmZyklen,INDEX(INDIRECT(\"'Ct Report'!\"&$BG$24),MATCH(B94,INDIRECT(\"'Ct Report'!\"&$BF$24),0))*1)))","v":""},{"$f":"IF($B94<>\"\",IF('Ct Report'!H$6=0,\"\",INDEX(INDIRECT(\"'Ct Report'!\"&$BL$24),MATCH(B94,INDIRECT(\"'Ct Report'!\"&$BF$24),0))*1),\"\")","v":""},"","",{"$nulls":3},"",{"$f":"IF(ISNA(frmSystem),\"\",IF($B94=\"\",\"\",IF(frmAnzahlSysteme<3,\"\",IF('Ct Report'!I$6=0,\"\",INDEX(INDIRECT(\"'Ct Report'!\"&$BM$24),MATCH($B94,INDIRECT(\"'Ct Report'!\"&$BF$24),0))*1))))","v":""},"","",{"$nulls":3},"",{"$f":"IF(ISNA(frmSystem),\"\",IF($B94=\"\",\"\",IF(frmAnzahlSysteme<4,\"\",IF('Ct Report'!J$6=0,\"\",INDEX(INDIRECT(\"'Ct Report'!\"&$BN$24),MATCH($B94,INDIRECT(\"'Ct Report'!\"&$BF$24),0))*1))))","v":""},"","",{"$nulls":3},"",{"$f":"IF(ISNA(frmSystem),\"\",IF($B94=\"\",\"\",IF(frmAnzahlSysteme<5,\"\",IF('Ct Report'!K$6=0,\"\",INDEX(INDIRECT(\"'Ct Report'!\"&$BO$24),MATCH($B94,INDIRECT(\"'Ct Report'!\"&$BF$24),0))*1))))","v":""},"","",{"$nulls":3},{"$f":"IF($B94=\"\",\"\",IF('Ct Report'!G$6=0,\"\",IF(INDEX(INDIRECT(\"'Ct Report'!\"&$BK$24),MATCH($B94,INDIRECT(\"'Ct Report'!\"&$BF$24),0))=frmNoAmplification,frmZyklen,INDEX(INDIRECT(\"'Ct Report'!\"&$BK$24),MATCH($B94,INDIRECT(\"'Ct Report'!\"&$BF$24),0)))))","v":""},{"$f":"IF($B94=\"\",\"\",IF('Ct Report'!L$6=0,\"\",INDEX(INDIRECT(\"'Ct Report'!\"&$BP$24),MATCH($B94,INDIRECT(\"'Ct Report'!\"&$BF$24),0))*1))","v":""},"",{"$nulls":27},"","","","","",null,{"$error":"#N/A"},{"$error":"#N/A"},{"$error":"#N/A"},{"$error":"#N/A"},{"$error":"#N/A"},null,{"$error":"#N/A"},{"$error":"#N/A"},{"$error":"#N/A"},{"$error":"#N/A"},{"$error":"#N/A"},null,{"$error":"#N/A"},{"$error":"#N/A"},{"$error":"#N/A"},{"$error":"#N/A"},{"$error":"#N/A"},null,"","","","",null,0,null,"",{"$error":"#VALUE!"},{"$error":"#VALUE!"},{"$error":"#VALUE!"}]
[72,"F12",{"$error":"#NAME?"},{"$f":"IF(LEN($B95)=0,\"\",IF('Ct Report'!B$6=0,\"\",VLOOKUP($B95,INDIRECT(\"'Ct Report'!\"&$BE$22),2,FALSE)))","v":""},null,"U",{"$nulls":3},{"$error":"#NAME?"},{"$error":"#N/A"},{"$f":"IF($B95=\"\",\"\",IF('Ct Report'!C$6=0,\"\",IF(INDEX(INDIRECT(\"'Ct Report'!\"&$BG$24),MATCH(B95,INDIRECT(\"'Ct Report'!\"&$BF$24),0))=frmNoAmplification,frmZyklen,INDEX(INDIRECT(\"'Ct Report'!\"&$BG$24),MATCH(B95,INDIRECT(\"'Ct Report'!\"&$BF$24),0))*1)))","v":""},{"$f":"IF($B95<>\"\",IF('Ct Report'!H$6=0,\"\",INDEX(INDIRECT(\"'Ct Report'!\"&$BL$24),MATCH(B95,INDIRECT(\"'Ct Report'!\"&$BF$24),0))*1),\"\")","v":""},"","",{"$nulls":3},"",{"$f":"IF(ISNA(frmSystem),\"\",IF($B95=\"\",\"\",IF(frmAnzahlSysteme<3,\"\",IF('Ct Report'!I$6=0,\"\",INDEX(INDIRECT(\"'Ct Report'!\"&$BM$24),MATCH($B95,INDIRECT(\"'Ct Report'!\"&$BF$24),0))*1))))","v":""},"","",{"$nulls":3},"",{"$f":"IF(ISNA(frmSystem),\"\",IF($B95=\"\",\"\",IF(frmAnzahlSysteme<4,\"\",IF('Ct Report'!J$6=0,\"\",INDEX(INDIRECT(\"'Ct Report'!\"&$BN$24),MATCH($B95,INDIRECT(\"'Ct Report'!\"&$BF$24),0))*1))))","v":""},"","",{"$nulls":3},"",{"$f":"IF(ISNA(frmSystem),\"\",IF($B95=\"\",\"\",IF(frmAnzahlSysteme<5,\"\",IF('Ct Report'!K$6=0,\"\",INDEX(INDIRECT(\"'Ct Report'!\"&$BO$24),MATCH($B95,INDIRECT(\"'Ct Report'!\"&$BF$24),0))*1))))","v":""},"","",{"$nulls":3},{"$f":"IF($B95=\"\",\"\",IF('Ct Report'!G$6=0,\"\",IF(INDEX(INDIRECT(\"'Ct Report'!\"&$BK$24),MATCH($B95,INDIRECT(\"'Ct Report'!\"&$BF$24),0))=frmNoAmplification,frmZyklen,INDEX(INDIRECT(\"'Ct Report'!\"&$BK$24),MATCH($B95,INDIRECT(\"'Ct Report'!\"&$BF$24),0)))))","v":""},{"$f":"IF($B95=\"\",\"\",IF('Ct Report'!L$6=0,\"\",INDEX(INDIRECT(\"'Ct Report'!\"&$BP$24),MATCH($B95,INDIRECT(\"'Ct Report'!\"&$BF$24),0))*1))","v":""},"",{"$nulls":27},"","","","","",null,{"$error":"#N/A"},{"$error":"#N/A"},{"$error":"#N/A"},{"$error":"#N/A"},{"$error":"#N/A"},null,{"$error":"#N/A"},{"$error":"#N/A"},{"$error":"#N/A"},{"$error":"#N/A"},{"$error":"#N/A"},null,{"$error":"#N/A"},{"$error":"#N/A"},{"$error":"#N/A"},{"$error":"#N/A"},{"$error":"#N/A"},null,"","","","",null,0,null,"",{"$error":"#VALUE!"},{"$error":"#VALUE!"},{"$error":"#VALUE!"}]
[73,"G1",{"$error":"#NAME?"},{"$f":"IF(LEN($B96)=0,\"\",IF('Ct Report'!B$6=0,\"\",VLOOKUP($B96,INDIRECT(\"'Ct Report'!\"&$BE$22),2,FALSE)))","v":""},null,"U",{"$nulls":3},{"$error":"#NAME?"},{"$error":"#N/A"},{"$f":"IF($B96=\"\",\"\",IF('Ct Report'!C$6=0,\"\",IF(INDEX(INDIRECT(\"'Ct Report'!\"&$BG$24),MATCH(B96,INDIRECT(\"'Ct Report'!\"&$BF$24),0))=frmNoAmplification,frmZyklen,INDEX(INDIRECT(\"'Ct Report'!\"&$BG$24),MATCH(B96,INDIRECT(\"'Ct Report'!\"&$BF$24),0))*1)))","v":""},{"$f":"IF($B96<>\"\",IF('Ct Report'!H$6=0,\"\",INDEX(INDIRECT(\"'Ct Report'!\"&$BL$24),MATCH(B96,INDIRECT(\"'Ct Report'!\"&$BF$24),0))*1),\"\")","v":""},"","",{"$nulls":3},"",{"$f":"IF(ISNA(frmSystem),\"\",IF($B96=\"\",\"\",IF(frmAnzahlSysteme<3,\"\",IF('Ct Report'!I$6=0,\"\",INDEX(INDIRECT(\"'Ct Report'!\"&$BM$24),MATCH($B96,INDIRECT(\"'Ct Report'!\"&$BF$24),0))*1))))","v":""},"","",{"$nulls":3},"",{"$f":"IF(ISNA(frmSystem),\"\",IF($B96=\"\",\"\",IF(frmAnzahlSysteme<4,\"\",IF('Ct Report'!J$6=0,\"\",INDEX(INDIRECT(\"'Ct Report'!\"&$BN$24),MATCH($B96,INDIRECT(\"'Ct Report'!\"&$BF$24),0))*1))))","v":""},"","",{"$nulls":3},"",{"$f":"IF(ISNA(frmSystem),\"\",IF($B96=\"\",\"\",IF(frmAnzahlSysteme<5,\"\",IF('Ct Report'!K$6=0,\"\",INDEX(INDIRECT(\"'Ct Report'!\"&$BO$24),MATCH($B96,INDIRECT(\"'Ct Report'!\"&$BF$24),0))*1))))","v":""},"","",{"$nulls":3},{"$f":"IF($B96=\"\",\"\",IF('Ct Report'!G$6=0,\"\",IF(INDEX(INDIRECT(\"'Ct Report'!\"&$BK$24),MATCH($B96,INDIRECT(\"'Ct Report'!\"&$BF$24),0))=frmNoAmplification,frmZyklen,INDEX(INDIRECT(\"'Ct Report'!\"&$BK$24),MATCH($B96,INDIRECT(\"'Ct Report'!\"&$BF$24),0)))))","v":""},{"$f":"IF($B96=\"\",\"\",IF('Ct Report'!L$6=0,\"\",INDEX(INDIRECT(\"'Ct Report'!\"&$BP$24),MATCH($B96,INDIRECT(\"'Ct Report'!\"&$BF$24),0))*1))","v":""},"",{"$nulls":27},"","","","","",null,{"$error":"#N/A"},{"$error":"#N/A"},{"$error":"#N/A"},{"$error":"#N/A"},{"$error":"#N/A"},null,{"$error":"#N/A"},{"$error":"#N/A"},{"$error":"#N/A"},{"$error":"#N/A"},{"$error":"#N/A"},null,{"$error":"#N/A"},{"$error":"#N/A"},{"$error":"#N/A"},{"$error":"#N/A"},{"$error":"#N/A"},null,"","","","",null,0,null,"",{"$error":"#VALUE!"},{"$error":"#VALUE!"},{"$error":"#VALUE!"}]
[74,"G2",{"$error":"#NAME?"},{"$f":"IF(LEN($B97)=0,\"\",IF('Ct Report'!B$6=0,\"\",VLOOKUP($B97,INDIRECT(\"'Ct Report'!\"&$BE$22),2,FALSE)))","v":""},null,"U",{"$nulls":3},{"$error":"#NAME?"},{"$error":"#N/A"},{"$f":"IF($B97=\"\",\"\",IF('Ct Report'!C$6=0,\"\",IF(INDEX(INDIRECT(\"'Ct Report'!\"&$BG$24),MATCH(B97,INDIRECT(\"'Ct Report'!\"&$BF$24),0))=frmNoAmplification,frmZyklen,INDEX(INDIRECT(\"'Ct Report'!\"&$BG$24),MATCH(B97,INDIRECT(\"'Ct Report'!\"&$BF$24),0))*1)))","v":""},{"$f":"IF($B97<>\"\",IF('Ct Report'!H$6=0,\"\",INDEX(INDIRECT(\"'Ct Report'!\"&$BL$24),MATCH(B97,INDIRECT(\"'Ct Report'!\"&$BF$24),0))*1),\"\")","v":""},"","",{"$nulls":3},"",{"$f":"IF(ISNA(frmSystem),\"\",IF($B97=\"\",\"\",IF(frmAnzahlSysteme<3,\"\",IF('Ct Report'!I$6=0,\"\",INDEX(INDIRECT(\"'Ct Report'!\"&$BM$24),MATCH($B97,INDIRECT(\"'Ct Report'!\"&$BF$24),0))*1))))","v":""},"","",{"$nulls":3},"",{"$f":"IF(ISNA(frmSystem),\"\",IF($B97=\"\",\"\",IF(frmAnzahlSysteme<4,\"\",IF('Ct Report'!J$6=0,\"\",INDEX(INDIRECT(\"'Ct Report'!\"&$BN$24),MATCH($B97,INDIRECT(\"'Ct Report'!\"&$BF$24),0))*1))))","v":""},"","",{"$nulls":3},"",{"$f":"IF(ISNA(frmSystem),\"\",IF($B97=\"\",\"\",IF(frmAnzahlSysteme<5,\"\",IF('Ct Report'!K$6=0,\"\",INDEX(INDIRECT(\"'Ct Report'!\"&$BO$24),MATCH($B97,INDIRECT(\"'Ct Report'!\"&$BF$24),0))*1))))","v":""},"","",{"$nulls":3},{"$f":"IF($B97=\"\",\"\",IF('Ct Report'!G$6=0,\"\",IF(INDEX(INDIRECT(\"'Ct Report'!\"&$BK$24),MATCH($B97,INDIRECT(\"'Ct Report'!\"&$BF$24),0))=frmNoAmplification,frmZyklen,INDEX(INDIRECT(\"'Ct Report'!\"&$BK$24),MATCH($B97,INDIRECT(\"'Ct Report'!\"&$BF$24),0)))))","v":""},{"$f":"IF($B97=\"\",\"\",IF('Ct Report'!L$6=0,\"\",INDEX(INDIRECT(\"'Ct Report'!\"&$BP$24),MATCH($B97,INDIRECT(\"'Ct Report'!\"&$BF$24),0))*1))","v":""},"",{"$nulls":27},"","","","","",null,{"$error":"#N/A"},{"$error":"#N/A"},{"$error":"#N/A"},{"$error":"#N/A"},{"$error":"#N/A"},null,{"$error":"#N/A"},{"$error":"#N/A"},{"$error":"#N/A"},{"$error":"#N/A"},{"$error":"#N/A"},null,{"$error":"#N/A"},{"$error":"#N/A"},{"$error":"#N/A"},{"$error":"#N/A"},{"$error":"#N/A"},null,"","","","",null,0,null,"",{"$error":"#VALUE!"},{"$error":"#VALUE!"},{"$error":"#VALUE!"}]
[75,"G3",{"$error":"#NAME?"},{"$f":"IF(LEN($B98)=0,\"\",IF('Ct Report'!B$6=0,\"\",VLOOKUP($B98,INDIRECT(\"'Ct Report'!\"&$BE$22),2,FALSE)))","v":""},null,"U",{"$nulls":3},{"$error":"#NAME?"},{"$error":"#N/A"},{"$f":"IF($B98=\"\",\"\",IF('Ct Report'!C$6=0,\"\",IF(INDEX(INDIRECT(\"'Ct Report'!\"&$BG$24),MATCH(B98,INDIRECT(\"'Ct Report'!\"&$BF$24),0))=frmNoAmplification,frmZyklen,INDEX(INDIRECT(\"'Ct Report'!\"&$BG$24),MATCH(B98,INDIRECT(\"'Ct Report'!\"&$BF$24),0))*1)))","v":""},{"$f":"IF($B98<>\"\",IF('Ct Report'!H$6=0,\"\",INDEX(INDIRECT(\"'Ct Report'!\"&$BL$24),MATCH(B98,INDIRECT(\"'Ct Report'!\"&$BF$24),0))*1),\"\")","v":""},"","",{"$nulls":3},"",{"$f":"IF(ISNA(frmSystem),\"\",IF($B98=\"\",\"\",IF(frmAnzahlSysteme<3,\"\",IF('Ct Report'!I$6=0,\"\",INDEX(INDIRECT(\"'Ct Report'!\"&$BM$24),MATCH($B98,INDIRECT(\"'Ct Report'!\"&$BF$24),0))*1))))","v":""},"","",{"$nulls":3},"",{"$f":"IF(ISNA(frmSystem),\"\",IF($B98=\"\",\"\",IF(frmAnzahlSysteme<4,\"\",IF('Ct Report'!J$6=0,\"\",INDEX(INDIRECT(\"'Ct Report'!\"&$BN$24),MATCH($B98,INDIRECT(\"'Ct Report'!\"&$BF$24),0))*1))))","v":""},"","",{"$nulls":3},"",{"$f":"IF(ISNA(frmSystem),\"\",IF($B98=\"\",\"\",IF(frmAnzahlSysteme<5,\"\",IF('Ct Report'!K$6=0,\"\",INDEX(INDIRECT(\"'Ct Report'!\"&$BO$24),MATCH($B98,INDIRECT(\"'Ct Report'!\"&$BF$24),0))*1))))","v":""},"","",{"$nulls":3},{"$f":"IF($B98=\"\",\"\",IF('Ct Report'!G$6=0,\"\",IF(INDEX(INDIRECT(\"'Ct Report'!\"&$BK$24),MATCH($B98,INDIRECT(\"'Ct Report'!\"&$BF$24),0))=frmNoAmplification,frmZyklen,INDEX(INDIRECT(\"'Ct Report'!\"&$BK$24),MATCH($B98,INDIRECT(\"'Ct Report'!\"&$BF$24),0)))))","v":""},{"$f":"IF($B98=\"\",\"\",IF('Ct Report'!L$6=0,\"\",INDEX(INDIRECT(\"'Ct Report'!\"&$BP$24),MATCH($B98,INDIRECT(\"'Ct Report'!\"&$BF$24),0))*1))","v":""},"",{"$nulls":27},"","","","","",null,{"$error":"#N/A"},{"$error":"#N/A"},{"$error":"#N/A"},{"$error":"#N/A"},{"$error":"#N/A"},null,{"$error":"#N/A"},{"$error":"#N/A"},{"$error":"#N/A"},{"$error":"#N/A"},{"$error":"#N/A"},null,{"$error":"#N/A"},{"$error":"#N/A"},{"$error":"#N/A"},{"$error":"#N/A"},{"$error":"#N/A"},null,"","","","",null,0,null,"",{"$error":"#VALUE!"},{"$error":"#VALUE!"},{"$error":"#VALUE!"}]
[76,"G4",{"$error":"#NAME?"},{"$f":"IF(LEN($B99)=0,\"\",IF('Ct Report'!B$6=0,\"\",VLOOKUP($B99,INDIRECT(\"'Ct Report'!\"&$BE$22),2,FALSE)))","v":""},null,"U",{"$nulls":3},{"$error":"#NAME?"},{"$error":"#N/A"},{"$f":"IF($B99=\"\",\"\",IF('Ct Report'!C$6=0,\"\",IF(INDEX(INDIRECT(\"'Ct Report'!\"&$BG$24),MATCH(B99,INDIRECT(\"'Ct Report'!\"&$BF$24),0))=frmNoAmplification,frmZyklen,INDEX(INDIRECT(\"'Ct Report'!\"&$BG$24),MATCH(B99,INDIRECT(\"'Ct Report'!\"&$BF$24),0))*1)))","v":""},{"$f":"IF($B99<>\"\",IF('Ct Report'!H$6=0,\"\",INDEX(INDIRECT(\"'Ct Report'!\"&$BL$24),MATCH(B99,INDIRECT(\"'Ct Report'!\"&$BF$24),0))*1),\"\")","v":""},"","",{"$nulls":3},"",{"$f":"IF(ISNA(frmSystem),\"\",IF($B99=\"\",\"\",IF(frmAnzahlSysteme<3,\"\",IF('Ct Report'!I$6=0,\"\",INDEX(INDIRECT(\"'Ct Report'!\"&$BM$24),MATCH($B99,INDIRECT(\"'Ct Report'!\"&$BF$24),0))*1))))","v":""},"","",{"$nulls":3},"",{"$f":"IF(ISNA(frmSystem),\"\",IF($B99=\"\",\"\",IF(frmAnzahlSysteme<4,\"\",IF('Ct Report'!J$6=0,\"\",INDEX(INDIRECT(\"'Ct Report'!\"&$BN$24),MATCH($B99,INDIRECT(\"'Ct Report'!\"&$BF$24),0))*1))))","v":""},"","",{"$nulls":3},"",{"$f":"IF(ISNA(frmSystem),\"\",IF($B99=\"\",\"\",IF(frmAnzahlSysteme<5,\"\",IF('Ct Report'!K$6=0,\"\",INDEX(INDIRECT(\"'Ct Report'!\"&$BO$24),MATCH($B99,INDIRECT(\"'Ct Report'!\"&$BF$24),0))*1))))","v":""},"","",{"$nulls":3},{"$f":"IF($B99=\"\",\"\",IF('Ct Report'!G$6=0,\"\",IF(INDEX(INDIRECT(\"'Ct Report'!\"&$BK$24),MATCH($B99,INDIRECT(\"'Ct Report'!\"&$BF$24),0))=frmNoAmplification,frmZyklen,INDEX(INDIRECT(\"'Ct Report'!\"&$BK$24),MATCH($B99,INDIRECT(\"'Ct Report'!\"&$BF$24),0)))))","v":""},{"$f":"IF($B99=\"\",\"\",IF('Ct Report'!L$6=0,\"\",INDEX(INDIRECT(\"'Ct Report'!\"&$BP$24),MATCH($B99,INDIRECT(\"'Ct Report'!\"&$BF$24),0))*1))","v":""},"",{"$nulls":27},"","","","","",null,{"$error":"#N/A"},{"$error":"#N/A"},{"$error":"#N/A"},{"$error":"#N/A"},{"$error":"#N/A"},null,{"$error":"#N/A"},{"$error":"#N/A"},{"$error":"#N/A"},{"$error":"#N/A"},{"$error":"#N/A"},null,{"$error":"#N/A"},{"$error":"#N/A"},{"$error":"#N/A"},{"$error":"#N/A"},{"$error":"#N/A"},null,"","","","",null,0,null,"",{"$error":"#VALUE!"},{"$error":"#VALUE!"},{"$error":"#VALUE!"}]
[77,"G5",{"$error":"#NAME?"},{"$f":"IF(LEN($B100)=0,\"\",IF('Ct Report'!B$6=0,\"\",VLOOKUP($B100,INDIRECT(\"'Ct Report'!\"&$BE$22),2,FALSE)))","v":""},null,"U",{"$nulls":3},{"$error":"#NAME?"},{"$error":"#N/A"},{"$f":"IF($B100=\"\",\"\",IF('Ct Report'!C$6=0,\"\",IF(INDEX(INDIRECT(\"'Ct Report'!\"&$BG$24),MATCH(B100,INDIRECT(\"'Ct Report'!\"&$BF$24),0))=frmNoAmplification,frmZyklen,INDEX(INDIRECT(\"'Ct Report'!\"&$BG$24),MATCH(B100,INDIRECT(\"'Ct Report'!\"&$BF$24),0))*1)))","v":""},{"$f":"IF($B100<>\"\",IF('Ct Report'!H$6=0,\"\",INDEX(INDIRECT(\"'Ct Report'!\"&$BL$24),MATCH(B100,INDIRECT(\"'Ct Report'!\"&$BF$24),0))*1),\"\")","v":""},"","",{"$nulls":3},"",{"$f":"IF(ISNA(frmSystem),\"\",IF($B100=\"\",\"\",IF(frmAnzahlSysteme<3,\"\",IF('Ct Report'!I$6=0,\"\",INDEX(INDIRECT(\"'Ct Report'!\"&$BM$24),MATCH($B100,INDIRECT(\"'Ct Report'!\"&$BF$24),0))*1))))","v":""},"","",{"$nulls":3},"",{"$f":"IF(ISNA(frmSystem),\"\",IF($B100=\"\",\"\",IF(frmAnzahlSysteme<4,\"\",IF('Ct Report'!J$6=0,\"\",INDEX(INDIRECT(\"'Ct Report'!\"&$BN$24),MATCH($B100,INDIRECT(\"'Ct Report'!\"&$BF$24),0))*1))))","v":""},"","",{"$nulls":3},"",{"$f":"IF(ISNA(frmSystem),\"\",IF($B100=\"\",\"\",IF(frmAnzahlSysteme<5,\"\",IF('Ct Report'!K$6=0,\"\",INDEX(INDIRECT(\"'Ct Report'!\"&$BO$24),MATCH($B100,INDIRECT(\"'Ct Report'!\"&$BF$24),0))*1))))","v":""},"","",{"$nulls":3},{"$f":"IF($B100=\"\",\"\",IF('Ct Report'!G$6=0,\"\",IF(INDEX(INDIRECT(\"'Ct Report'!\"&$BK$24),MATCH($B100,INDIRECT(\"'Ct Report'!\"&$BF$24),0))=frmNoAmplification,frmZyklen,INDEX(INDIRECT(\"'Ct Report'!\"&$BK$24),MATCH($B100,INDIRECT(\"'Ct Report'!\"&$BF$24),0)))))","v":""},{"$f":"IF($B100=\"\",\"\",IF('Ct Report'!L$6=0,\"\",INDEX(INDIRECT(\"'Ct Report'!\"&$BP$24),MATCH($B100,INDIRECT(\"'Ct Report'!\"&$BF$24),0))*1))","v":""},"",{"$nulls":27},"","","","","",null,{"$error":"#N/A"},{"$error":"#N/A"},{"$error":"#N/A"},{"$error":"#N/A"},{"$error":"#N/A"},null,{"$error":"#N/A"},{"$error":"#N/A"},{"$error":"#N/A"},{"$error":"#N/A"},{"$error":"#N/A"},null,{"$error":"#N/A"},{"$error":"#N/A"},{"$error":"#N/A"},{"$error":"#N/A"},{"$error":"#N/A"},null,"","","","",null,0,null,"",{"$error":"#VALUE!"},{"$error":"#VALUE!"},{"$error":"#VALUE!"}]
[78,"G6",{"$error":"#NAME?"},{"$f":"IF(LEN($B101)=0,\"\",IF('Ct Report'!B$6=0,\"\",VLOOKUP($B101,INDIRECT(\"'Ct Report'!\"&$BE$22),2,FALSE)))","v":""},null,"U",{"$nulls":3},{"$error":"#NAME?"},{"$error":"#N/A"},{"$f":"IF($B101=\"\",\"\",IF('Ct Report'!C$6=0,\"\",IF(INDEX(INDIRECT(\"'Ct Report'!\"&$BG$24),MATCH(B101,INDIRECT(\"'Ct Report'!\"&$BF$24),0))=frmNoAmplification,frmZyklen,INDEX(INDIRECT(\"'Ct Report'!\"&$BG$24),MATCH(B101,INDIRECT(\"'Ct Report'!\"&$BF$24),0))*1)))","v":""},{"$f":"IF($B101<>\"\",IF('Ct Report'!H$6=0,\"\",INDEX(INDIRECT(\"'Ct Report'!\"&$BL$24),MATCH(B101,INDIRECT(\"'Ct Report'!\"&$BF$24),0))*1),\"\")","v":""},"","",{"$nulls":3},"",{"$f":"IF(ISNA(frmSystem),\"\",IF($B101=\"\",\"\",IF(frmAnzahlSysteme<3,\"\",IF('Ct Report'!I$6=0,\"\",INDEX(INDIRECT(\"'Ct Report'!\"&$BM$24),MATCH($B101,INDIRECT(\"'Ct Report'!\"&$BF$24),0))*1))))","v":""},"","",{"$nulls":3},"",{"$f":"IF(ISNA(frmSystem),\"\",IF($B101=\"\",\"\",IF(frmAnzahlSysteme<4,\"\",IF('Ct Report'!J$6=0,\"\",INDEX(INDIRECT(\"'Ct Report'!\"&$BN$24),MATCH($B101,INDIRECT(\"'Ct Report'!\"&$BF$24),0))*1))))","v":""},"","",{"$nulls":3},"",{"$f":"IF(ISNA(frmSystem),\"\",IF($B101=\"\",\"\",IF(frmAnzahlSysteme<5,\"\",IF('Ct Report'!K$6=0,\"\",INDEX(INDIRECT(\"'Ct Report'!\"&$BO$24),MATCH($B101,INDIRECT(\"'Ct Report'!\"&$BF$24),0))*1))))","v":""},"","",{"$nulls":3},{"$f":"IF($B101=\"\",\"\",IF('Ct Report'!G$6=0,\"\",IF(INDEX(INDIRECT(\"'Ct Report'!\"&$BK$24),MATCH($B101,INDIRECT(\"'Ct Report'!\"&$BF$24),0))=frmNoAmplification,frmZyklen,INDEX(INDIRECT(\"'Ct Report'!\"&$BK$24),MATCH($B101,INDIRECT(\"'Ct Report'!\"&$BF$24),0)))))","v":""},{"$f":"IF($B101=\"\",\"\",IF('Ct Report'!L$6=0,\"\",INDEX(INDIRECT(\"'Ct Report'!\"&$BP$24),MATCH($B101,INDIRECT(\"'Ct Report'!\"&$BF$24),0))*1))","v":""},"",{"$nulls":27},"","","","","",null,{"$error":"#N/A"},{"$error":"#N/A"},{"$error":"#N/A"},{"$error":"#N/A"},{"$error":"#N/A"},null,{"$error":"#N/A"},{"$error":"#N/A"},{"$error":"#N/A"},{"$error":"#N/A"},{"$error":"#N/A"},null,{"$error":"#N/A"},{"$error":"#N/A"},{"$error":"#N/A"},{"$error":"#N/A"},{"$error":"#N/A"},null,"","","","",null,0,null,"",{"$error":"#VALUE!"},{"$error":"#VALUE!"},{"$error":"#VALUE!"}]
[79,"G7",{"$error":"#NAME?"},{"$f":"IF(LEN($B102)=0,\"\",IF('Ct Report'!B$6=0,\"\",VLOOKUP($B102,INDIRECT(\"'Ct Report'!\"&$BE$22),2,FALSE)))","v":""},null,"U",{"$nulls":3},{"$error":"#NAME?"},{"$error":"#N/A"},{"$f":"IF($B102=\"\",\"\",IF('Ct Report'!C$6=0,\"\",IF(INDEX(INDIRECT(\"'Ct Report'!\"&$BG$24),MATCH(B102,INDIRECT(\"'Ct Report'!\"&$BF$24),0))=frmNoAmplification,frmZyklen,INDEX(INDIRECT(\"'Ct Report'!\"&$BG$24),MATCH(B102,INDIRECT(\"'Ct Report'!\"&$BF$24),0))*1)))","v":""},{"$f":"IF($B102<>\"\",IF('Ct Report'!H$6=0,\"\",INDEX(INDIRECT(\"'Ct Report'!\"&$BL$24),MATCH(B102,INDIRECT(\"'Ct Report'!\"&$BF$24),0))*1),\"\")","v":""},"","",{"$nulls":3},"",{"$f":"IF(ISNA(frmSystem),\"\",IF($B102=\"\",\"\",IF(frmAnzahlSysteme<3,\"\",IF('Ct Report'!I$6=0,\"\",INDEX(INDIRECT(\"'Ct Report'!\"&$BM$24),MATCH($B102,INDIRECT(\"'Ct Report'!\"&$BF$24),0))*1))))","v":""},"","",{"$nulls":3},"",{"$f":"IF(ISNA(frmSystem),\"\",IF($B102=\"\",\"\",IF(frmAnzahlSysteme<4,\"\",IF('Ct Report'!J$6=0,\"\",INDEX(INDIRECT(\"'Ct Report'!\"&$BN$24),MATCH($B102,INDIRECT(\"'Ct Report'!\"&$BF$24),0))*1))))","v":""},"","",{"$nulls":3},"",{"$f":"IF(ISNA(frmSystem),\"\",IF($B102=\"\",\"\",IF(frmAnzahlSysteme<5,\"\",IF('Ct Report'!K$6=0,\"\",INDEX(INDIRECT(\"'Ct Report'!\"&$BO$24),MATCH($B102,INDIRECT(\"'Ct Report'!\"&$BF$24),0))*1))))","v":""},"","",{"$nulls":3},{"$f":"IF($B102=\"\",\"\",IF('Ct Report'!G$6=0,\"\",IF(INDEX(INDIRECT(\"'Ct Report'!\"&$BK$24),MATCH($B102,INDIRECT(\"'Ct Report'!\"&$BF$24),0))=frmNoAmplification,frmZyklen,INDEX(INDIRECT(\"'Ct Report'!\"&$BK$24),MATCH($B102,INDIRECT(\"'Ct Report'!\"&$BF$24),0)))))","v":""},{"$f":"IF($B102=\"\",\"\",IF('Ct Report'!L$6=0,\"\",INDEX(INDIRECT(\"'Ct Report'!\"&$BP$24),MATCH($B102,INDIRECT(\"'Ct Report'!\"&$BF$24),0))*1))","v":""},"",{"$nulls":27},"","","","","",null,{"$error":"#N/A"},{"$error":"#N/A"},{"$error":"#N/A"},{"$error":"#N/A"},{"$error":"#N/A"},null,{"$error":"#N/A"},{"$error":"#N/A"},{"$error":"#N/A"},{"$error":"#N/A"},{"$error":"#N/A"},null,{"$error":"#N/A"},{"$error":"#N/A"},{"$error":"#N/A"},{"$error":"#N/A"},{"$error":"#N/A"},null,"","","","",null,0,null,"",{"$error":"#VALUE!"},{"$error":"#VALUE!"},{"$error":"#VALUE!"}]
[80,"G8",{"$error":"#NAME?"},{"$f":"IF(LEN($B103)=0,\"\",IF('Ct Report'!B$6=0,\"\",VLOOKUP($B103,INDIRECT(\"'Ct Report'!\"&$BE$22),2,FALSE)))","v":""},null,"U",{"$nulls":3},{"$error":"#NAME?"},{"$error":"#N/A"},{"$f":"IF($B103=\"\",\"\",IF('Ct Report'!C$6=0,\"\",IF(INDEX(INDIRECT(\"'Ct Report'!\"&$BG$24),MATCH(B103,INDIRECT(\"'Ct Report'!\"&$BF$24),0))=frmNoAmplification,frmZyklen,INDEX(INDIRECT(\"'Ct Report'!\"&$BG$24),MATCH(B103,INDIRECT(\"'Ct Report'!\"&$BF$24),0))*1)))","v":""},{"$f":"IF($B103<>\"\",IF('Ct Report'!H$6=0,\"\",INDEX(INDIRECT(\"'Ct Report'!\"&$BL$24),MATCH(B103,INDIRECT(\"'Ct Report'!\"&$BF$24),0))*1),\"\")","v":""},"","",{"$nulls":3},"",{"$f":"IF(ISNA(frmSystem),\"\",IF($B103=\"\",\"\",IF(frmAnzahlSysteme<3,\"\",IF('Ct Report'!I$6=0,\"\",INDEX(INDIRECT(\"'Ct Report'!\"&$BM$24),MATCH($B103,INDIRECT(\"'Ct Report'!\"&$BF$24),0))*1))))","v":""},"","",{"$nulls":3},"",{"$f":"IF(ISNA(frmSystem),\"\",IF($B103=\"\",\"\",IF(frmAnzahlSysteme<4,\"\",IF('Ct Report'!J$6=0,\"\",INDEX(INDIRECT(\"'Ct Report'!\"&$BN$24),MATCH($B103,INDIRECT(\"'Ct Report'!\"&$BF$24),0))*1))))","v":""},"","",{"$nulls":3},"",{"$f":"IF(ISNA(frmSystem),\"\",IF($B103=\"\",\"\",IF(frmAnzahlSysteme<5,\"\",IF('Ct Report'!K$6=0,\"\",INDEX(INDIRECT(\"'Ct Report'!\"&$BO$24),MATCH($B103,INDIRECT(\"'Ct Report'!\"&$BF$24),0))*1))))","v":""},"","",{"$nulls":3},{"$f":"IF($B103=\"\",\"\",IF('Ct Report'!G$6=0,\"\",IF(INDEX(INDIRECT(\"'Ct Report'!\"&$BK$24),MATCH($B103,INDIRECT(\"'Ct Report'!\"&$BF$24),0))=frmNoAmplification,frmZyklen,INDEX(INDIRECT(\"'Ct Report'!\"&$BK$24),MATCH($B103,INDIRECT(\"'Ct Report'!\"&$BF$24),0)))))","v":""},{"$f":"IF($B103=\"\",\"\",IF('Ct Report'!L$6=0,\"\",INDEX(INDIRECT(\"'Ct Report'!\"&$BP$24),MATCH($B103,INDIRECT(\"'Ct Report'!\"&$BF$24),0))*1))","v":""},"",{"$nulls":27},"","","","","",null,{"$error":"#N/A"},{"$error":"#N/A"},{"$error":"#N/A"},{"$error":"#N/A"},{"$error":"#N/A"},null,{"$error":"#N/A"},{"$error":"#N/A"},{"$error":"#N/A"},{"$error":"#N/A"},{"$error":"#N/A"},null,{"$error":"#N/A"},{"$error":"#N/A"},{"$error":"#N/A"},{"$error":"#N/A"},{"$error":"#N/A"},null,"","","","",null,0,null,"",{"$error":"#VALUE!"},{"$error":"#VALUE!"},{"$error":"#VALUE!"}]
[81,"G9",{"$error":"#NAME?"},{"$f":"IF(LEN($B104)=0,\"\",IF('Ct Report'!B$6=0,\"\",VLOOKUP($B104,INDIRECT(\"'Ct Report'!\"&$BE$22),2,FALSE)))","v":""},null,"U",{"$nulls":3},{"$error":"#NAME?"},{"$error":"#N/A"},{"$f":"IF($B104=\"\",\"\",IF('Ct Report'!C$6=0,\"\",IF(INDEX(INDIRECT(\"'Ct Report'!\"&$BG$24),MATCH(B104,INDIRECT(\"'Ct Report'!\"&$BF$24),0))=frmNoAmplification,frmZyklen,INDEX(INDIRECT(\"'Ct Report'!\"&$BG$24),MATCH(B104,INDIRECT(\"'Ct Report'!\"&$BF$24),0))*1)))","v":""},{"$f":"IF($B104<>\"\",IF('Ct Report'!H$6=0,\"\",INDEX(INDIRECT(\"'Ct Report'!\"&$BL$24),MATCH(B104,INDIRECT(\"'Ct Report'!\"&$BF$24),0))*1),\"\")","v":""},"","",{"$nulls":3},"",{"$f":"IF(ISNA(frmSystem),\"\",IF($B104=\"\",\"\",IF(frmAnzahlSysteme<3,\"\",IF('Ct Report'!I$6=0,\"\",INDEX(INDIRECT(\"'Ct Report'!\"&$BM$24),MATCH($B104,INDIRECT(\"'Ct Report'!\"&$BF$24),0))*1))))","v":""},"","",{"$nulls":3},"",{"$f":"IF(ISNA(frmSystem),\"\",IF($B104=\"\",\"\",IF(frmAnzahlSysteme<4,\"\",IF('Ct Report'!J$6=0,\"\",INDEX(INDIRECT(\"'Ct Report'!\"&$BN$24),MATCH($B104,INDIRECT(\"'Ct Report'!\"&$BF$24),0))*1))))","v":""},"","",{"$nulls":3},"",{"$f":"IF(ISNA(frmSystem),\"\",IF($B104=\"\",\"\",IF(frmAnzahlSysteme<5,\"\",IF('Ct Report'!K$6=0,\"\",INDEX(INDIRECT(\"'Ct Report'!\"&$BO$24),MATCH($B104,INDIRECT(\"'Ct Report'!\"&$BF$24),0))*1))))","v":""},"","",{"$nulls":3},{"$f":"IF($B104=\"\",\"\",IF('Ct Report'!G$6=0,\"\",IF(INDEX(INDIRECT(\"'Ct Report'!\"&$BK$24),MATCH($B104,INDIRECT(\"'Ct Report'!\"&$BF$24),0))=frmNoAmplification,frmZyklen,INDEX(INDIRECT(\"'Ct Report'!\"&$BK$24),MATCH($B104,INDIRECT(\"'Ct Report'!\"&$BF$24),0)))))","v":""},{"$f":"IF($B104=\"\",\"\",IF('Ct Report'!L$6=0,\"\",INDEX(INDIRECT(\"'Ct Report'!\"&$BP$24),MATCH($B104,INDIRECT(\"'Ct Report'!\"&$BF$24),0))*1))","v":""},"",{"$nulls":27},"","","","","",null,{"$error":"#N/A"},{"$error":"#N/A"},{"$error":"#N/A"},{"$error":"#N/A"},{"$error":"#N/A"},null,{"$error":"#N/A"},{"$error":"#N/A"},{"$error":"#N/A"},{"$error":"#N/A"},{"$error":"#N/A"},null,{"$error":"#N/A"},{"$error":"#N/A"},{"$error":"#N/A"},{"$error":"#N/A"},{"$error":"#N/A"},null,"","","","",null,0,null,"",{"$error":"#VALUE!"},{"$error":"#VALUE!"},{"$error":"#VALUE!"}]
[82,"G10",{"$error":"#NAME?"},{"$f":"IF(LEN($B105)=0,\"\",IF('Ct Report'!B$6=0,\"\",VLOOKUP($B105,INDIRECT(\"'Ct Report'!\"&$BE$22),2,FALSE)))","v":""},null,"U",{"$nulls":3},{"$error":"#NAME?"},{"$error":"#N/A"},{"$f":"IF($B105=\"\",\"\",IF('Ct Report'!C$6=0,\"\",IF(INDEX(INDIRECT(\"'Ct Report'!\"&$BG$24),MATCH(B105,INDIRECT(\"'Ct Report'!\"&$BF$24),0))=frmNoAmplification,frmZyklen,INDEX(INDIRECT(\"'Ct Report'!\"&$BG$24),MATCH(B105,INDIRECT(\"'Ct Report'!\"&$BF$24),0))*1)))","v":""},{"$f":"IF($B105<>\"\",IF('Ct Report'!H$6=0,\"\",INDEX(INDIRECT(\"'Ct Report'!\"&$BL$24),MATCH(B105,INDIRECT(\"'Ct Report'!\"&$BF$24),0))*1),\"\")","v":""},"","",{"$nulls":3},"",{"$f":"IF(ISNA(frmSystem),\"\",IF($B105=\"\",\"\",IF(frmAnzahlSysteme<3,\"\",IF('Ct Report'!I$6=0,\"\",INDEX(INDIRECT(\"'Ct Report'!\"&$BM$24),MATCH($B105,INDIRECT(\"'Ct Report'!\"&$BF$24),0))*1))))","v":""},"","",{"$nulls":3},"",{"$f":"IF(ISNA(frmSystem),\"\",IF($B105=\"\",\"\",IF(frmAnzahlSysteme<4,\"\",IF('Ct Report'!J$6=0,\"\",INDEX(INDIRECT(\"'Ct Report'!\"&$BN$24),MATCH($B105,INDIRECT(\"'Ct Report'!\"&$BF$24),0))*1))))","v":""},"","",{"$nulls":3},"",{"$f":"IF(ISNA(frmSystem),\"\",IF($B105=\"\",\"\",IF(frmAnzahlSysteme<5,\"\",IF('Ct Report'!K$6=0,\"\",INDEX(INDIRECT(\"'Ct Report'!\"&$BO$24),MATCH($B105,INDIRECT(\"'Ct Report'!\"&$BF$24),0))*1))))","v":""},"","",{"$nulls":3},{"$f":"IF($B105=\"\",\"\",IF('Ct Report'!G$6=0,\"\",IF(INDEX(INDIRECT(\"'Ct Report'!\"&$BK$24),MATCH($B105,INDIRECT(\"'Ct Report'!\"&$BF$24),0))=frmNoAmplification,frmZyklen,INDEX(INDIRECT(\"'Ct Report'!\"&$BK$24),MATCH($B105,INDIRECT(\"'Ct Report'!\"&$BF$24),0)))))","v":""},{"$f":"IF($B105=\"\",\"\",IF('Ct Report'!L$6=0,\"\",INDEX(INDIRECT(\"'Ct Report'!\"&$BP$24),MATCH($B105,INDIRECT(\"'Ct Report'!\"&$BF$24),0))*1))","v":""},"",{"$nulls":27},"","","","","",null,{"$error":"#N/A"},{"$error":"#N/A"},{"$error":"#N/A"},{"$error":"#N/A"},{"$error":"#N/A"},null,{"$error":"#N/A"},{"$error":"#N/A"},{"$error":"#N/A"},{"$error":"#N/A"},{"$error":"#N/A"},null,{"$error":"#N/A"},{"$error":"#N/A"},{"$error":"#N/A"},{"$error":"#N/A"},{"$error":"#N/A"},null,"","","","",null,0,null,"",{"$error":"#VALUE!"},{"$error":"#VALUE!"},{"$error":"#VALUE!"}]
[83,"G11",{"$error":"#NAME?"},{"$f":"IF(LEN($B106)=0,\"\",IF('Ct Report'!B$6=0,\"\",VLOOKUP($B106,INDIRECT(\"'Ct Report'!\"&$BE$22),2,FALSE)))","v":""},null,"U",{"$nulls":3},{"$error":"#NAME?"},{"$error":"#N/A"},{"$f":"IF($B106=\"\",\"\",IF('Ct Report'!C$6=0,\"\",IF(INDEX(INDIRECT(\"'Ct Report'!\"&$BG$24),MATCH(B106,INDIRECT(\"'Ct Report'!\"&$BF$24),0))=frmNoAmplification,frmZyklen,INDEX(INDIRECT(\"'Ct Report'!\"&$BG$24),MATCH(B106,INDIRECT(\"'Ct Report'!\"&$BF$24),0))*1)))","v":""},{"$f":"IF($B106<>\"\",IF('Ct Report'!H$6=0,\"\",INDEX(INDIRECT(\"'Ct Report'!\"&$BL$24),MATCH(B106,INDIRECT(\"'Ct Report'!\"&$BF$24),0))*1),\"\")","v":""},"","",{"$nulls":3},"",{"$f":"IF(ISNA(frmSystem),\"\",IF($B106=\"\",\"\",IF(frmAnzahlSysteme<3,\"\",IF('Ct Report'!I$6=0,\"\",INDEX(INDIRECT(\"'Ct Report'!\"&$BM$24),MATCH($B106,INDIRECT(\"'Ct Report'!\"&$BF$24),0))*1))))","v":""},"","",{"$nulls":3},"",{"$f":"IF(ISNA(frmSystem),\"\",IF($B106=\"\",\"\",IF(frmAnzahlSysteme<4,\"\",IF('Ct Report'!J$6=0,\"\",INDEX(INDIRECT(\"'Ct Report'!\"&$BN$24),MATCH($B106,INDIRECT(\"'Ct Report'!\"&$BF$24),0))*1))))","v":""},"","",{"$nulls":3},"",{"$f":"IF(ISNA(frmSystem),\"\",IF($B106=\"\",\"\",IF(frmAnzahlSysteme<5,\"\",IF('Ct Report'!K$6=0,\"\",INDEX(INDIRECT(\"'Ct Report'!\"&$BO$24),MATCH($B106,INDIRECT(\"'Ct Report'!\"&$BF$24),0))*1))))","v":""},"","",{"$nulls":3},{"$f":"IF($B106=\"\",\"\",IF('Ct Report'!G$6=0,\"\",IF(INDEX(INDIRECT(\"'Ct Report'!\"&$BK$24),MATCH($B106,INDIRECT(\"'Ct Report'!\"&$BF$24),0))=frmNoAmplification,frmZyklen,INDEX(INDIRECT(\"'Ct Report'!\"&$BK$24),MATCH($B106,INDIRECT(\"'Ct Report'!\"&$BF$24),0)))))","v":""},{"$f":"IF($B106=\"\",\"\",IF('Ct Report'!L$6=0,\"\",INDEX(INDIRECT(\"'Ct Report'!\"&$BP$24),MATCH($B106,INDIRECT(\"'Ct Report'!\"&$BF$24),0))*1))","v":""},"",{"$nulls":27},"","","","","",null,{"$error":"#N/A"},{"$error":"#N/A"},{"$error":"#N/A"},{"$error":"#N/A"},{"$error":"#N/A"},null,{"$error":"#N/A"},{"$error":"#N/A"},{"$error":"#N/A"},{"$error":"#N/A"},{"$error":"#N/A"},null,{"$error":"#N/A"},{"$error":"#N/A"},{"$error":"#N/A"},{"$error":"#N/A"},{"$error":"#N/A"},null,"","","","",null,0,null,"",{"$error":"#VALUE!"},{"$error":"#VALUE!"},{"$error":"#VALUE!"}]
[84,"G12",{"$error":"#NAME?"},{"$f":"IF(LEN($B107)=0,\"\",IF('Ct Report'!B$6=0,\"\",VLOOKUP($B107,INDIRECT(\"'Ct Report'!\"&$BE$22),2,FALSE)))","v":""},null,"U",{"$nulls":3},{"$error":"#NAME?"},{"$error":"#N/A"},{"$f":"IF($B107=\"\",\"\",IF('Ct Report'!C$6=0,\"\",IF(INDEX(INDIRECT(\"'Ct Report'!\"&$BG$24),MATCH(B107,INDIRECT(\"'Ct Report'!\"&$BF$24),0))=frmNoAmplification,frmZyklen,INDEX(INDIRECT(\"'Ct Report'!\"&$BG$24),MATCH(B107,INDIRECT(\"'Ct Report'!\"&$BF$24),0))*1)))","v":""},{"$f":"IF($B107<>\"\",IF('Ct Report'!H$6=0,\"\",INDEX(INDIRECT(\"'Ct Report'!\"&$BL$24),MATCH(B107,INDIRECT(\"'Ct Report'!\"&$BF$24),0))*1),\"\")","v":""},"","",{"$nulls":3},"",{"$f":"IF(ISNA(frmSystem),\"\",IF($B107=\"\",\"\",IF(frmAnzahlSysteme<3,\"\",IF('Ct Report'!I$6=0,\"\",INDEX(INDIRECT(\"'Ct Report'!\"&$BM$24),MATCH($B107,INDIRECT(\"'Ct Report'!\"&$BF$24),0))*1))))","v":""},"","",{"$nulls":3},"",{"$f":"IF(ISNA(frmSystem),\"\",IF($B107=\"\",\"\",IF(frmAnzahlSysteme<4,\"\",IF('Ct Report'!J$6=0,\"\",INDEX(INDIRECT(\"'Ct Report'!\"&$BN$24),MATCH($B107,INDIRECT(\"'Ct Report'!\"&$BF$24),0))*1))))","v":""},"","",{"$nulls":3},"",{"$f":"IF(ISNA(frmSystem),\"\",IF($B107=\"\",\"\",IF(frmAnzahlSysteme<5,\"\",IF('Ct Report'!K$6=0,\"\",INDEX(INDIRECT(\"'Ct Report'!\"&$BO$24),MATCH($B107,INDIRECT(\"'Ct Report'!\"&$BF$24),0))*1))))","v":""},"","",{"$nulls":3},{"$f":"IF($B107=\"\",\"\",IF('Ct Report'!G$6=0,\"\",IF(INDEX(INDIRECT(\"'Ct Report'!\"&$BK$24),MATCH($B107,INDIRECT(\"'Ct Report'!\"&$BF$24),0))=frmNoAmplification,frmZyklen,INDEX(INDIRECT(\"'Ct Report'!\"&$BK$24),MATCH($B107,INDIRECT(\"'Ct Report'!\"&$BF$24),0)))))","v":""},{"$f":"IF($B107=\"\",\"\",IF('Ct Report'!L$6=0,\"\",INDEX(INDIRECT(\"'Ct Report'!\"&$BP$24),MATCH($B107,INDIRECT(\"'Ct Report'!\"&$BF$24),0))*1))","v":""},"",{"$nulls":27},"","","","","",null,{"$error":"#N/A"},{"$error":"#N/A"},{"$error":"#N/A"},{"$error":"#N/A"},{"$error":"#N/A"},null,{"$error":"#N/A"},{"$error":"#N/A"},{"$error":"#N/A"},{"$error":"#N/A"},{"$error":"#N/A"},null,{"$error":"#N/A"},{"$error":"#N/A"},{"$error":"#N/A"},{"$error":"#N/A"},{"$error":"#N/A"},null,"","","","",null,0,null,"",{"$error":"#VALUE!"},{"$error":"#VALUE!"},{"$error":"#VALUE!"}]
[85,"H1",{"$error":"#NAME?"},{"$f":"IF(LEN($B108)=0,\"\",IF('Ct Report'!B$6=0,\"\",VLOOKUP($B108,INDIRECT(\"'Ct Report'!\"&$BE$22),2,FALSE)))","v":""},null,"U",{"$nulls":3},{"$error":"#NAME?"},{"$error":"#N/A"},{"$f":"IF($B108=\"\",\"\",IF('Ct Report'!C$6=0,\"\",IF(INDEX(INDIRECT(\"'Ct Report'!\"&$BG$24),MATCH(B108,INDIRECT(\"'Ct Report'!\"&$BF$24),0))=frmNoAmplification,frmZyklen,INDEX(INDIRECT(\"'Ct Report'!\"&$BG$24),MATCH(B108,INDIRECT(\"'Ct Report'!\"&$BF$24),0))*1)))","v":""},{"$f":"IF($B108<>\"\",IF('Ct Report'!H$6=0,\"\",INDEX(INDIRECT(\"'Ct Report'!\"&$BL$24),MATCH(B108,INDIRECT(\"'Ct Report'!\"&$BF$24),0))*1),\"\")","v":""},"","",{"$nulls":3},"",{"$f":"IF(ISNA(frmSystem),\"\",IF($B108=\"\",\"\",IF(frmAnzahlSysteme<3,\"\",IF('Ct Report'!I$6=0,\"\",INDEX(INDIRECT(\"'Ct Report'!\"&$BM$24),MATCH($B108,INDIRECT(\"'Ct Report'!\"&$BF$24),0))*1))))","v":""},"","",{"$nulls":3},"",{"$f":"IF(ISNA(frmSystem),\"\",IF($B108=\"\",\"\",IF(frmAnzahlSysteme<4,\"\",IF('Ct Report'!J$6=0,\"\",INDEX(INDIRECT(\"'Ct Report'!\"&$BN$24),MATCH($B108,INDIRECT(\"'Ct Report'!\"&$BF$24),0))*1))))","v":""},"","",{"$nulls":3},"",{"$f":"IF(ISNA(frmSystem),\"\",IF($B108=\"\",\"\",IF(frmAnzahlSysteme<5,\"\",IF('Ct Report'!K$6=0,\"\",INDEX(INDIRECT(\"'Ct Report'!\"&$BO$24),MATCH($B108,INDIRECT(\"'Ct Report'!\"&$BF$24),0))*1))))","v":""},"","",{"$nulls":3},{"$f":"IF($B108=\"\",\"\",IF('Ct Report'!G$6=0,\"\",IF(INDEX(INDIRECT(\"'Ct Report'!\"&$BK$24),MATCH($B108,INDIRECT(\"'Ct Report'!\"&$BF$24),0))=frmNoAmplification,frmZyklen,INDEX(INDIRECT(\"'Ct Report'!\"&$BK$24),MATCH($B108,INDIRECT(\"'Ct Report'!\"&$BF$24),0)))))","v":""},{"$f":"IF($B108=\"\",\"\",IF('Ct Report'!L$6=0,\"\",INDEX(INDIRECT(\"'Ct Report'!\"&$BP$24),MATCH($B108,INDIRECT(\"'Ct Report'!\"&$BF$24),0))*1))","v":""},"",{"$nulls":27},"","","","","",null,{"$error":"#N/A"},{"$error":"#N/A"},{"$error":"#N/A"},{"$error":"#N/A"},{"$error":"#N/A"},null,{"$error":"#N/A"},{"$error":"#N/A"},{"$error":"#N/A"},{"$error":"#N/A"},{"$error":"#N/A"},null,{"$error":"#N/A"},{"$error":"#N/A"},{"$error":"#N/A"},{"$error":"#N/A"},{"$error":"#N/A"},null,"","","","",null,0,null,"",{"$error":"#VALUE!"},{"$error":"#VALUE!"},{"$error":"#VALUE!"}]
[86,"H2",{"$error":"#NAME?"},{"$f":"IF(LEN($B109)=0,\"\",IF('Ct Report'!B$6=0,\"\",VLOOKUP($B109,INDIRECT(\"'Ct Report'!\"&$BE$22),2,FALSE)))","v":""},null,"U",{"$nulls":3},{"$error":"#NAME?"},{"$error":"#N/A"},{"$f":"IF($B109=\"\",\"\",IF('Ct Report'!C$6=0,\"\",IF(INDEX(INDIRECT(\"'Ct Report'!\"&$BG$24),MATCH(B109,INDIRECT(\"'Ct Report'!\"&$BF$24),0))=frmNoAmplification,frmZyklen,INDEX(INDIRECT(\"'Ct Report'!\"&$BG$24),MATCH(B109,INDIRECT(\"'Ct Report'!\"&$BF$24),0))*1)))","v":""},{"$f":"IF($B109<>\"\",IF('Ct Report'!H$6=0,\"\",INDEX(INDIRECT(\"'Ct Report'!\"&$BL$24),MATCH(B109,INDIRECT(\"'Ct Report'!\"&$BF$24),0))*1),\"\")","v":""},"","",{"$nulls":3},"",{"$f":"IF(ISNA(frmSystem),\"\",IF($B109=\"\",\"\",IF(frmAnzahlSysteme<3,\"\",IF('Ct Report'!I$6=0,\"\",INDEX(INDIRECT(\"'Ct Report'!\"&$BM$24),MATCH($B109,INDIRECT(\"'Ct Report'!\"&$BF$24),0))*1))))","v":""},"","",{"$nulls":3},"",{"$f":"IF(ISNA(frmSystem),\"\",IF($B109=\"\",\"\",IF(frmAnzahlSysteme<4,\"\",IF('Ct Report'!J$6=0,\"\",INDEX(INDIRECT(\"'Ct Report'!\"&$BN$24),MATCH($B109,INDIRECT(\"'Ct Report'!\"&$BF$24),0))*1))))","v":""},"","",{"$nulls":3},"",{"$f":"IF(ISNA(frmSystem),\"\",IF($B109=\"\",\"\",IF(frmAnzahlSysteme<5,\"\",IF('Ct Report'!K$6=0,\"\",INDEX(INDIRECT(\"'Ct Report'!\"&$BO$24),MATCH($B109,INDIRECT(\"'Ct Report'!\"&$BF$24),0))*1))))","v":""},"","",{"$nulls":3},{"$f":"IF($B109=\"\",\"\",IF('Ct Report'!G$6=0,\"\",IF(INDEX(INDIRECT(\"'Ct Report'!\"&$BK$24),MATCH($B109,INDIRECT(\"'Ct Report'!\"&$BF$24),0))=frmNoAmplification,frmZyklen,INDEX(INDIRECT(\"'Ct Report'!\"&$BK$24),MATCH($B109,INDIRECT(\"'Ct Report'!\"&$BF$24),0)))))","v":""},{"$f":"IF($B109=\"\",\"\",IF('Ct Report'!L$6=0,\"\",INDEX(INDIRECT(\"'Ct Report'!\"&$BP$24),MATCH($B109,INDIRECT(\"'Ct Report'!\"&$BF$24),0))*1))","v":""},"",{"$nulls":27},"","","","","",null,{"$error":"#N/A"},{"$error":"#N/A"},{"$error":"#N/A"},{"$error":"#N/A"},{"$error":"#N/A"},null,{"$error":"#N/A"},{"$error":"#N/A"},{"$error":"#N/A"},{"$error":"#N/A"},{"$error":"#N/A"},null,{"$error":"#N/A"},{"$error":"#N/A"},{"$error":"#N/A"},{"$error":"#N/A"},{"$error":"#N/A"},null,"","","","",null,0,null,"",{"$error":"#VALUE!"},{"$error":"#VALUE!"},{"$error":"#VALUE!"}]
[87,"H3",{"$error":"#NAME?"},{"$f":"IF(LEN($B110)=0,\"\",IF('Ct Report'!B$6=0,\"\",VLOOKUP($B110,INDIRECT(\"'Ct Report'!\"&$BE$22),2,FALSE)))","v":""},null,"U",{"$nulls":3},{"$error":"#NAME?"},{"$error":"#N/A"},{"$f":"IF($B110=\"\",\"\",IF('Ct Report'!C$6=0,\"\",IF(INDEX(INDIRECT(\"'Ct Report'!\"&$BG$24),MATCH(B110,INDIRECT(\"'Ct Report'!\"&$BF$24),0))=frmNoAmplification,frmZyklen,INDEX(INDIRECT(\"'Ct Report'!\"&$BG$24),MATCH(B110,INDIRECT(\"'Ct Report'!\"&$BF$24),0))*1)))","v":""},{"$f":"IF($B110<>\"\",IF('Ct Report'!H$6=0,\"\",INDEX(INDIRECT(\"'Ct Report'!\"&$BL$24),MATCH(B110,INDIRECT(\"'Ct Report'!\"&$BF$24),0))*1),\"\")","v":""},"","",{"$nulls":3},"",{"$f":"IF(ISNA(frmSystem),\"\",IF($B110=\"\",\"\",IF(frmAnzahlSysteme<3,\"\",IF('Ct Report'!I$6=0,\"\",INDEX(INDIRECT(\"'Ct Report'!\"&$BM$24),MATCH($B110,INDIRECT(\"'Ct Report'!\"&$BF$24),0))*1))))","v":""},"","",{"$nulls":3},"",{"$f":"IF(ISNA(frmSystem),\"\",IF($B110=\"\",\"\",IF(frmAnzahlSysteme<4,\"\",IF('Ct Report'!J$6=0,\"\",INDEX(INDIRECT(\"'Ct Report'!\"&$BN$24),MATCH($B110,INDIRECT(\"'Ct Report'!\"&$BF$24),0))*1))))","v":""},"","",{"$nulls":3},"",{"$f":"IF(ISNA(frmSystem),\"\",IF($B110=\"\",\"\",IF(frmAnzahlSysteme<5,\"\",IF('Ct Report'!K$6=0,\"\",INDEX(INDIRECT(\"'Ct Report'!\"&$BO$24),MATCH($B110,INDIRECT(\"'Ct Report'!\"&$BF$24),0))*1))))","v":""},"","",{"$nulls":3},{"$f":"IF($B110=\"\",\"\",IF('Ct Report'!G$6=0,\"\",IF(INDEX(INDIRECT(\"'Ct Report'!\"&$BK$24),MATCH($B110,INDIRECT(\"'Ct Report'!\"&$BF$24),0))=frmNoAmplification,frmZyklen,INDEX(INDIRECT(\"'Ct Report'!\"&$BK$24),MATCH($B110,INDIRECT(\"'Ct Report'!\"&$BF$24),0)))))","v":""},{"$f":"IF($B110=\"\",\"\",IF('Ct Report'!L$6=0,\"\",INDEX(INDIRECT(\"'Ct Report'!\"&$BP$24),MATCH($B110,INDIRECT(\"'Ct Report'!\"&$BF$24),0))*1))","v":""},"",{"$nulls":27},"","","","","",null,{"$error":"#N/A"},{"$error":"#N/A"},{"$error":"#N/A"},{"$error":"#N/A"},{"$error":"#N/A"},null,{"$error":"#N/A"},{"$error":"#N/A"},{"$error":"#N/A"},{"$error":"#N/A"},{"$error":"#N/A"},null,{"$error":"#N/A"},{"$error":"#N/A"},{"$error":"#N/A"},{"$error":"#N/A"},{"$error":"#N/A"},null,"","","","",null,0,null,"",{"$error":"#VALUE!"},{"$error":"#VALUE!"},{"$error":"#VALUE!"}]
[88,"H4",{"$error":"#NAME?"},{"$f":"IF(LEN($B111)=0,\"\",IF('Ct Report'!B$6=0,\"\",VLOOKUP($B111,INDIRECT(\"'Ct Report'!\"&$BE$22),2,FALSE)))","v":""},null,"U",{"$nulls":3},{"$error":"#NAME?"},{"$error":"#N/A"},{"$f":"IF($B111=\"\",\"\",IF('Ct Report'!C$6=0,\"\",IF(INDEX(INDIRECT(\"'Ct Report'!\"&$BG$24),MATCH(B111,INDIRECT(\"'Ct Report'!\"&$BF$24),0))=frmNoAmplification,frmZyklen,INDEX(INDIRECT(\"'Ct Report'!\"&$BG$24),MATCH(B111,INDIRECT(\"'Ct Report'!\"&$BF$24),0))*1)))","v":""},{"$f":"IF($B111<>\"\",IF('Ct Report'!H$6=0,\"\",INDEX(INDIRECT(\"'Ct Report'!\"&$BL$24),MATCH(B111,INDIRECT(\"'Ct Report'!\"&$BF$24),0))*1),\"\")","v":""},"","",{"$nulls":3},"",{"$f":"IF(ISNA(frmSystem),\"\",IF($B111=\"\",\"\",IF(frmAnzahlSysteme<3,\"\",IF('Ct Report'!I$6=0,\"\",INDEX(INDIRECT(\"'Ct Report'!\"&$BM$24),MATCH($B111,INDIRECT(\"'Ct Report'!\"&$BF$24),0))*1))))","v":""},"","",{"$nulls":3},"",{"$f":"IF(ISNA(frmSystem),\"\",IF($B111=\"\",\"\",IF(frmAnzahlSysteme<4,\"\",IF('Ct Report'!J$6=0,\"\",INDEX(INDIRECT(\"'Ct Report'!\"&$BN$24),MATCH($B111,INDIRECT(\"'Ct Report'!\"&$BF$24),0))*1))))","v":""},"","",{"$nulls":3},"",{"$f":"IF(ISNA(frmSystem),\"\",IF($B111=\"\",\"\",IF(frmAnzahlSysteme<5,\"\",IF('Ct Report'!K$6=0,\"\",INDEX(INDIRECT(\"'Ct Report'!\"&$BO$24),MATCH($B111,INDIRECT(\"'Ct Report'!\"&$BF$24),0))*1))))","v":""},"","",{"$nulls":3},{"$f":"IF($B111=\"\",\"\",IF('Ct Report'!G$6=0,\"\",IF(INDEX(INDIRECT(\"'Ct Report'!\"&$BK$24),MATCH($B111,INDIRECT(\"'Ct Report'!\"&$BF$24),0))=frmNoAmplification,frmZyklen,INDEX(INDIRECT(\"'Ct Report'!\"&$BK$24),MATCH($B111,INDIRECT(\"'Ct Report'!\"&$BF$24),0)))))","v":""},{"$f":"IF($B111=\"\",\"\",IF('Ct Report'!L$6=0,\"\",INDEX(INDIRECT(\"'Ct Report'!\"&$BP$24),MATCH($B111,INDIRECT(\"'Ct Report'!\"&$BF$24),0))*1))","v":""},"",{"$nulls":27},"","","","","",null,{"$error":"#N/A"},{"$error":"#N/A"},{"$error":"#N/A"},{"$error":"#N/A"},{"$error":"#N/A"},null,{"$error":"#N/A"},{"$error":"#N/A"},{"$error":"#N/A"},{"$error":"#N/A"},{"$error":"#N/A"},null,{"$error":"#N/A"},{"$error":"#N/A"},{"$error":"#N/A"},{"$error":"#N/A"},{"$error":"#N/A"},null,"","","","",null,0,null,"",{"$error":"#VALUE!"},{"$error":"#VALUE!"},{"$error":"#VALUE!"}]
[89,"H5",{"$error":"#NAME?"},{"$f":"IF(LEN($B112)=0,\"\",IF('Ct Report'!B$6=0,\"\",VLOOKUP($B112,INDIRECT(\"'Ct Report'!\"&$BE$22),2,FALSE)))","v":""},null,"U",{"$nulls":3},{"$error":"#NAME?"},{"$error":"#N/A"},{"$f":"IF($B112=\"\",\"\",IF('Ct Report'!C$6=0,\"\",IF(INDEX(INDIRECT(\"'Ct Report'!\"&$BG$24),MATCH(B112,INDIRECT(\"'Ct Report'!\"&$BF$24),0))=frmNoAmplification,frmZyklen,INDEX(INDIRECT(\"'Ct Report'!\"&$BG$24),MATCH(B112,INDIRECT(\"'Ct Report'!\"&$BF$24),0))*1)))","v":""},{"$f":"IF($B112<>\"\",IF('Ct Report'!H$6=0,\"\",INDEX(INDIRECT(\"'Ct Report'!\"&$BL$24),MATCH(B112,INDIRECT(\"'Ct Report'!\"&$BF$24),0))*1),\"\")","v":""},"","",{"$nulls":3},"",{"$f":"IF(ISNA(frmSystem),\"\",IF($B112=\"\",\"\",IF(frmAnzahlSysteme<3,\"\",IF('Ct Report'!I$6=0,\"\",INDEX(INDIRECT(\"'Ct Report'!\"&$BM$24),MATCH($B112,INDIRECT(\"'Ct Report'!\"&$BF$24),0))*1))))","v":""},"","",{"$nulls":3},"",{"$f":"IF(ISNA(frmSystem),\"\",IF($B112=\"\",\"\",IF(frmAnzahlSysteme<4,\"\",IF('Ct Report'!J$6=0,\"\",INDEX(INDIRECT(\"'Ct Report'!\"&$BN$24),MATCH($B112,INDIRECT(\"'Ct Report'!\"&$BF$24),0))*1))))","v":""},"","",{"$nulls":3},"",{"$f":"IF(ISNA(frmSystem),\"\",IF($B112=\"\",\"\",IF(frmAnzahlSysteme<5,\"\",IF('Ct Report'!K$6=0,\"\",INDEX(INDIRECT(\"'Ct Report'!\"&$BO$24),MATCH($B112,INDIRECT(\"'Ct Report'!\"&$BF$24),0))*1))))","v":""},"","",{"$nulls":3},{"$f":"IF($B112=\"\",\"\",IF('Ct Report'!G$6=0,\"\",IF(INDEX(INDIRECT(\"'Ct Report'!\"&$BK$24),MATCH($B112,INDIRECT(\"'Ct Report'!\"&$BF$24),0))=frmNoAmplification,frmZyklen,INDEX(INDIRECT(\"'Ct Report'!\"&$BK$24),MATCH($B112,INDIRECT(\"'Ct Report'!\"&$BF$24),0)))))","v":""},{"$f":"IF($B112=\"\",\"\",IF('Ct Report'!L$6=0,\"\",INDEX(INDIRECT(\"'Ct Report'!\"&$BP$24),MATCH($B112,INDIRECT(\"'Ct Report'!\"&$BF$24),0))*1))","v":""},"",{"$nulls":27},"","","","","",null,{"$error":"#N/A"},{"$error":"#N/A"},{"$error":"#N/A"},{"$error":"#N/A"},{"$error":"#N/A"},null,{"$error":"#N/A"},{"$error":"#N/A"},{"$error":"#N/A"},{"$error":"#N/A"},{"$error":"#N/A"},null,{"$error":"#N/A"},{"$error":"#N/A"},{"$error":"#N/A"},{"$error":"#N/A"},{"$error":"#N/A"},null,"","","","",null,0,null,"",{"$error":"#VALUE!"},{"$error":"#VALUE!"},{"$error":"#VALUE!"}]
[90,"H6",{"$error":"#NAME?"},{"$f":"IF(LEN($B113)=0,\"\",IF('Ct Report'!B$6=0,\"\",VLOOKUP($B113,INDIRECT(\"'Ct Report'!\"&$BE$22),2,FALSE)))","v":""},null,"U",{"$nulls":3},{"$error":"#NAME?"},{"$error":"#N/A"},{"$f":"IF($B113=\"\",\"\",IF('Ct Report'!C$6=0,\"\",IF(INDEX(INDIRECT(\"'Ct Report'!\"&$BG$24),MATCH(B113,INDIRECT(\"'Ct Report'!\"&$BF$24),0))=frmNoAmplification,frmZyklen,INDEX(INDIRECT(\"'Ct Report'!\"&$BG$24),MATCH(B113,INDIRECT(\"'Ct Report'!\"&$BF$24),0))*1)))","v":""},{"$f":"IF($B113<>\"\",IF('Ct Report'!H$6=0,\"\",INDEX(INDIRECT(\"'Ct Report'!\"&$BL$24),MATCH(B113,INDIRECT(\"'Ct Report'!\"&$BF$24),0))*1),\"\")","v":""},"","",{"$nulls":3},"",{"$f":"IF(ISNA(frmSystem),\"\",IF($B113=\"\",\"\",IF(frmAnzahlSysteme<3,\"\",IF('Ct Report'!I$6=0,\"\",INDEX(INDIRECT(\"'Ct Report'!\"&$BM$24),MATCH($B113,INDIRECT(\"'Ct Report'!\"&$BF$24),0))*1))))","v":""},"","",{"$nulls":3},"",{"$f":"IF(ISNA(frmSystem),\"\",IF($B113=\"\",\"\",IF(frmAnzahlSysteme<4,\"\",IF('Ct Report'!J$6=0,\"\",INDEX(INDIRECT(\"'Ct Report'!\"&$BN$24),MATCH($B113,INDIRECT(\"'Ct Report'!\"&$BF$24),0))*1))))","v":""},"","",{"$nulls":3},"",{"$f":"IF(ISNA(frmSystem),\"\",IF($B113=\"\",\"\",IF(frmAnzahlSysteme<5,\"\",IF('Ct Report'!K$6=0,\"\",INDEX(INDIRECT(\"'Ct Report'!\"&$BO$24),MATCH($B113,INDIRECT(\"'Ct Report'!\"&$BF$24),0))*1))))","v":""},"","",{"$nulls":3},{"$f":"IF($B113=\"\",\"\",IF('Ct Report'!G$6=0,\"\",IF(INDEX(INDIRECT(\"'Ct Report'!\"&$BK$24),MATCH($B113,INDIRECT(\"'Ct Report'!\"&$BF$24),0))=frmNoAmplification,frmZyklen,INDEX(INDIRECT(\"'Ct Report'!\"&$BK$24),MATCH($B113,INDIRECT(\"'Ct Report'!\"&$BF$24),0)))))","v":""},{"$f":"IF($B113=\"\",\"\",IF('Ct Report'!L$6=0,\"\",INDEX(INDIRECT(\"'Ct Report'!\"&$BP$24),MATCH($B113,INDIRECT(\"'Ct Report'!\"&$BF$24),0))*1))","v":""},"",{"$nulls":27},"","","","","",null,{"$error":"#N/A"},{"$error":"#N/A"},{"$error":"#N/A"},{"$error":"#N/A"},{"$error":"#N/A"},null,{"$error":"#N/A"},{"$error":"#N/A"},{"$error":"#N/A"},{"$error":"#N/A"},{"$error":"#N/A"},null,{"$error":"#N/A"},{"$error":"#N/A"},{"$error":"#N/A"},{"$error":"#N/A"},{"$error":"#N/A"},null,"","","","",null,0,null,"",{"$error":"#VALUE!"},{"$error":"#VALUE!"},{"$error":"#VALUE!"}]
[91,"H7",{"$error":"#NAME?"},{"$f":"IF(LEN($B114)=0,\"\",IF('Ct Report'!B$6=0,\"\",VLOOKUP($B114,INDIRECT(\"'Ct Report'!\"&$BE$22),2,FALSE)))","v":""},null,"U",{"$nulls":3},{"$error":"#NAME?"},{"$error":"#N/A"},{"$f":"IF($B114=\"\",\"\",IF('Ct Report'!C$6=0,\"\",IF(INDEX(INDIRECT(\"'Ct Report'!\"&$BG$24),MATCH(B114,INDIRECT(\"'Ct Report'!\"&$BF$24),0))=frmNoAmplification,frmZyklen,INDEX(INDIRECT(\"'Ct Report'!\"&$BG$24),MATCH(B114,INDIRECT(\"'Ct Report'!\"&$BF$24),0))*1)))","v":""},{"$f":"IF($B114<>\"\",IF('Ct Report'!H$6=0,\"\",INDEX(INDIRECT(\"'Ct Report'!\"&$BL$24),MATCH(B114,INDIRECT(\"'Ct Report'!\"&$BF$24),0))*1),\"\")","v":""},"","",{"$nulls":3},{"$f":"IF(ISNA(frmSystem),\"\",IF($B114=\"\",\"\",IF(frmAnzahlSysteme<3,\"\",IF(LEN(S$21)>0,\"\",IF(INDEX(INDIRECT(\"'Ct Report'!\"&$BH$24),MATCH(B114,INDIRECT(\"'Ct Report'!\"&$BF$24),0))=frmNoAmplification,frmZyklen,INDEX(INDIRECT(\"'Ct Report'!\"&$BH$24),MATCH(B114,INDIRECT(\"'Ct Report'!\"&$BF$24),0))*1)))))","v":""},{"$f":"IF(ISNA(frmSystem),\"\",IF($B114=\"\",\"\",IF(frmAnzahlSysteme<3,\"\",IF('Ct Report'!I$6=0,\"\",INDEX(INDIRECT(\"'Ct Report'!\"&$BM$24),MATCH($B114,INDIRECT(\"'Ct Report'!\"&$BF$24),0))*1))))","v":""},"","",{"$nulls":3},{"$f":"IF(ISNA(frmSystem),\"\",IF($B114=\"\",\"\",IF(frmAnzahlSysteme<4,\"\",IF(LEN(Z$21)>0,\"\",IF(INDEX(INDIRECT(\"'Ct Report'!\"&$BI$24),MATCH(B114,INDIRECT(\"'Ct Report'!\"&$BF$24),0))=frmNoAmplification,frmZyklen,INDEX(INDIRECT(\"'Ct Report'!\"&$BI$24),MATCH(B114,INDIRECT(\"'Ct Report'!\"&$BF$24),0))*1)))))","v":""},{"$f":"IF(ISNA(frmSystem),\"\",IF($B114=\"\",\"\",IF(frmAnzahlSysteme<4,\"\",IF('Ct Report'!J$6=0,\"\",INDEX(INDIRECT(\"'Ct Report'!\"&$BN$24),MATCH($B114,INDIRECT(\"'Ct Report'!\"&$BF$24),0))*1))))","v":""},"","",{"$nulls":3},"",{"$f":"IF(ISNA(frmSystem),\"\",IF($B114=\"\",\"\",IF(frmAnzahlSysteme<5,\"\",IF('Ct Report'!K$6=0,\"\",INDEX(INDIRECT(\"'Ct Report'!\"&$BO$24),MATCH($B114,INDIRECT(\"'Ct Report'!\"&$BF$24),0))*1))))","v":""},"","",{"$nulls":3},{"$f":"IF($B114=\"\",\"\",IF('Ct Report'!G$6=0,\"\",IF(INDEX(INDIRECT(\"'Ct Report'!\"&$BK$24),MATCH($B114,INDIRECT(\"'Ct Report'!\"&$BF$24),0))=frmNoAmplification,frmZyklen,INDEX(INDIRECT(\"'Ct Report'!\"&$BK$24),MATCH($B114,INDIRECT(\"'Ct Report'!\"&$BF$24),0)))))","v":""},{"$f":"IF($B114=\"\",\"\",IF('Ct Report'!L$6=0,\"\",INDEX(INDIRECT(\"'Ct Report'!\"&$BP$24),MATCH($B114,INDIRECT(\"'Ct Report'!\"&$BF$24),0))*1))","v":""},"",{"$nulls":27},"","","","","",null,{"$error":"#N/A"},{"$error":"#N/A"},{"$error":"#N/A"},{"$error":"#N/A"},{"$error":"#N/A"},null,{"$error":"#N/A"},{"$error":"#N/A"},{"$error":"#N/A"},{"$error":"#N/A"},{"$error":"#N/A"},null,{"$error":"#N/A"},{"$error":"#N/A"},{"$error":"#N/A"},{"$error":"#N/A"},{"$error":"#N/A"},null,"","","","",null,0,null,"",{"$error":"#VALUE!"},{"$error":"#VALUE!"},{"$error":"#VALUE!"}]
[92,"H8",{"$error":"#NAME?"},{"$f":"IF(LEN($B115)=0,\"\",IF('Ct Report'!B$6=0,\"\",VLOOKUP($B115,INDIRECT(\"'Ct Report'!\"&$BE$22),2,FALSE)))","v":""},null,"U",{"$nulls":3},{"$error":"#NAME?"},{"$error":"#N/A"},{"$f":"IF($B115=\"\",\"\",IF('Ct Report'!C$6=0,\"\",IF(INDEX(INDIRECT(\"'Ct Report'!\"&$BG$24),MATCH(B115,INDIRECT(\"'Ct Report'!\"&$BF$24),0))=frmNoAmplification,frmZyklen,INDEX(INDIRECT(\"'Ct Report'!\"&$BG$24),MATCH(B115,INDIRECT(\"'Ct Report'!\"&$BF$24),0))*1)))","v":""},{"$f":"IF($B115<>\"\",IF('Ct Report'!H$6=0,\"\",INDEX(INDIRECT(\"'Ct Report'!\"&$BL$24),MATCH(B115,INDIRECT(\"'Ct Report'!\"&$BF$24),0))*1),\"\")","v":""},"","",{"$nulls":3},"",{"$f":"IF(ISNA(frmSystem),\"\",IF($B115=\"\",\"\",IF(frmAnzahlSysteme<3,\"\",IF('Ct Report'!I$6=0,\"\",INDEX(INDIRECT(\"'Ct Report'!\"&$BM$24),MATCH($B115,INDIRECT(\"'Ct Report'!\"&$BF$24),0))*1))))","v":""},"","",{"$nulls":3},"",{"$f":"IF(ISNA(frmSystem),\"\",IF($B115=\"\",\"\",IF(frmAnzahlSysteme<4,\"\",IF('Ct Report'!J$6=0,\"\",INDEX(INDIRECT(\"'Ct Report'!\"&$BN$24),MATCH($B115,INDIRECT(\"'Ct Report'!\"&$BF$24),0))*1))))","v":""},"","",{"$nulls":3},"",{"$f":"IF(ISNA(frmSystem),\"\",IF($B115=\"\",\"\",IF(frmAnzahlSysteme<5,\"\",IF('Ct Report'!K$6=0,\"\",INDEX(INDIRECT(\"'Ct Report'!\"&$BO$24),MATCH($B115,INDIRECT(\"'Ct Report'!\"&$BF$24),0))*1))))","v":""},"","",{"$nulls":3},{"$f":"IF($B115=\"\",\"\",IF('Ct Report'!G$6=0,\"\",IF(INDEX(INDIRECT(\"'Ct Report'!\"&$BK$24),MATCH($B115,INDIRECT(\"'Ct Report'!\"&$BF$24),0))=frmNoAmplification,frmZyklen,INDEX(INDIRECT(\"'Ct Report'!\"&$BK$24),MATCH($B115,INDIRECT(\"'Ct Report'!\"&$BF$24),0)))))","v":""},{"$f":"IF($B115=\"\",\"\",IF('Ct Report'!L$6=0,\"\",INDEX(INDIRECT(\"'Ct Report'!\"&$BP$24),MATCH($B115,INDIRECT(\"'Ct Report'!\"&$BF$24),0))*1))","v":""},"",{"$nulls":27},"","","","","",null,{"$error":"#N/A"},{"$error":"#N/A"},{"$error":"#N/A"},{"$error":"#N/A"},{"$error":"#N/A"},null,{"$error":"#N/A"},{"$error":"#N/A"},{"$error":"#N/A"},{"$error":"#N/A"},{"$error":"#N/A"},null,{"$error":"#N/A"},{"$error":"#N/A"},{"$error":"#N/A"},{"$error":"#N/A"},{"$error":"#N/A"},null,"","","","",null,0,null,"",{"$error":"#VALUE!"},{"$error":"#VALUE!"},{"$error":"#VALUE!"}]
[93,"H9",{"$error":"#NAME?"},{"$f":"IF(LEN($B116)=0,\"\",IF('Ct Report'!B$6=0,\"\",VLOOKUP($B116,INDIRECT(\"'Ct Report'!\"&$BE$22),2,FALSE)))","v":""},null,"U",{"$nulls":3},{"$error":"#NAME?"},{"$error":"#N/A"},{"$f":"IF($B116=\"\",\"\",IF('Ct Report'!C$6=0,\"\",IF(INDEX(INDIRECT(\"'Ct Report'!\"&$BG$24),MATCH(B116,INDIRECT(\"'Ct Report'!\"&$BF$24),0))=frmNoAmplification,frmZyklen,INDEX(INDIRECT(\"'Ct Report'!\"&$BG$24),MATCH(B116,INDIRECT(\"'Ct Report'!\"&$BF$24),0))*1)))","v":""},{"$f":"IF($B116<>\"\",IF('Ct Report'!H$6=0,\"\",INDEX(INDIRECT(\"'Ct Report'!\"&$BL$24),MATCH(B116,INDIRECT(\"'Ct Report'!\"&$BF$24),0))*1),\"\")","v":""},"","",{"$nulls":3},"",{"$f":"IF(ISNA(frmSystem),\"\",IF($B116=\"\",\"\",IF(frmAnzahlSysteme<3,\"\",IF('Ct Report'!I$6=0,\"\",INDEX(INDIRECT(\"'Ct Report'!\"&$BM$24),MATCH($B116,INDIRECT(\"'Ct Report'!\"&$BF$24),0))*1))))","v":""},"","",{"$nulls":3},"",{"$f":"IF(ISNA(frmSystem),\"\",IF($B116=\"\",\"\",IF(frmAnzahlSysteme<4,\"\",IF('Ct Report'!J$6=0,\"\",INDEX(INDIRECT(\"'Ct Report'!\"&$BN$24),MATCH($B116,INDIRECT(\"'Ct Report'!\"&$BF$24),0))*1))))","v":""},"","",{"$nulls":3},"",{"$f":"IF(ISNA(frmSystem),\"\",IF($B116=\"\",\"\",IF(frmAnzahlSysteme<5,\"\",IF('Ct Report'!K$6=0,\"\",INDEX(INDIRECT(\"'Ct Report'!\"&$BO$24),MATCH($B116,INDIRECT(\"'Ct Report'!\"&$BF$24),0))*1))))","v":""},"","",{"$nulls":3},{"$f":"IF($B116=\"\",\"\",IF('Ct Report'!G$6=0,\"\",IF(INDEX(INDIRECT(\"'Ct Report'!\"&$BK$24),MATCH($B116,INDIRECT(\"'Ct Report'!\"&$BF$24),0))=frmNoAmplification,frmZyklen,INDEX(INDIRECT(\"'Ct Report'!\"&$BK$24),MATCH($B116,INDIRECT(\"'Ct Report'!\"&$BF$24),0)))))","v":""},{"$f":"IF($B116=\"\",\"\",IF('Ct Report'!L$6=0,\"\",INDEX(INDIRECT(\"'Ct Report'!\"&$BP$24),MATCH($B116,INDIRECT(\"'Ct Report'!\"&$BF$24),0))*1))","v":""},"",{"$nulls":27},"","","","","",null,{"$error":"#N/A"},{"$error":"#N/A"},{"$error":"#N/A"},{"$error":"#N/A"},{"$error":"#N/A"},null,{"$error":"#N/A"},{"$error":"#N/A"},{"$error":"#N/A"},{"$error":"#N/A"},{"$error":"#N/A"},null,{"$error":"#N/A"},{"$error":"#N/A"},{"$error":"#N/A"},{"$error":"#N/A"},{"$error":"#N/A"},null,"","","","",null,0,null,"",{"$error":"#VALUE!"},{"$error":"#VALUE!"},{"$error":"#VALUE!"}]
[94,"H10",{"$error":"#NAME?"},{"$f":"IF(LEN($B117)=0,\"\",IF('Ct Report'!B$6=0,\"\",VLOOKUP($B117,INDIRECT(\"'Ct Report'!\"&$BE$22),2,FALSE)))","v":""},null,"U",{"$nulls":3},{"$error":"#NAME?"},{"$error":"#N/A"},{"$f":"IF($B117=\"\",\"\",IF('Ct Report'!C$6=0,\"\",IF(INDEX(INDIRECT(\"'Ct Report'!\"&$BG$24),MATCH(B117,INDIRECT(\"'Ct Report'!\"&$BF$24),0))=frmNoAmplification,frmZyklen,INDEX(INDIRECT(\"'Ct Report'!\"&$BG$24),MATCH(B117,INDIRECT(\"'Ct Report'!\"&$BF$24),0))*1)))","v":""},{"$f":"IF($B117<>\"\",IF('Ct Report'!H$6=0,\"\",INDEX(INDIRECT(\"'Ct Report'!\"&$BL$24),MATCH(B117,INDIRECT(\"'Ct Report'!\"&$BF$24),0))*1),\"\")","v":""},"","",{"$nulls":3},"",{"$f":"IF(ISNA(frmSystem),\"\",IF($B117=\"\",\"\",IF(frmAnzahlSysteme<3,\"\",IF('Ct Report'!I$6=0,\"\",INDEX(INDIRECT(\"'Ct Report'!\"&$BM$24),MATCH($B117,INDIRECT(\"'Ct Report'!\"&$BF$24),0))*1))))","v":""},"","",{"$nulls":3},"",{"$f":"IF(ISNA(frmSystem),\"\",IF($B117=\"\",\"\",IF(frmAnzahlSysteme<4,\"\",IF('Ct Report'!J$6=0,\"\",INDEX(INDIRECT(\"'Ct Report'!\"&$BN$24),MATCH($B117,INDIRECT(\"'Ct Report'!\"&$BF$24),0))*1))))","v":""},"","",{"$nulls":3},"",{"$f":"IF(ISNA(frmSystem),\"\",IF($B117=\"\",\"\",IF(frmAnzahlSysteme<5,\"\",IF('Ct Report'!K$6=0,\"\",INDEX(INDIRECT(\"'Ct Report'!\"&$BO$24),MATCH($B117,INDIRECT(\"'Ct Report'!\"&$BF$24),0))*1))))","v":""},"","",{"$nulls":3},{"$f":"IF($B117=\"\",\"\",IF('Ct Report'!G$6=0,\"\",IF(INDEX(INDIRECT(\"'Ct Report'!\"&$BK$24),MATCH($B117,INDIRECT(\"'Ct Report'!\"&$BF$24),0))=frmNoAmplification,frmZyklen,INDEX(INDIRECT(\"'Ct Report'!\"&$BK$24),MATCH($B117,INDIRECT(\"'Ct Report'!\"&$BF$24),0)))))","v":""},{"$f":"IF($B117=\"\",\"\",IF('Ct Report'!L$6=0,\"\",INDEX(INDIRECT(\"'Ct Report'!\"&$BP$24),MATCH($B117,INDIRECT(\"'Ct Report'!\"&$BF$24),0))*1))","v":""},"",{"$nulls":27},"","","","","",null,{"$error":"#N/A"},{"$error":"#N/A"},{"$error":"#N/A"},{"$error":"#N/A"},{"$error":"#N/A"},null,{"$error":"#N/A"},{"$error":"#N/A"},{"$error":"#N/A"},{"$error":"#N/A"},{"$error":"#N/A"},null,{"$error":"#N/A"},{"$error":"#N/A"},{"$error":"#N/A"},{"$error":"#N/A"},{"$error":"#N/A"},null,"","","","",null,0,null,"",{"$error":"#VALUE!"},{"$error":"#VALUE!"},{"$error":"#VALUE!"}]
[95,"H11",{"$error":"#NAME?"},{"$f":"IF(LEN($B118)=0,\"\",IF('Ct Report'!B$6=0,\"\",VLOOKUP($B118,INDIRECT(\"'Ct Report'!\"&$BE$22),2,FALSE)))","v":""},null,"U",{"$nulls":3},{"$error":"#NAME?"},{"$error":"#N/A"},{"$f":"IF($B118=\"\",\"\",IF('Ct Report'!C$6=0,\"\",IF(INDEX(INDIRECT(\"'Ct Report'!\"&$BG$24),MATCH(B118,INDIRECT(\"'Ct Report'!\"&$BF$24),0))=frmNoAmplification,frmZyklen,INDEX(INDIRECT(\"'Ct Report'!\"&$BG$24),MATCH(B118,INDIRECT(\"'Ct Report'!\"&$BF$24),0))*1)))","v":""},{"$f":"IF($B118<>\"\",IF('Ct Report'!H$6=0,\"\",INDEX(INDIRECT(\"'Ct Report'!\"&$BL$24),MATCH(B118,INDIRECT(\"'Ct Report'!\"&$BF$24),0))*1),\"\")","v":""},"","",{"$nulls":3},"",{"$f":"IF(ISNA(frmSystem),\"\",IF($B118=\"\",\"\",IF(frmAnzahlSysteme<3,\"\",IF('Ct Report'!I$6=0,\"\",INDEX(INDIRECT(\"'Ct Report'!\"&$BM$24),MATCH($B118,INDIRECT(\"'Ct Report'!\"&$BF$24),0))*1))))","v":""},"","",{"$nulls":3},"",{"$f":"IF(ISNA(frmSystem),\"\",IF($B118=\"\",\"\",IF(frmAnzahlSysteme<4,\"\",IF('Ct Report'!J$6=0,\"\",INDEX(INDIRECT(\"'Ct Report'!\"&$BN$24),MATCH($B118,INDIRECT(\"'Ct Report'!\"&$BF$24),0))*1))))","v":""},"","",{"$nulls":3},"",{"$f":"IF(ISNA(frmSystem),\"\",IF($B118=\"\",\"\",IF(frmAnzahlSysteme<5,\"\",IF('Ct Report'!K$6=0,\"\",INDEX(INDIRECT(\"'Ct Report'!\"&$BO$24),MATCH($B118,INDIRECT(\"'Ct Report'!\"&$BF$24),0))*1))))","v":""},"","",{"$nulls":3},{"$f":"IF($B118=\"\",\"\",IF('Ct Report'!G$6=0,\"\",IF(INDEX(INDIRECT(\"'Ct Report'!\"&$BK$24),MATCH($B118,INDIRECT(\"'Ct Report'!\"&$BF$24),0))=frmNoAmplification,frmZyklen,INDEX(INDIRECT(\"'Ct Report'!\"&$BK$24),MATCH($B118,INDIRECT(\"'Ct Report'!\"&$BF$24),0)))))","v":""},{"$f":"IF($B118=\"\",\"\",IF('Ct Report'!L$6=0,\"\",INDEX(INDIRECT(\"'Ct Report'!\"&$BP$24),MATCH($B118,INDIRECT(\"'Ct Report'!\"&$BF$24),0))*1))","v":""},"",{"$nulls":27},"","","","","",null,{"$error":"#N/A"},{"$error":"#N/A"},{"$error":"#N/A"},{"$error":"#N/A"},{"$error":"#N/A"},null,{"$error":"#N/A"},{"$error":"#N/A"},{"$error":"#N/A"},{"$error":"#N/A"},{"$error":"#N/A"},null,{"$error":"#N/A"},{"$error":"#N/A"},{"$error":"#N/A"},{"$error":"#N/A"},{"$error":"#N/A"},null,"","","","",null,0,null,"",{"$error":"#VALUE!"},{"$error":"#VALUE!"},{"$error":"#VALUE!"}]
[96,"H12",{"$error":"#NAME?"},{"$f":"IF(LEN($B119)=0,\"\",IF('Ct Report'!B$6=0,\"\",VLOOKUP($B119,INDIRECT(\"'Ct Report'!\"&$BE$22),2,FALSE)))","v":""},null,"U",{"$nulls":3},{"$error":"#NAME?"},{"$error":"#N/A"},{"$f":"IF($B119=\"\",\"\",IF('Ct Report'!C$6=0,\"\",IF(INDEX(INDIRECT(\"'Ct Report'!\"&$BG$24),MATCH(B119,INDIRECT(\"'Ct Report'!\"&$BF$24),0))=frmNoAmplification,frmZyklen,INDEX(INDIRECT(\"'Ct Report'!\"&$BG$24),MATCH(B119,INDIRECT(\"'Ct Report'!\"&$BF$24),0))*1)))","v":""},{"$f":"IF($B119<>\"\",IF('Ct Report'!H$6=0,\"\",INDEX(INDIRECT(\"'Ct Report'!\"&$BL$24),MATCH(B119,INDIRECT(\"'Ct Report'!\"&$BF$24),0))*1),\"\")","v":""},"","",{"$nulls":3},"",{"$f":"IF(ISNA(frmSystem),\"\",IF($B119=\"\",\"\",IF(frmAnzahlSysteme<3,\"\",IF('Ct Report'!I$6=0,\"\",INDEX(INDIRECT(\"'Ct Report'!\"&$BM$24),MATCH($B119,INDIRECT(\"'Ct Report'!\"&$BF$24),0))*1))))","v":""},"","",{"$nulls":3},"",{"$f":"IF(ISNA(frmSystem),\"\",IF($B119=\"\",\"\",IF(frmAnzahlSysteme<4,\"\",IF('Ct Report'!J$6=0,\"\",INDEX(INDIRECT(\"'Ct Report'!\"&$BN$24),MATCH($B119,INDIRECT(\"'Ct Report'!\"&$BF$24),0))*1))))","v":""},"","",{"$nulls":3},"",{"$f":"IF(ISNA(frmSystem),\"\",IF($B119=\"\",\"\",IF(frmAnzahlSysteme<5,\"\",IF('Ct Report'!K$6=0,\"\",INDEX(INDIRECT(\"'Ct Report'!\"&$BO$24),MATCH($B119,INDIRECT(\"'Ct Report'!\"&$BF$24),0))*1))))","v":""},"","",{"$nulls":3},{"$f":"IF($B119=\"\",\"\",IF('Ct Report'!G$6=0,\"\",IF(INDEX(INDIRECT(\"'Ct Report'!\"&$BK$24),MATCH($B119,INDIRECT(\"'Ct Report'!\"&$BF$24),0))=frmNoAmplification,frmZyklen,INDEX(INDIRECT(\"'Ct Report'!\"&$BK$24),MATCH($B119,INDIRECT(\"'Ct Report'!\"&$BF$24),0)))))","v":""},{"$f":"IF($B119=\"\",\"\",IF('Ct Report'!L$6=0,\"\",INDEX(INDIRECT(\"'Ct Report'!\"&$BP$24),MATCH($B119,INDIRECT(\"'Ct Report'!\"&$BF$24),0))*1))","v":""},"",{"$nulls":27},"","","","","",null,{"$error":"#N/A"},{"$error":"#N/A"},{"$error":"#N/A"},{"$error":"#N/A"},{"$error":"#N/A"},null,{"$error":"#N/A"},{"$error":"#N/A"},{"$error":"#N/A"},{"$error":"#N/A"},{"$error":"#N/A"},null,{"$error":"#N/A"},{"$error":"#N/A"},{"$error":"#N/A"},{"$error":"#N/A"},{"$error":"#N/A"},null,"","","","",null,0,null,"",{"$error":"#VALUE!"},{"$error":"#VALUE!"},{"$error":"#VALUE!"}]
["No Warranty \nTHE SOFTWARE IS PROVIDED WITHOUT ANY WARRANTIES, EXPRESS OR IMPLIED, INCLUDING ANY WARRANTY OF MERCHANTABILITY OR FITNESS FOR ANY PURPOSE.  THE PROVIDERS MAKE NO REPRESENTATION THAT THE USE OF THE SOFTWARE SHALL NOT INFRINGE ANY PATENT OR OTHER PROPRIETARY RIGHT, AND NO GRANT, RIGHT OR LICENSE UNDER ANY PROVIDER PATENT OR PATENT APPLICATION IS GRANTED BY IMPLICATION.  IN NO EVENT WILL PROVIDERS BE LIABLE TO RECIPIENT FOR ANY INCIDENTAL, SPECIAL, PUNITIVE, EXEMPLARY, CONSEQUENTIAL, OR OTHER DAMAGES ARISING FROM OR CONNECTED WITH RECIPIENT’S USE OF THE SOFTWARE.  RECIPIENT AGREES TO INDEMNIFY, DEFEND, AND HOLD THE PROVIDERS HARMLESS FROM ANY LOSS, CLAIM, DAMAGE, ILLNESS, OR INJURY TO PERSONS OR PROPERTY WHATEVER THE CAUSE MAY BE ARISING OUT OF OR PERTAINING TO RECIPIENT'S USE OF THE SOFTWARE."]

{"sheet":"Options","index":2,"n_rows":136,"n_cols":80,"rows_kept":136,"hidden":true,"merged":[[17,1,17,3],[19,1,19,5],[24,31,24,35],[24,38,24,41],[24,42,24,43],[24,44,24,45],[24,46,24,50],[24,76,24,79]]}
["StartWell",23]
["Module",{"$f":"frmModul","v":""},"Kurz:",{"$f":"VLOOKUP(frmModul,tabPCRSysteme,54,FALSE)","v":{"$error":"#N/A"}}]
["No Systeme",{"$f":"VLOOKUP(frmModul,tabPCRSysteme,30,FALSE)","v":{"$error":"#N/A"}}]
["BaseLine Soll",{"$f":"VLOOKUP(frmModul,tabPCRSysteme,31,FALSE)","v":{"$error":"#N/A"}},null,"MX 1"]
[null,"1","2","3",4,5]
[null,"GMO1","GMO2","GMO3","GMO4","IPC",null,"Spalte","Tabelle"]
["Bezeichnung Detektoren",{"$f":"IF(ISNA(frmSystem),\"\",VLOOKUP(frmModulKurz,INDIRECT(frmTabReporter),8,FALSE))","v":""},{"$f":"IF(ISNA(frmSystem),\"\",VLOOKUP(frmModulKurz,INDIRECT(frmTabReporter),9,FALSE))","v":""},{"$f":"IF(ISNA(frmSystem),\"\",VLOOKUP(frmModulKurz,INDIRECT(frmTabReporter),10,FALSE))","v":""},{"$f":"IF(ISNA(frmSystem),\"\",VLOOKUP(frmModulKurz,INDIRECT(frmTabReporter),11,FALSE))","v":""},{"$f":"IF(ISNA(frmSystem),\"\",VLOOKUP(frmModulKurz,INDIRECT(frmTabReporter),12,FALSE))","v":""}]
["ModulNr",{"$f":"VLOOKUP(frmModul,tabPCRSysteme,7,FALSE)","v":{"$error":"#N/A"}},{"$f":"VLOOKUP(frmModul,tabPCRSysteme,12,FALSE)","v":{"$error":"#N/A"}},{"$f":"VLOOKUP(frmModul,tabPCRSysteme,17,FALSE)","v":{"$error":"#N/A"}},{"$f":"VLOOKUP(frmModul,tabPCRSysteme,22,FALSE)","v":{"$error":"#N/A"}}]
["Dye",{"$f":"IF(ISNA(frmSystem),\"\",VLOOKUP(frmModulKurz,INDIRECT(frmTabReporter),3,FALSE))","v":""},{"$f":"IF(ISNA(frmSystem),\"\",VLOOKUP(frmModulKurz,INDIRECT(frmTabReporter),4,FALSE))","v":""},{"$f":"IF(ISNA(frmSystem),\"\",VLOOKUP(frmModulKurz,INDIRECT(frmTabReporter),5,FALSE))","v":""},{"$f":"IF(ISNA(frmSystem),\"\",VLOOKUP(frmModulKurz,INDIRECT(frmTabReporter),6,FALSE))","v":""},{"$f":"IF(ISNA(frmSystem),\"\",VLOOKUP(frmModulKurz,INDIRECT(frmTabReporter),7,FALSE))","v":""}]
["Bereiche",{"$f":"VLOOKUP(frmTaqMan,tabTaqManDaten,3,FALSE)","v":{"$error":"#N/A"}},{"$f":"VLOOKUP(frmTaqMan,tabTaqManDaten,4,FALSE)","v":{"$error":"#N/A"}},{"$f":"VLOOKUP(frmTaqMan,tabTaqManDaten,5,FALSE)","v":{"$error":"#N/A"}},{"$f":"VLOOKUP(frmTaqMan,tabTaqManDaten,6,FALSE)","v":{"$error":"#N/A"}},{"$f":"VLOOKUP(frmTaqMan,tabTaqManDaten,7,FALSE)","v":{"$error":"#N/A"}}]
["BaseLineStart",{"$f":"VLOOKUP(frmTaqMan,tabTaqManDaten,$H$11,FALSE)","v":{"$error":"#N/A"}},{"$f":"VLOOKUP(frmTaqMan,tabTaqManDaten,$H$11+2,FALSE)","v":{"$error":"#N/A"}},{"$f":"VLOOKUP(frmTaqMan,tabTaqManDaten,$H$11+4,FALSE)","v":{"$error":"#N/A"}},{"$f":"VLOOKUP(frmTaqMan,tabTaqManDaten,$H$11+6,FALSE)","v":{"$error":"#N/A"}},{"$f":"VLOOKUP(frmTaqMan,tabTaqManDaten,$H$11+8,FALSE)","v":{"$error":"#N/A"}},null,13,"tabTaqManDaten"]
["BaseLineEnde",{"$f":"VLOOKUP(frmTaqMan,tabTaqManDaten,$H$11+1,FALSE)","v":{"$error":"#N/A"}},{"$f":"VLOOKUP(frmTaqMan,tabTaqManDaten,$H$11+3,FALSE)","v":{"$error":"#N/A"}},{"$f":"VLOOKUP(frmTaqMan,tabTaqManDaten,$H$11+5,FALSE)","v":{"$error":"#N/A"}},{"$f":"VLOOKUP(frmTaqMan,tabTaqManDaten,$H$11+7,FALSE)","v":{"$error":"#N/A"}},{"$f":"VLOOKUP(frmTaqMan,tabTaqManDaten,$H$11+9,FALSE)","v":{"$error":"#N/A"}}]
["Threshold",{"$f":"VLOOKUP(frmTaqMan,tabTaqManDaten,$H$13+(B$5-1),FALSE)","v":{"$error":"#N/A"}},{"$f":"VLOOKUP(frmTaqMan,tabTaqManDaten,$H$13+(C$5-1),FALSE)","v":{"$error":"#N/A"}},{"$f":"VLOOKUP(frmTaqMan,tabTaqManDaten,$H$13+(D$5-1),FALSE)","v":{"$error":"#N/A"}},{"$f":"VLOOKUP(frmTaqMan,tabTaqManDaten,$H$13+(E$5-1),FALSE)","v":{"$error":"#N/A"}},{"$f":"VLOOKUP(frmTaqMan,tabTaqManDaten,$H$13+(F$5-1),FALSE)","v":{"$error":"#N/A"}},null,8,"tabTaqManDaten"]
[]
[]
["Documentinformation"]
[]
["DocID"," 3.3.1-FB16882"]
["Version","16","Draft","NEIN","Minor Vers","01"]
["Title","Evaluation Qualitative RealTime PCR with IPC | no Macro"]
[]
[]
[]
["tabPCRSysteme",null,{"$f":"COLUMN()","v":3},{"$f":"COLUMN()","v":4},{"$f":"COLUMN()","v":5},{"$f":"COLUMN()","v":6},{"$f":"COLUMN()","v":7},{"$f":"COLUMN()","v":8},{"$f":"COLUMN()","v":9},{"$f":"COLUMN()","v":10},{"$f":"COLUMN()","v":11},{"$f":"COLUMN()","v":12},{"$f":"COLUMN()","v":13},{"$f":"COLUMN()","v":14},{"$f":"COLUMN()","v":15},{"$f":"COLUMN()","v":16},{"$f":"COLUMN()","v":17},{"$f":"COLUMN()","v":18},{"$f":"COLUMN()","v":19},{"$f":"COLUMN()","v":20},{"$f":"COLUMN()","v":21},{"$f":"COLUMN()","v":22},{"$f":"COLUMN()","v":23},{"$f":"COLUMN()","v":24},{"$f":"COLUMN()","v":25},{"$f":"COLUMN()","v":26},{"$f":"COLUMN()","v":27},{"$f":"COLUMN()","v":28},{"$f":"COLUMN()","v":29},{"$f":"COLUMN()","v":30},{"$f":"COLUMN()","v":31},{"$f":"COLUMN()","v":32},{"$f":"COLUMN()","v":33},{"$f":"COLUMN()","v":34},{"$f":"COLUMN()","v":35},{"$f":"COLUMN()","v":36},{"$f":"COLUMN()","v":37},{"$f":"COLUMN()","v":38},{"$f":"COLUMN()","v":39},{"$f":"COLUMN()","v":40},{"$f":"COLUMN()","v":41},{"$f":"COLUMN()","v":42},{"$f":"COLUMN()","v":43},{"$f":"COLUMN()","v":44},{"$f":"COLUMN()","v":45},{"$f":"COLUMN()","v":46},{"$f":"COLUMN()","v":47},{"$f":"COLUMN()","v":48},{"$f":"COLUMN()","v":49},{"$f":"COLUMN()","v":50},{"$f":"COLUMN()","v":51},{"$f":"COLUMN()","v":52},{"$f":"COLUMN()","v":53},{"$f":"COLUMN()","v":54},{"$f":"COLUMN()","v":55},{"$f":"COLUMN()","v":56},{"$f":"COLUMN()","v":57},{"$f":"COLUMN()","v":58},{"$f":"COLUMN()","v":59},{"$f":"COLUMN()","v":60},{"$f":"COLUMN()","v":61},{"$f":"COLUMN()","v":62},{"$f":"COLUMN()","v":63},{"$f":"COLUMN()","v":64},{"$f":"COLUMN()","v":65},{"$f":"COLUMN()","v":66},{"$f":"COLUMN()","v":67},{"$f":"COLUMN()","v":68},{"$f":"COLUMN()","v":69},{"$f":"COLUMN()","v":70},{"$f":"COLUMN()","v":71},{"$f":"COLUMN()","v":72},{"$f":"COLUMN()","v":73},{"$f":"COLUMN()","v":74},{"$f":"COLUMN()","v":75},{"$f":"COLUMN()","v":76},{"$f":"COLUMN()","v":77},{"$f":"COLUMN()","v":78},{"$f":"COLUMN()","v":79},{"$f":"COLUMN()","v":80}]
[null,null,"No.",null,"System 1",{"$nulls":4},"System 2",{"$nulls":4},"System3",{"$nulls":4},"System4",{"$nulls":4},"IPC",{"$nulls":4},"No.",null,"Backgroundcolor",{"$nulls":4},"ROX","Sensitivity","AnzahlSysteme/Well",{"$nulls":3},"Max Outliers",null,"Limits dK+ (K2+ - K1+)",null,"Avoid Early Cts",{"$nulls":4},"Identifier",null,"Modul",null,"Identifier",{"$nulls":3},"Sortierschlüssel","Cutoff Sensitivitätsergebnis System1",{"$nulls":3},"Cutoff Sensitivitätsergebnis System2",{"$nulls":3},"Cutoff Sensitivitätsergebnis System3",{"$nulls":3},"Cutoff Sensitivitätsergebnis System4",{"$nulls":3},"Nur CutOff-Auswertung (siehe 08.34)"]
["Module","PCR-System","Systems","Cycles","Name","Low dRN Limit","Module","CtCutOff","dRN Limit","Name","Low dRN Limit","Module","CtCutOff","dRN Limit","Name","Low dRN Limit","Module","CtCutOff","dRN Limit","Name","Low dRN Limit","Module","CtCutOff","dRN Limit","Name",null,"Module","CtCutOff","dRN Limit","Systems","BaseLine","System1","System2","System3","System4","IPC","Normalisation","Asymetrie","System1","System2","System3","System4","K+","NTC","lower Limit","upper Limit","System1","System2","System3","System4","IPC","MM","PosKontrolle","Kurz","Layout","BasicMix",{"$nulls":3},"1 Screening | 2 Ident","Vorhanden",null,null,"StdDev ","Vorhanden","K+ (Kopien/Rxn)","Cutoff (Kopien/Rxn)","Faktor","Vorhanden","K+ (Kopien/Rxn)","Cutoff (Kopien/Rxn)","Faktor","Vorhanden","K+ (Kopien/Rxn)","Cutoff (Kopien/Rxn)","Faktor","System1","System 2","System3","System 4"]
["GS-P-08.020","mt Horse",2,45,"Horse",0,{"$f":"IF(LEN(E27)>0,A27&IF(C27>2,\"-1\",\"\"),\"\")","v":"GS-P-08.020"},6,0.2,{"$nulls":7},{"$f":"IF(LEN(O27)>0,A27&\"-3\",\"\")","v":""},{"$nulls":4},{"$f":"IF(LEN(T27)>0,A27&\"-4\",\"\")","v":""},null,null,"IPC",0,null,3,0.33,{"$f":"C27","v":2},"3-15",{"$nulls":5},"dRN",0,1,0,0,0,1,1,0,0,0,0,0,0,0,"1663","1664","08.020","2 NTC | 2 C+","0826",{"$nulls":3},1,{"$nulls":15},2]
["GS-P-08.026","Duck",2,45,"Duck",0,{"$f":"IF(LEN(E28)>0,A28&IF(C28>2,\"-1\",\"\"),\"\")","v":"GS-P-08.026"},8,0.2,null,0,{"$f":"IF(LEN(J28)>0,A28&\"-2\",\"\")","v":""},0,0,null,0,{"$f":"IF(LEN(O28)>0,A28&\"-3\",\"\")","v":""},0,0,null,0,{"$f":"IF(LEN(T28)>0,A28&\"-4\",\"\")","v":""},0,0,"IPC",0,null,3,0.33,{"$f":"C28","v":2},"3-15",{"$nulls":5},"dRN",0,1,0,0,0,0,0,0,0,0,0,0,0,5,"1832","1833","08.026","2 NTC | 2 C+","1997",{"$nulls":3},1,false,{"$nulls":3},false,{"$nulls":3},false,{"$nulls":3},true,null,null,2]
["GS-P-08.027","Halal",3,45,"Equus",0,{"$f":"IF(LEN(E29)>0,A29&IF(C29>2,\"-1\",\"\"),\"\")","v":"GS-P-08.027-1"},7,0.2,"Pork",0,{"$f":"IF(LEN(J29)>0,A29&\"-2\",\"\")","v":"GS-P-08.027-2"},7,0.2,null,0,{"$f":"IF(LEN(O29)>0,A29&\"-3\",\"\")","v":""},0,0,null,0,{"$f":"IF(LEN(T29)>0,A29&\"-4\",\"\")","v":""},0,0,"IPC",0,null,3,0.33,{"$f":"C29","v":3},"3-15",{"$nulls":5},"dRN",-5,1,1,0,0,1,1,0,0,0,0,0,0,3,"1820","1821","08.027","4 NTC | 4 C+","1997",{"$nulls":3},1,false,{"$nulls":3},false,{"$nulls":3},false,{"$nulls":3},true,null,null,2]
["GS-P-08.028","Mamal / Bird",2,45,"myostatine",0,{"$f":"IF(LEN(E30)>0,A30&IF(C30>2,\"-1\",\"\"),\"\")","v":"GS-P-08.028"},8,0.2,{"$nulls":7},{"$f":"IF(LEN(O30)>0,A30&\"-3\",\"\")","v":""},{"$nulls":4},{"$f":"IF(LEN(T30)>0,A30&\"-4\",\"\")","v":""},null,null,"IPC",0,null,3,0.33,{"$f":"C30","v":2},"3-15",{"$nulls":5},"dRN",0,1,0,0,0,0,0,0,0,0,0,0,0,3,"1886","1869","08.028","2 NTC | 2 C+","1997",{"$nulls":3},1,false,{"$nulls":3},false,{"$nulls":3},false,{"$nulls":3},true,null,null,2]
["GS-P-08.029","Pig",2,45,"Pork",0,{"$f":"IF(LEN(E31)>0,A31&IF(C31>2,\"-1\",\"\"),\"\")","v":"GS-P-08.029"},8,0.2,null,0,{"$f":"IF(LEN(J31)>0,A31&\"-2\",\"\")","v":""},0,0,null,0,{"$f":"IF(LEN(O31)>0,A31&\"-3\",\"\")","v":""},0,0,null,0,{"$f":"IF(LEN(T31)>0,A31&\"-4\",\"\")","v":""},0,0,"IPC",0,null,3,0.33,{"$f":"C31","v":2},"3-15",{"$nulls":5},"dRN",0,1,0,0,0,0,0,0,0,0,0,0,0,3,"1863","1864","08.029","2 NTC | 2 C+","1997",{"$nulls":3},1,false,{"$nulls":3},false,{"$nulls":3},false,{"$nulls":3},true,null,null,2]
["GS-P-08.030","Cattle",2,45,"Cattle",0,{"$f":"IF(LEN(E32)>0,A32&IF(C32>2,\"-1\",\"\"),\"\")","v":"GS-P-08.030"},8,0.2,null,0,{"$f":"IF(LEN(J32)>0,A32&\"-2\",\"\")","v":""},0,0,null,0,{"$f":"IF(LEN(O32)>0,A32&\"-3\",\"\")","v":""},0,0,null,0,{"$f":"IF(LEN(T32)>0,A32&\"-4\",\"\")","v":""},0,0,"IPC",0,null,3,0.33,{"$f":"C32","v":2},"3-15",{"$nulls":5},"dRN",0,1,0,0,0,0,0,0,0,0,0,0,0,3,"1868","1869","08.030","2 NTC | 2 C+","1997",{"$nulls":3},1,false,{"$nulls":3},false,{"$nulls":3},false,{"$nulls":3},true,null,null,2]
["GS-P-08.031","Chicken",2,45,"Chicken",0,{"$f":"IF(LEN(E33)>0,A33&IF(C33>2,\"-1\",\"\"),\"\")","v":"GS-P-08.031"},8,0.2,null,0,{"$f":"IF(LEN(J33)>0,A33&\"-2\",\"\")","v":""},0,0,null,0,{"$f":"IF(LEN(O33)>0,A33&\"-3\",\"\")","v":""},0,0,null,0,{"$f":"IF(LEN(T33)>0,A33&\"-4\",\"\")","v":""},0,0,"IPC",0,null,3,0.33,{"$f":"C33","v":2},"3-15",37,-4142,-4142,-4142,38,"dRN",0,1,0,0,0,0,0,0,0,0,0,0,0,3,"1944","1945","08.031","2 NTC | 2 C+","0826",{"$nulls":3},1,false,{"$nulls":3},false,{"$nulls":3},false,{"$nulls":3},true,null,null,2]
["GS-P-08.032","Goose",2,45,"Goose",0,{"$f":"IF(LEN(E34)>0,A34&IF(C34>2,\"-1\",\"\"),\"\")","v":"GS-P-08.032"},8,0.2,null,0,{"$f":"IF(LEN(J34)>0,A34&\"-2\",\"\")","v":""},0,0,null,0,{"$f":"IF(LEN(O34)>0,A34&\"-3\",\"\")","v":""},0,0,null,0,{"$f":"IF(LEN(T34)>0,A34&\"-4\",\"\")","v":""},0,0,"IPC",0,null,3,0.33,{"$f":"C34","v":2},"3-15",37,-4142,-4142,-4142,38,"dRN",0,1,0,0,0,0,0,0,0,0,0,0,0,3,"1894","1895","08.032","2 NTC | 2 C+","1997",{"$nulls":3},1,false,{"$nulls":3},false,{"$nulls":3},false,{"$nulls":3},true,null,null,2]
["GS-P-08.033","Asian buffalo",2,45,"Asian b.",0,{"$f":"IF(LEN(E35)>0,A35&IF(C35>2,\"-1\",\"\"),\"\")","v":"GS-P-08.033"},8,0.2,null,0,{"$f":"IF(LEN(J35)>0,A35&\"-2\",\"\")","v":""},0,0,null,0,{"$f":"IF(LEN(O35)>0,A35&\"-3\",\"\")","v":""},0,0,null,0,{"$f":"IF(LEN(T35)>0,A35&\"-4\",\"\")","v":""},0,0,"IPC",0,null,3,0.33,{"$f":"C35","v":2},"3-15",37,-4142,-4142,-4142,38,"dRN",0,1,0,0,0,0,0,0,0,0,0,0,0,3,"1947","1948","08.033","2 NTC | 2 C+","0826",{"$nulls":3},1,false,{"$nulls":3},false,{"$nulls":3},false,{"$nulls":3},true,null,null,2]
["GS-P-08.034","mt Pork",2,45,"Pork",0,{"$f":"IF(LEN(E36)>0,A36&IF(C36>2,\"-1\",\"\"),\"\")","v":"GS-P-08.034"},6,0,null,0,{"$f":"IF(LEN(J36)>0,A36&\"-2\",\"\")","v":""},0,0,null,0,{"$f":"IF(LEN(O36)>0,A36&\"-3\",\"\")","v":""},0,0,null,0,{"$f":"IF(LEN(T36)>0,A36&\"-4\",\"\")","v":""},0,0,"IPC",0,null,3,0.33,{"$f":"C36","v":2},"3-15",37,-4142,-4142,-4142,38,"dRN",0,1,0,0,0,0,0,0,0,10,0,0,0,3,"1928","1929","08.034","2 NTC | 2 C+","0826",{"$nulls":3},1,false,{"$nulls":3},false,{"$nulls":3},false,{"$nulls":3},false,{"$nulls":3},true,false,false,false]
["GS-P-08.035","Ruminant",2,45,"Ruminant",0,{"$f":"IF(LEN(E37)>0,A37&IF(C37>2,\"-1\",\"\"),\"\")","v":"GS-P-08.035"},8,0.2,null,0,{"$f":"IF(LEN(J37)>0,A37&\"-2\",\"\")","v":""},0,0,null,0,{"$f":"IF(LEN(O37)>0,A37&\"-3\",\"\")","v":""},0,0,null,0,{"$f":"IF(LEN(T37)>0,A37&\"-4\",\"\")","v":""},0,0,"IPC",0,null,3,0.33,{"$f":"C37","v":2},"3-15",37,-4142,-4142,-4142,38,"dRN",0,1,0,0,0,0,0,0,0,5,0,0,0,3,"1990","1869","08.035","2 NTC | 2 C+","0826",{"$nulls":3},1,false,{"$nulls":3},false,{"$nulls":3},false,{"$nulls":3},false,{"$nulls":3},false,false,false,false]
["GS-P-08.036","Fish",2,45,"Fish",0,{"$f":"IF(LEN(E38)>0,A38&IF(C38>2,\"-1\",\"\"),\"\")","v":"GS-P-08.036"},10,0.2,null,0,{"$f":"IF(LEN(J38)>0,A38&\"-2\",\"\")","v":""},0,0,null,0,{"$f":"IF(LEN(O38)>0,A38&\"-3\",\"\")","v":""},0,0,null,0,{"$f":"IF(LEN(T38)>0,A38&\"-4\",\"\")","v":""},0,0,"IPC",0,null,3,0.33,{"$f":"C38","v":2},"3-15",37,-4142,-4142,-4142,38,"dRN",0,1,0,0,0,0,0,0,0,0,0,0,0,3,"2068","2069","08.036","2 NTC | 2 C+","2007",{"$nulls":3},1,false,{"$nulls":3},false,{"$nulls":3},false,{"$nulls":3},false,{"$nulls":3},false,false,false,false]
["GS-P-08.037","Bird",2,45,"Bird",0,{"$f":"IF(LEN(E39)>0,A39&IF(C39>2,\"-1\",\"\"),\"\")","v":"GS-P-08.037"},8,0.2,null,0,{"$f":"IF(LEN(J39)>0,A39&\"-2\",\"\")","v":""},0,0,null,0,{"$f":"IF(LEN(O39)>0,A39&\"-3\",\"\")","v":""},0,0,null,0,{"$f":"IF(LEN(T39)>0,A39&\"-4\",\"\")","v":""},0,0,"IPC",0,null,3,0.33,{"$f":"C39","v":2},"3-15",37,-4142,-4142,-4142,38,"dRN",0,1,0,0,0,0,0,0,0,0,0,0,0,3,"2485","1945","08.037","2 NTC | 2 C+","2007",{"$nulls":3},1,false,{"$nulls":3},false,{"$nulls":3},false,{"$nulls":3},false,{"$nulls":3},false,false,false,false]
["GS-P-08.038","Turkey",2,45,"Turkey",0,{"$f":"IF(LEN(E40)>0,A40&IF(C40>2,\"-1\",\"\"),\"\")","v":"GS-P-08.038"},8,0.2,null,0,{"$f":"IF(LEN(J40)>0,A40&\"-2\",\"\")","v":""},0,0,null,0,{"$f":"IF(LEN(O40)>0,A40&\"-3\",\"\")","v":""},0,0,null,0,{"$f":"IF(LEN(T40)>0,A40&\"-4\",\"\")","v":""},0,0,"IPC",0,null,3,0.33,{"$f":"C40","v":2},"3-15",37,-4142,-4142,-4142,38,"dRN",0,1,0,0,0,0,0,0,0,0,0,0,0,5,"2524","2525","08.038","2 NTC | 2 C+","2007",{"$nulls":3},1,false,{"$nulls":3},false,{"$nulls":3},false,{"$nulls":3},false,{"$nulls":3},false,false,false,false]
["GS-P-08.039","Goat",2,45,"Goat",0,{"$f":"IF(LEN(E41)>0,A41&IF(C41>2,\"-1\",\"\"),\"\")","v":"GS-P-08.039"},8,0.2,null,0,{"$f":"IF(LEN(J41)>0,A41&\"-2\",\"\")","v":""},0,0,null,0,{"$f":"IF(LEN(O41)>0,A41&\"-3\",\"\")","v":""},0,0,null,0,{"$f":"IF(LEN(T41)>0,A41&\"-4\",\"\")","v":""},0,0,"IPC",0,null,3,0.33,{"$f":"C41","v":2},"3-15",37,-4142,-4142,-4142,38,"dRN",0,1,0,0,0,0,0,0,0,0,0,0,0,3,"2514","2516","08.039","2 NTC | 2 C+","2007",{"$nulls":3},1,false,{"$nulls":3},false,{"$nulls":3},false,{"$nulls":3},false,{"$nulls":3},false,false,false,false]
["GS-P-08.040","Sheep",2,45,"Sheep",0,{"$f":"IF(LEN(E42)>0,A42&IF(C42>2,\"-1\",\"\"),\"\")","v":"GS-P-08.040"},8,0.2,null,0,{"$f":"IF(LEN(J42)>0,A42&\"-2\",\"\")","v":""},0,0,null,0,{"$f":"IF(LEN(O42)>0,A42&\"-3\",\"\")","v":""},0,0,null,0,{"$f":"IF(LEN(T42)>0,A42&\"-4\",\"\")","v":""},0,0,"IPC",0,null,3,0.33,{"$f":"C42","v":2},"3-15",37,-4142,-4142,-4142,38,"dRN",0,1,0,0,0,0,0,0,0,0,0,0,0,3,"2547","2546","08.040","2 NTC | 2 C+","2007",{"$nulls":3},1,false,{"$nulls":3},false,{"$nulls":3},false,{"$nulls":3},false,{"$nulls":3},false,false,false,false]
["GS-P-08.041","Pig",2,45,"Pig",0,{"$f":"IF(LEN(E43)>0,A43&IF(C43>2,\"-1\",\"\"),\"\")","v":"GS-P-08.041"},8,0.2,null,0,{"$f":"IF(LEN(J43)>0,A43&\"-2\",\"\")","v":""},0,0,null,0,{"$f":"IF(LEN(O43)>0,A43&\"-3\",\"\")","v":""},0,0,null,0,{"$f":"IF(LEN(T43)>0,A43&\"-4\",\"\")","v":""},0,0,"IPC",0,null,3,0.33,{"$f":"C43","v":2},"3-15",37,-4142,-4142,-4142,38,"dRN",0,1,0,0,0,0,0,0,0,0,0,0,0,3,"2615","1864","08.041","2 NTC | 2 C+","2602",{"$nulls":3},1,false,{"$nulls":3},false,{"$nulls":3},false,{"$nulls":3},false,{"$nulls":3},false,false,false,false]
["GS-P-08.042","Halal MP 2",3,45,"Equidae",0,{"$f":"IF(LEN(E44)>0,A44&IF(C44>2,\"-1\",\"\"),\"\")","v":"GS-P-08.042-1"},7,0.2,"Pig",0,{"$f":"IF(LEN(J44)>0,A44&\"-2\",\"\")","v":"GS-P-08.042-2"},7,0.2,null,0,{"$f":"IF(LEN(O44)>0,A44&\"-3\",\"\")","v":""},0,0,null,0,{"$f":"IF(LEN(T44)>0,A44&\"-4\",\"\")","v":""},0,0,"IPC",0,null,3,0.33,{"$f":"C44","v":3},"3-15",37,35,-4142,-4142,38,"dRN",5,1,1,0,0,0,0,0,0,10,10,0,0,3,"2642","2673","08.042","2 NTC | 2 C+","2602",{"$nulls":3},1,false,{"$nulls":3},false,{"$nulls":3},false,{"$nulls":3},false,{"$nulls":3},false,false,false,false]
["GS-P-08.043","Mammals & Bird",2,45,"Mammals",0,{"$f":"IF(LEN(E45)>0,A45&IF(C45>2,\"-1\",\"\"),\"\")","v":"GS-P-08.043"},0,0,null,0,{"$f":"IF(LEN(J45)>0,A45&\"-2\",\"\")","v":""},0,0,null,0,{"$f":"IF(LEN(O45)>0,A45&\"-3\",\"\")","v":""},0,0,null,0,{"$f":"IF(LEN(T45)>0,A45&\"-4\",\"\")","v":""},0,0,"IPC",0,null,0,0,{"$f":"C45","v":2},"3-15",37,-4142,-4142,-4142,38,"dRN",null,1,0,0,0,0,0,0,0,0,0,0,0,0,"2870","1869","08.043","2 NTC | 2 C+","2602",{"$nulls":3},1,{"$nulls":16},0,0,0,0]
["GS-P-09.006","event Bt10",2,45,"Bt10",0,{"$f":"IF(LEN(E46)>0,A46&IF(C46>2,\"-1\",\"\"),\"\")","v":"GS-P-09.006"},6,0.2,null,0,{"$f":"IF(LEN(J46)>0,A46&\"-2\",\"\")","v":""},0,0,null,0,{"$f":"IF(LEN(O46)>0,A46&\"-3\",\"\")","v":""},0,0,null,0,{"$f":"IF(LEN(T46)>0,A46&\"-4\",\"\")","v":""},0,0,"IPC",0,null,4,0.5,{"$f":"C46","v":2},"3-15",{"$nulls":5},"dRN",0,1,0,0,0,1,1,0,0,0,0,0,0,0,"0209","0877","09.006","4 NTC | 4 C+","0826",{"$nulls":3},1,{"$nulls":15},2]
["GS-P-09.015","event NK603",2,45,"NK603",null,{"$f":"IF(LEN(E47)>0,A47&IF(C47>2,\"-1\",\"\"),\"\")","v":"GS-P-09.015"},6,0.2,null,null,{"$f":"IF(LEN(J47)>0,A47&\"-2\",\"\")","v":""},{"$nulls":4},{"$f":"IF(LEN(O47)>0,A47&\"-3\",\"\")","v":""},{"$nulls":4},{"$f":"IF(LEN(T47)>0,F47&\"-4\",\"\")","v":""},null,null,"IPC",null,null,4,0.5,{"$f":"C47","v":2},"3-15",{"$nulls":5},"dRN",null,1,{"$nulls":3},0,0,{"$nulls":7},"0648","0647","09.015","6 NTC | 4 C+","0826",{"$nulls":3},1,{"$nulls":15},2]
["GS-P-09.016","event MIR604",2,45,"MIR604",null,{"$f":"IF(LEN(E48)>0,A48&IF(C48>2,\"-1\",\"\"),\"\")","v":"GS-P-09.016"},6,0.2,null,null,{"$f":"IF(LEN(J48)>0,A48&\"-2\",\"\")","v":""},{"$nulls":4},{"$f":"IF(LEN(O48)>0,A48&\"-3\",\"\")","v":""},{"$nulls":4},{"$f":"IF(LEN(T48)>0,F48&\"-4\",\"\")","v":""},null,null,"IPC",null,null,4,0.5,{"$f":"C48","v":2},"3-15",{"$nulls":5},"dRN",null,1,{"$nulls":12},"0650","0651","09.016","2 NTC | 2 C+","0826",{"$nulls":3},1,{"$nulls":15},2]
["GS-P-09.017","35S/NOS",3,45,"35S",0,{"$f":"IF(LEN(E49)>0,A49&IF(C49>2,\"-1\",\"\"),\"\")","v":"GS-P-09.017-1"},6,0.2,"NOS",0,{"$f":"IF(LEN(J49)>0,A49&\"-2\",\"\")","v":"GS-P-09.017-2"},6,0.2,null,0,{"$f":"IF(LEN(O49)>0,A49&\"-3\",\"\")","v":""},0,0,null,0,{"$f":"IF(LEN(T49)>0,A49&\"-4\",\"\")","v":""},0,0,"IPC",0,null,4,0.5,{"$f":"C49","v":3},"3-15",{"$nulls":5},"dRN",-2,1,1,0,0,1,1,0,0,0,0,0,0,0,"0537","0571","09.017","6 NTC | 4 C+","0826",{"$nulls":3},1,{"$nulls":15},1]
["GS-P-09.019","event MON863",2,45,"MON863",0,{"$f":"IF(LEN(E50)>0,A50&IF(C50>2,\"-1\",\"\"),\"\")","v":"GS-P-09.019"},6,0.2,null,0,{"$f":"IF(LEN(J50)>0,A50&\"-2\",\"\")","v":""},0,0,null,0,{"$f":"IF(LEN(O50)>0,A50&\"-3\",\"\")","v":""},0,0,null,0,{"$f":"IF(LEN(T50)>0,A50&\"-4\",\"\")","v":""},0,0,"IPC",0,null,4,0.5,{"$f":"C50","v":2},"3-15",{"$nulls":5},"dRN",0,1,0,0,0,0,0,0,0,0,0,0,0,0,"0653","0654","09.019","6 NTC | 4 C+","0826",{"$nulls":3},1,{"$nulls":15},2]
["GS-P-09.020","event DAS-59122-7",2,45,"HCX RW",0,{"$f":"IF(LEN(E51)>0,A51&IF(C51>2,\"-1\",\"\"),\"\")","v":"GS-P-09.020"},6,0.2,null,0,{"$f":"IF(LEN(J51)>0,A51&\"-2\",\"\")","v":""},0,0,null,0,{"$f":"IF(LEN(O51)>0,A51&\"-3\",\"\")","v":""},0,0,null,0,{"$f":"IF(LEN(T51)>0,A51&\"-4\",\"\")","v":""},0,0,"IPC",0,null,4,0.5,{"$f":"C51","v":2},"3-15",{"$nulls":5},"dRN",0,1,0,0,0,0,0,0,0,0,0,0,0,0,"0655","0656","09.020","6 NTC | 4 C+","0826",{"$nulls":3},1,{"$nulls":15},2]
["GS-P-09.021","event A2704-12",2,45,"A2704",0,{"$f":"IF(LEN(E52)>0,A52&IF(C52>2,\"-1\",\"\"),\"\")","v":"GS-P-09.021"},6,0.2,null,null,{"$f":"IF(LEN(J52)>0,A52&\"-2\",\"\")","v":""},{"$nulls":4},{"$f":"IF(LEN(O52)>0,A52&\"-3\",\"\")","v":""},{"$nulls":4},{"$f":"IF(LEN(T52)>0,A52&\"-4\",\"\")","v":""},null,null,"IPC",0,null,4,0.5,{"$f":"C52","v":2},"3-15",{"$nulls":5},"dRN",0,1,{"$nulls":3},0,0,0,0,{"$nulls":4},0,"0657","0658","09.021","2 NTC | 2 C+",{"$nulls":4},1,{"$nulls":15},2]
["GS-P-09.022","PVGT/nos/nptII/pat(syn)",5,45,"NOS",0,{"$f":"IF(LEN(E53)>0,A53&IF(C53>2,\"-1\",\"\"),\"\")","v":"GS-P-09.022-1"},7,0.2,"nptII",0,{"$f":"IF(LEN(J53)>0,A53&\"-2\",\"\")","v":"GS-P-09.022-2"},8,0.2,"PVGT",0,{"$f":"IF(LEN(O53)>0,A53&\"-3\",\"\")","v":"GS-P-09.022-3"},7,0.2,"pat(syn)",0,{"$f":"IF(LEN(T53)>0,A53&\"-4\",\"\")","v":"GS-P-09.022-4"},7,0.1,"IPC",0,null,4,0.33,{"$f":"C53","v":5},"3-15",{"$nulls":5},"dR",-2,1,1,1,1,1,1,0,0,0,0,0,0,0,"0778","0779","09.022","6 NTC | 4 C+","0900",{"$nulls":3},1,{"$nulls":15},1]
["GS-P-09.027","event MON810",2,45,"MON810",0,{"$f":"IF(LEN(E54)>0,A54&IF(C54>2,\"-1\",\"\"),\"\")","v":"GS-P-09.027"},6,0.2,null,null,{"$f":"IF(LEN(J54)>0,A54&\"-2\",\"\")","v":""},{"$nulls":4},{"$f":"IF(LEN(O54)>0,A54&\"-3\",\"\")","v":""},{"$nulls":4},{"$f":"IF(LEN(T54)>0,A54&\"-4\",\"\")","v":""},null,null,"IPC",0,null,4,0.33,{"$f":"C54","v":2},"3-15",{"$nulls":5},"dRN",0,1,{"$nulls":3},0,0,0,0,{"$nulls":4},0,"0825","0824","09.027","2 NTC | 2 C+","0826",{"$nulls":3},1,{"$nulls":15},2]
["GS-P-09.028","SAMS/ALS-P/G",2,45,"SAMS-ALS",0,{"$f":"IF(LEN(E55)>0,A55&IF(C55>2,\"-1\",\"\"),\"\")","v":"GS-P-09.028"},6,0.2,null,null,{"$f":"IF(LEN(J55)>0,A55&\"-2\",\"\")","v":""},{"$nulls":4},{"$f":"IF(LEN(O55)>0,A55&\"-3\",\"\")","v":""},{"$nulls":4},{"$f":"IF(LEN(T55)>0,A55&\"-4\",\"\")","v":""},null,null,"IPC",0,null,4,0.33,{"$f":"C55","v":2},"3-15",{"$nulls":5},"dRN",0,1,{"$nulls":3},0,0,0,0,{"$nulls":4},0,"0827","0828","09.028","2 NTC | 2 C+","0826",{"$nulls":3},1,{"$nulls":15},2]
["GS-P-09.029","LY038-PQ-C/G",2,45,"LY038",0,{"$f":"IF(LEN(E56)>0,A56&IF(C56>2,\"-1\",\"\"),\"\")","v":"GS-P-09.029"},7,0.1,null,null,{"$f":"IF(LEN(J56)>0,A56&\"-2\",\"\")","v":""},{"$nulls":4},{"$f":"IF(LEN(O56)>0,A56&\"-3\",\"\")","v":""},{"$nulls":4},{"$f":"IF(LEN(T56)>0,A56&\"-4\",\"\")","v":""},null,null,"IPC",0,null,4,0.33,{"$f":"C56","v":2},"3-15",{"$nulls":5},"dRN",0,1,{"$nulls":3},0,0,0,0,{"$nulls":4},0,"0855","0854","09.029","2 NTC | 2 C+","0826",{"$nulls":3},1,{"$nulls":15},2]
["GS-P-09.030","event GA21",2,45,"GA21",0,{"$f":"IF(LEN(E57)>0,A57&IF(C57>2,\"-1\",\"\"),\"\")","v":"GS-P-09.030"},6,0.2,null,null,{"$f":"IF(LEN(J57)>0,A57&\"-2\",\"\")","v":""},{"$nulls":4},{"$f":"IF(LEN(O57)>0,A57&\"-3\",\"\")","v":""},{"$nulls":4},{"$f":"IF(LEN(T57)>0,A57&\"-4\",\"\")","v":""},null,null,"IPC",0,null,4,0.33,{"$f":"C57","v":2},"3-15",{"$nulls":5},"dRN",0,1,{"$nulls":3},0,0,0,0,{"$nulls":4},0,"0883","0884","09.030","2 NTC | 2 C+","0826",{"$nulls":3},1,{"$nulls":15},2]
["GS-P-09.031","event TC1507",2,45,"TC1507",0,{"$f":"IF(LEN(E58)>0,A58&IF(C58>2,\"-1\",\"\"),\"\")","v":"GS-P-09.031"},6,0.2,null,null,{"$f":"IF(LEN(J58)>0,A58&\"-2\",\"\")","v":""},{"$nulls":4},{"$f":"IF(LEN(O58)>0,A58&\"-3\",\"\")","v":""},{"$nulls":4},{"$f":"IF(LEN(T58)>0,A58&\"-4\",\"\")","v":""},null,null,"IPC",0,null,4,0.33,{"$f":"C58","v":2},"3-15",{"$nulls":5},"dRN",0,1,{"$nulls":3},0,0,0,0,{"$nulls":4},0,"0885","0886","09.031","2 NTC | 2 C+","0826",{"$nulls":3},1,{"$nulls":15},2]
["GS-P-09.032","HexaScreen",5,45,"35S",0,{"$f":"IF(LEN(E59)>0,A59&IF(C59>2,\"-1\",\"\"),\"\")","v":"GS-P-09.032-1"},8,0.2,"NOS",0,{"$f":"IF(LEN(J59)>0,A59&\"-2\",\"\")","v":"GS-P-09.032-2"},7,0.2,"FMV",0.75,{"$f":"IF(LEN(O59)>0,A59&\"-3\",\"\")","v":"GS-P-09.032-3"},7,0.1,"LY038|SAM-als",0.667,{"$f":"IF(LEN(T59)>0,A59&\"-4\",\"\")","v":"GS-P-09.032-4"},7,0.15,"IPC",0,null,3,0.33,{"$f":"C59","v":5},"3-15",{"$nulls":5},"dR",-2,1,1,1,2,0,1,-0.5,2.5,0,0,0,0,0,"0887","0888","09.032","4 NTC | 4 C+","0892",{"$nulls":3},1,{"$nulls":15},1]
["GS-P-09.033","event MON89788",2,45,"RRS2",0.5,{"$f":"IF(LEN(E60)>0,A60&IF(C60>2,\"-1\",\"\"),\"\")","v":"GS-P-09.033"},6,0.2,null,null,{"$f":"IF(LEN(J60)>0,A60&\"-2\",\"\")","v":""},{"$nulls":4},{"$f":"IF(LEN(O60)>0,A60&\"-3\",\"\")","v":""},{"$nulls":4},{"$f":"IF(LEN(T60)>0,A60&\"-4\",\"\")","v":""},null,null,"IPC",0,null,4,0.33,{"$f":"C60","v":2},"3-15",{"$nulls":5},"dRN",0,1,{"$nulls":3},0,0,0,0,{"$nulls":4},0,"0864","0866","09.033","2 NTC | 2 C+","0826",{"$nulls":3},1,{"$nulls":15},2]
["GS-P-09.034","RRS",2,45,"RRS",0,{"$f":"IF(LEN(E61)>0,A61&IF(C61>2,\"-1\",\"\"),\"\")","v":"GS-P-09.034"},6,0.2,null,0,{"$f":"IF(LEN(J61)>0,A61&\"-2\",\"\")","v":""},0,0,null,0,{"$f":"IF(LEN(O61)>0,A61&\"-3\",\"\")","v":""},0,0,null,0,{"$f":"IF(LEN(T61)>0,A61&\"-4\",\"\")","v":""},0,0,"IPC",0,null,4,0.33,{"$f":"C61","v":2},"3-15",{"$nulls":5},"dRN",0,1,0,0,0,0,0,0,0,0,0,0,0,0,"0978","0901","09.034","2 NTC | 2 C+","0826",{"$nulls":3},1,{"$nulls":15},2]
["GS-P-09.035","FMV-Promoter",2,45,"FMV",0,{"$f":"IF(LEN(E62)>0,A62&IF(C62>2,\"-1\",\"\"),\"\")","v":"GS-P-09.035"},6,0.2,null,null,{"$f":"IF(LEN(J62)>0,A62&\"-2\",\"\")","v":""},{"$nulls":4},{"$f":"IF(LEN(O62)>0,A62&\"-3\",\"\")","v":""},{"$nulls":4},{"$f":"IF(LEN(T62)>0,A62&\"-4\",\"\")","v":""},null,null,"IPC",0,null,4,0.33,{"$f":"C62","v":2},"3-15",{"$nulls":5},"dRN",0,1,{"$nulls":3},0,0,0,0,{"$nulls":4},0,"0902","0904","09.035","2 NTC | 2 C+","0826",{"$nulls":3},1,{"$nulls":15},2]
["GS-P-09.036","NOS",2,45,"NOS",0,{"$f":"IF(LEN(E63)>0,A63&IF(C63>2,\"-1\",\"\"),\"\")","v":"GS-P-09.036"},7,0.2,null,null,{"$f":"IF(LEN(J63)>0,A63&\"-2\",\"\")","v":""},{"$nulls":4},{"$f":"IF(LEN(O63)>0,A63&\"-3\",\"\")","v":""},{"$nulls":4},{"$f":"IF(LEN(T63)>0,A63&\"-4\",\"\")","v":""},null,null,"IPC",0,null,4,0.25,{"$f":"C63","v":2},"3-15",{"$nulls":5},"dRN",0,1,{"$nulls":3},1,1,0,0,0,{"$nulls":3},0,"0898","0758","09.036","2 NTC | 2 C+","0826",{"$nulls":3},1,{"$nulls":15},1]
["GS-P-09.037","35S",2,45,"35S",0,{"$f":"IF(LEN(E64)>0,A64&IF(C64>2,\"-1\",\"\"),\"\")","v":"GS-P-09.037"},7,0.2,null,null,{"$f":"IF(LEN(J64)>0,A64&\"-2\",\"\")","v":""},{"$nulls":4},{"$f":"IF(LEN(O64)>0,A64&\"-3\",\"\")","v":""},{"$nulls":4},{"$f":"IF(LEN(T64)>0,A64&\"-4\",\"\")","v":""},null,null,"IPC",0,null,4,0.25,{"$f":"C64","v":2},"3-15",{"$nulls":5},"dRN",0,1,{"$nulls":3},1,1,0,0,0,{"$nulls":3},0,"0899","0901","09.037","2 NTC | 2 C+","0826",{"$nulls":3},1,{"$nulls":15},1]
["GS-P-09.038","event MON89034",2,45,"MON89034",0,{"$f":"IF(LEN(E65)>0,A65&IF(C65>2,\"-1\",\"\"),\"\")","v":"GS-P-09.038"},6,0.2,null,null,{"$f":"IF(LEN(J65)>0,A65&\"-2\",\"\")","v":""},{"$nulls":4},{"$f":"IF(LEN(O65)>0,A65&\"-3\",\"\")","v":""},{"$nulls":4},{"$f":"IF(LEN(T65)>0,A65&\"-4\",\"\")","v":""},null,null,"IPC",0,null,4,0.33,{"$f":"C65","v":2},"3-15",{"$nulls":5},"dRN",0,1,{"$nulls":3},0,0,0,0,5,{"$nulls":3},3,"0971","0972","09.038","2 NTC | 2 C+","0826",{"$nulls":3},1,{"$nulls":15},2]
["GS-P-09.039","bar-gene",2,45,"bar",0,{"$f":"IF(LEN(E66)>0,A66&IF(C66>2,\"-1\",\"\"),\"\")","v":"GS-P-09.039"},6,0.2,null,null,{"$f":"IF(LEN(J66)>0,A66&\"-2\",\"\")","v":""},{"$nulls":4},{"$f":"IF(LEN(O66)>0,A66&\"-3\",\"\")","v":""},{"$nulls":4},{"$f":"IF(LEN(T66)>0,A66&\"-4\",\"\")","v":""},null,null,"IPC",0,null,3,0.33,{"$f":"C66","v":2},"3-15",{"$nulls":5},"dRN",0,1,{"$nulls":3},0,0,0,0,0,{"$nulls":3},0,"1010","1012","09.039","2 NTC | 2 C+","0826",{"$nulls":3},1,{"$nulls":15},2]
["GS-P-09.040","event MON88017",2,45,"MON88017",0,{"$f":"IF(LEN(E67)>0,A67&IF(C67>2,\"-1\",\"\"),\"\")","v":"GS-P-09.040"},6,0.2,null,null,{"$f":"IF(LEN(J67)>0,A67&\"-2\",\"\")","v":""},{"$nulls":4},{"$f":"IF(LEN(O67)>0,A67&\"-3\",\"\")","v":""},{"$nulls":4},{"$f":"IF(LEN(T67)>0,A67&\"-4\",\"\")","v":""},null,null,"IPC",0,null,4,0.33,{"$f":"C67","v":2},"3-15",{"$nulls":5},"dRN",0,1,{"$nulls":3},0,0,0,0,0,{"$nulls":3},0,"1011","1013","09.040","2 NTC | 2 C+","0826",{"$nulls":3},1,{"$nulls":15},2]
["GS-P-09.041","event 3272",2,45,3272,0,{"$f":"IF(LEN(E68)>0,A68&IF(C68>2,\"-1\",\"\"),\"\")","v":"GS-P-09.041"},6,0.2,null,0,{"$f":"IF(LEN(J68)>0,A68&\"-2\",\"\")","v":""},0,0,null,0,{"$f":"IF(LEN(O68)>0,A68&\"-3\",\"\")","v":""},0,0,null,0,{"$f":"IF(LEN(T68)>0,A68&\"-4\",\"\")","v":""},0,0,"IPC",0,null,4,0.33,{"$f":"C68","v":2},"3-15",{"$nulls":5},"dRN",0,1,0,0,0,0,0,0,0,0,0,0,0,0,"1023","1025","09.041","2 NTC | 2 C+","0826",{"$nulls":3},1,{"$nulls":15},2]
["GS-P-09.043","eventH7-1",2,45,"eventH7-1",0,{"$f":"IF(LEN(E69)>0,A69&IF(C69>2,\"-1\",\"\"),\"\")","v":"GS-P-09.043"},6,0.2,null,0,{"$f":"IF(LEN(J69)>0,A69&\"-2\",\"\")","v":""},0,0,null,0,{"$f":"IF(LEN(O69)>0,A69&\"-3\",\"\")","v":""},0,0,null,0,{"$f":"IF(LEN(T69)>0,A69&\"-4\",\"\")","v":""},0,0,"IPC",0,null,4,0.33,{"$f":"C69","v":2},"3-15",{"$nulls":5},"dRN",0,1,0,0,0,0,0,0,0,0,0,0,0,0,"1071","1069","09.043","2 NTC | 2 C+","0826",{"$nulls":3},1,{"$nulls":15},2]
["GS-P-09.044","event305423",2,45,305423,0,{"$f":"IF(LEN(E70)>0,A70&IF(C70>2,\"-1\",\"\"),\"\")","v":"GS-P-09.044"},6,0.2,null,0,{"$f":"IF(LEN(J70)>0,A70&\"-2\",\"\")","v":""},0,0,null,0,{"$f":"IF(LEN(O70)>0,A70&\"-3\",\"\")","v":""},0,0,null,0,{"$f":"IF(LEN(T70)>0,A70&\"-4\",\"\")","v":""},0,0,"IPC",0,null,4,0.33,{"$f":"C70","v":2},"3-15",{"$nulls":5},"dRN",0,1,0,0,0,0,0,0,0,0,0,0,0,0,"1084","1086","09.044","2 NTC | 2 C+","0826",{"$nulls":3},1,{"$nulls":15},2]
["GS-P-09.045","nos/DHFR1-T/G",2,45,"nos/DHFR1",0,{"$f":"IF(LEN(E71)>0,A71&IF(C71>2,\"-1\",\"\"),\"\")","v":"GS-P-09.045"},6,0.2,null,0,{"$f":"IF(LEN(J71)>0,A71&\"-2\",\"\")","v":""},0,0,null,0,{"$f":"IF(LEN(O71)>0,A71&\"-3\",\"\")","v":""},0,0,null,0,{"$f":"IF(LEN(T71)>0,A71&\"-4\",\"\")","v":""},0,0,"IPC",0,null,4,0.33,{"$f":"C71","v":2},"3-15",{"$nulls":5},"dRN",0,1,0,0,0,0,0,0,0,0,0,0,0,0,"1063","1041","09.045","2 NTC | 2 C+","0826",{"$nulls":3},1,{"$nulls":15},2]
["GS-P-09.046","Tobacco NIR2",2,45,"NIR2",0,{"$f":"IF(LEN(E72)>0,A72&IF(C72>2,\"-1\",\"\"),\"\")","v":"GS-P-09.046"},7,0.2,null,0,{"$f":"IF(LEN(J72)>0,A72&\"-2\",\"\")","v":""},0,0,null,0,{"$f":"IF(LEN(O72)>0,A72&\"-3\",\"\")","v":""},0,0,null,0,{"$f":"IF(LEN(T72)>0,A72&\"-4\",\"\")","v":""},0,0,"IPC",0,null,4,0.33,{"$f":"C72","v":2},"3-15",{"$nulls":5},"dRN",0,1,0,0,0,0,0,0,0,0,0,0,0,0,"1091","1093","09.046","2 NTC | 2 C+","0826",{"$nulls":3},1,{"$nulls":15},2]
["GS-P-09.047","Cotton SAH7",2,45,"SAH7",0,{"$f":"IF(LEN(E73)>0,A73&IF(C73>2,\"-1\",\"\"),\"\")","v":"GS-P-09.047"},7,0.2,null,0,{"$f":"IF(LEN(J73)>0,A73&\"-2\",\"\")","v":""},0,0,null,0,{"$f":"IF(LEN(O73)>0,A73&\"-3\",\"\")","v":""},0,0,null,0,{"$f":"IF(LEN(T73)>0,A73&\"-4\",\"\")","v":""},0,0,"IPC",0,null,4,0.33,{"$f":"C73","v":2},"3-15",{"$f":"hintergrundfarbe(AF73)","v":{"$error":"#NAME?"}},{"$f":"hintergrundfarbe(AG73)","v":{"$error":"#NAME?"}},{"$f":"hintergrundfarbe(AH73)","v":{"$error":"#NAME?"}},{"$f":"hintergrundfarbe(AI73)","v":{"$error":"#NAME?"}},{"$f":"hintergrundfarbe(AJ73)","v":{"$error":"#NAME?"}},"dRN",0,1,0,0,0,0,0,0,0,3,0,0,0,3,"1925","1926","09.047","2 NTC | 2 C+","0826",{"$nulls":3},1,false,{"$nulls":3},false,{"$nulls":3},false,{"$nulls":3},true,null,null,2]
["GS-P-09.048","event T45",2,45,"event T45",0,{"$f":"IF(LEN(E74)>0,A74&IF(C74>2,\"-1\",\"\"),\"\")","v":"GS-P-09.048"},7,0.15,null,0,{"$f":"IF(LEN(J74)>0,A74&\"-2\",\"\")","v":""},0,0,null,0,{"$f":"IF(LEN(O74)>0,A74&\"-3\",\"\")","v":""},0,0,null,0,{"$f":"IF(LEN(T74)>0,A74&\"-4\",\"\")","v":""},0,0,"IPC",0,null,3,0.33,{"$f":"C74","v":2},"3-15",{"$nulls":5},"dRN",0,1,0,0,0,0,0,0,0,0,0,0,0,0,"1131","1133","09.048","2 NTC | 2 C+","0826",{"$nulls":3},1,{"$nulls":15},2]
["GS-P-09.050","35S/NOS",3,45,"35S",0,{"$f":"IF(LEN(E75)>0,A75&IF(C75>2,\"-1\",\"\"),\"\")","v":"GS-P-09.050-1"},7,0.2,"NOS",0,{"$f":"IF(LEN(J75)>0,A75&\"-2\",\"\")","v":"GS-P-09.050-2"},7,0.2,null,0,{"$f":"IF(LEN(O75)>0,A75&\"-3\",\"\")","v":""},0,0,null,0,{"$f":"IF(LEN(T75)>0,A75&\"-4\",\"\")","v":""},0,0,"IPC",0,null,4,0.33,{"$f":"C75","v":3},"3-15",{"$nulls":5},"dRN",-2,1,1,0,0,1,1,0,0,10,10,0,0,2,"1121","1122","09.050","4 NTC | 4 C+","0826",{"$nulls":3},1,{"$nulls":15},1]
["GS-P-09.052","vip3Aa gene",2,45,"vip3Aa",0,{"$f":"IF(LEN(E76)>0,A76&IF(C76>2,\"-1\",\"\"),\"\")","v":"GS-P-09.052"},7,0.2,null,0,{"$f":"IF(LEN(J76)>0,A76&\"-2\",\"\")","v":""},0,0,null,0,{"$f":"IF(LEN(O76)>0,A76&\"-3\",\"\")","v":""},0,0,null,0,{"$f":"IF(LEN(T76)>0,A76&\"-4\",\"\")","v":""},0,0,"IPC",0,null,5,0.33,{"$f":"C76","v":2},"3-15",{"$nulls":5},"dRN",0,1,0,0,0,0,0,0,0,0,0,0,0,0,"1157","1158","09.052","2 NTC | 2 C+","0826",{"$nulls":3},1,{"$nulls":15},2]
["GS-P-09.053","eventDP098140-6",2,45,"DP098140-6",0,{"$f":"IF(LEN(E77)>0,A77&IF(C77>2,\"-1\",\"\"),\"\")","v":"GS-P-09.053"},6,0.2,null,0,{"$f":"IF(LEN(J77)>0,A77&\"-2\",\"\")","v":""},0,0,null,0,{"$f":"IF(LEN(O77)>0,A77&\"-3\",\"\")","v":""},0,0,null,0,{"$f":"IF(LEN(T77)>0,A77&\"-4\",\"\")","v":""},0,0,"IPC",0,null,4,0.33,{"$f":"C77","v":2},"3-15",{"$nulls":5},"dRN",0,1,0,0,0,0,0,0,0,0,0,0,0,0,"1161","1163","09.053","2 NTC | 2 C+","0826",{"$nulls":3},1,{"$nulls":15},2]
["GS-P-09.055","event KMD1",2,45,"KMD1",0,{"$f":"IF(LEN(E78)>0,A78&IF(C78>2,\"-1\",\"\"),\"\")","v":"GS-P-09.055"},6,0.2,null,0,{"$f":"IF(LEN(J78)>0,A78&\"-2\",\"\")","v":""},0,0,null,0,{"$f":"IF(LEN(O78)>0,A78&\"-3\",\"\")","v":""},0,0,null,0,{"$f":"IF(LEN(T78)>0,A78&\"-4\",\"\")","v":""},0,0,"IPC",0,null,3,0.33,{"$f":"C78","v":2},"3-15",{"$nulls":5},"dRN",0,1,0,0,0,0,0,0,0,0,0,0,0,0,"1352","1354","09.055","2 NTC | 2 C+","0826",{"$nulls":3},1,{"$nulls":15},2]
["GS-P-09.061","35S/NOS/FMV",4,45,"35S",0,{"$f":"IF(LEN(E79)>0,A79&IF(C79>2,\"-1\",\"\"),\"\")","v":"GS-P-09.061-1"},8,0.2,"NOS",0,{"$f":"IF(LEN(J79)>0,A79&\"-2\",\"\")","v":"GS-P-09.061-2"},8,0.2,"FMV",0,{"$f":"IF(LEN(O79)>0,A79&\"-3\",\"\")","v":"GS-P-09.061-3"},9,0.2,null,0,{"$f":"IF(LEN(T79)>0,A79&\"-4\",\"\")","v":""},0,0,"IPC",0,null,3,0.33,{"$f":"C79","v":4},"3-15",{"$nulls":5},"dR",4,1,1,1,0,1,1,0,0,10,10,10,0,2,"1221","1223","09.061","4 NTC | 4 C+","0892",{"$nulls":3},1,{"$nulls":15},1]
["GS-P-09.063","CV127-HT-G/G",2,45,"CV127",0,{"$f":"IF(LEN(E80)>0,A80&IF(C80>2,\"-1\",\"\"),\"\")","v":"GS-P-09.063"},8,0.2,null,0,{"$f":"IF(LEN(J80)>0,A80&\"-2\",\"\")","v":""},0,0,null,0,{"$f":"IF(LEN(O80)>0,A80&\"-3\",\"\")","v":""},0,0,null,0,{"$f":"IF(LEN(T80)>0,A80&\"-4\",\"\")","v":""},0,0,"IPC",0,null,3,0.33,{"$f":"C80","v":2},"3-15",{"$nulls":5},"dRN",0,1,0,0,0,0,0,0,0,0,0,0,0,0,"1216","1219","09.063","2 NTC | 2 C+","0826",{"$nulls":3},1,{"$nulls":15},2]
["GS-P-09.064","35SCornIdent",5,45,"TC1507",0,{"$f":"IF(LEN(E81)>0,A81&IF(C81>2,\"-1\",\"\"),\"\")","v":"GS-P-09.064-1"},7,0.2,"T25",0,{"$f":"IF(LEN(J81)>0,A81&\"-2\",\"\")","v":"GS-P-09.064-2"},7,0.15,"MON810",0,{"$f":"IF(LEN(O81)>0,A81&\"-3\",\"\")","v":"GS-P-09.064-3"},7,0.2,"HCX RW",0,{"$f":"IF(LEN(T81)>0,A81&\"-4\",\"\")","v":"GS-P-09.064-4"},7,0.1,"IPC",0,null,4,0.33,{"$f":"C81","v":5},"3-15",{"$nulls":5},"dR",-4,1,1,1,1,0,0,0,0,0,0,0,0,0,"1542","1543","09.064","2 NTC | 2 C+","0892",{"$nulls":3},1,{"$nulls":15},2]
["GS-P-09.068","Event T25",2,45,"T25",0,{"$f":"IF(LEN(E82)>0,A82&IF(C82>2,\"-1\",\"\"),\"\")","v":"GS-P-09.068"},6,0.2,null,0,{"$f":"IF(LEN(J82)>0,A82&\"-2\",\"\")","v":""},0,0,null,0,{"$f":"IF(LEN(O82)>0,A82&\"-3\",\"\")","v":""},0,0,null,0,{"$f":"IF(LEN(T82)>0,A82&\"-4\",\"\")","v":""},0,0,"IPC",0,null,4,0.25,{"$f":"C82","v":2},"3-15",37,-4142,-4142,-4142,38,"dRN",0,1,0,0,0,0,0,0,0,0,0,0,0,0,"1247","1248","09.068","2 NTC | 2 C+",{"$nulls":4},1,false,{"$nulls":3},false,{"$nulls":3},false,{"$nulls":3},false,{"$nulls":3},false,false,false,false]
["GS-P-09.076 V02","NOS/nptII/PVGT/PAT V02",5,45,"NOS",0,{"$f":"IF(LEN(E83)>0,A83&IF(C83>2,\"-1\",\"\"),\"\")","v":"GS-P-09.076 V02-1"},7,0.2,"nptII",0,{"$f":"IF(LEN(J83)>0,A83&\"-2\",\"\")","v":"GS-P-09.076 V02-2"},8,0.2,"PVGT",0,{"$f":"IF(LEN(O83)>0,A83&\"-3\",\"\")","v":"GS-P-09.076 V02-3"},7,0.2,"pat(syn)",0,{"$f":"IF(LEN(T83)>0,A83&\"-4\",\"\")","v":"GS-P-09.076 V02-4"},7,0.2,"IPC",0,null,3,0.33,{"$f":"C83","v":5},"3-15",37,35,15,40,38,"dR",-8,1,1,1,1,1,1,0,0,0,0,0,0,0,"2614","1487","09.076 V02","4 NTC | 4 C+","2602",{"$nulls":3},1,false,{"$nulls":3},false,{"$nulls":3},false,{"$nulls":3},false,{"$nulls":3},false,false,false,false]
["GS-P-09.083","bar/pat",3,45,"bar",0,{"$f":"IF(LEN(E84)>0,A84&IF(C84>2,\"-1\",\"\"),\"\")","v":"GS-P-09.083-1"},6,0.2,"pat",0,{"$f":"IF(LEN(J84)>0,A84&\"-2\",\"\")","v":"GS-P-09.083-2"},7,0.15,null,0,{"$f":"IF(LEN(O84)>0,A84&\"-3\",\"\")","v":""},0,0,null,0,{"$f":"IF(LEN(T84)>0,A84&\"-4\",\"\")","v":""},0,0,"IPC",0,null,3,0.33,{"$f":"C84","v":3},"3-15",{"$nulls":5},"dRN",0,1,1,0,0,1,1,0,0,0,0,0,0,3,"1572","1573","09.083","4 NTC | 4 C+","0826",{"$nulls":3},1,{"$nulls":15},1]
["GS-P-09.085","Soybean lectin 1",2,45,"Lec",0,{"$f":"IF(LEN(E85)>0,A85&IF(C85>2,\"-1\",\"\"),\"\")","v":"GS-P-09.085"},8,0.2,null,0,{"$f":"IF(LEN(J85)>0,A85&\"-2\",\"\")","v":""},0,0,null,0,{"$f":"IF(LEN(O85)>0,A85&\"-3\",\"\")","v":""},0,0,null,0,{"$f":"IF(LEN(T85)>0,A85&\"-4\",\"\")","v":""},0,0,"IPC",0,null,3,0.33,{"$f":"C85","v":2},"3-15",{"$nulls":5},"dRN",0,1,0,0,0,0,0,0,0,0,0,0,0,0,"1610","0901","09.085","2 NTC | 2 C+",{"$nulls":4},1,{"$nulls":15},2]
["GS-P-09.088","pmi/nos-G/T Event GA21",3,45,"pmi/nos",0,{"$f":"IF(LEN(E86)>0,A86&IF(C86>2,\"-1\",\"\"),\"\")","v":"GS-P-09.088-1"},6,0.2,"GA21",0,{"$f":"IF(LEN(J86)>0,A86&\"-2\",\"\")","v":"GS-P-09.088-2"},7,0.2,null,0,{"$f":"IF(LEN(O86)>0,A86&\"-3\",\"\")","v":""},0,0,null,0,{"$f":"IF(LEN(T86)>0,A86&\"-4\",\"\")","v":""},0,0,"IPC",0,null,3,0.33,{"$f":"C86","v":3},"3-15",{"$nulls":5},"dRN",-10,1,1,0,0,1,1,0,0,0,0,0,0,0,"1756","1757","09.088","4 NTC | 4 C+","0826",{"$nulls":3},1,false,{"$nulls":3},false,{"$nulls":3},false,{"$nulls":3},true,null,null,1]
["GS-P-09.091","Event MON87460",2,45,"MON87460",0,{"$f":"IF(LEN(E87)>0,A87&IF(C87>2,\"-1\",\"\"),\"\")","v":"GS-P-09.091"},5,0.2,null,0,{"$f":"IF(LEN(J87)>0,A87&\"-2\",\"\")","v":""},0,0,null,0,{"$f":"IF(LEN(O87)>0,A87&\"-3\",\"\")","v":""},0,0,null,0,{"$f":"IF(LEN(T87)>0,A87&\"-4\",\"\")","v":""},0,0,"IPC",0,null,4,0.33,{"$f":"C87","v":2},"3-15",{"$nulls":5},"dRN",0,1,0,0,0,0,0,0,0,0,0,0,0,0,"1825","1827","09.091","2 NTC | 2 C+","0826",{"$nulls":3},1,{"$nulls":15},2]
["GS-P-09.092","SAMS(als) - eCV127",3,45,"SAMS(als)",0,{"$f":"IF(LEN(E88)>0,A88&IF(C88>2,\"-1\",\"\"),\"\")","v":"GS-P-09.092-1"},5,0.2,"CV127",0,{"$f":"IF(LEN(J88)>0,A88&\"-2\",\"\")","v":"GS-P-09.092-2"},5,0.2,null,0,{"$f":"IF(LEN(O88)>0,A88&\"-3\",\"\")","v":""},0,0,null,0,{"$f":"IF(LEN(T88)>0,A88&\"-4\",\"\")","v":""},0,0,"IPC",0,null,3,0.7,{"$f":"C88","v":3},"3-15",{"$nulls":5},"dRN",-11,1,1,0,0,1,1,0,0,8,8,0,0,3,"1876","1877","09.092","4 NTC | 4 C+","0826",{"$nulls":3},1,false,{"$nulls":3},false,{"$nulls":3},false,{"$nulls":3},true,null,null,1]
["GS-P-09.095","ubi/gat-P/G",2,45,"ubi/gat",0,{"$f":"IF(LEN(E89)>0,A89&IF(C89>2,\"-1\",\"\"),\"\")","v":"GS-P-09.095"},5,0.2,null,0,{"$f":"IF(LEN(J89)>0,A89&\"-2\",\"\")","v":""},0,0,null,0,{"$f":"IF(LEN(O89)>0,A89&\"-3\",\"\")","v":""},0,0,null,0,{"$f":"IF(LEN(T89)>0,A89&\"-4\",\"\")","v":""},0,0,"IPC",0,null,3,0.33,{"$f":"C89","v":2},"3-15",{"$nulls":5},"dRN",0,1,0,0,0,0,0,0,0,0,0,0,0,0,"1859","1860","09.095","2 NTC | 2 C+","0826",{"$nulls":3},1,false,{"$nulls":3},false,{"$nulls":3},false,{"$nulls":3},true,null,null,2]
["GS-P-09.099","Rice SPS",2,45,"Rice",0,{"$f":"IF(LEN(E90)>0,A90&IF(C90>2,\"-1\",\"\"),\"\")","v":"GS-P-09.099"},6,0.2,null,0,{"$f":"IF(LEN(J90)>0,A90&\"-2\",\"\")","v":""},0,0,null,0,{"$f":"IF(LEN(O90)>0,A90&\"-3\",\"\")","v":""},0,0,null,0,{"$f":"IF(LEN(T90)>0,A90&\"-4\",\"\")","v":""},0,0,"IPC",0,null,4,0.33,{"$f":"C90","v":2},"3-15",{"$f":"hintergrundfarbe(AF90)","v":{"$error":"#NAME?"}},{"$f":"hintergrundfarbe(AG90)","v":{"$error":"#NAME?"}},{"$f":"hintergrundfarbe(AH90)","v":{"$error":"#NAME?"}},{"$f":"hintergrundfarbe(AI90)","v":{"$error":"#NAME?"}},{"$f":"hintergrundfarbe(AJ90)","v":{"$error":"#NAME?"}},"dRN",0,1,0,0,0,0,0,0,0,3,0,0,0,3,"1964","1354","09.099","2 NTC | 2 C+","0826",{"$nulls":3},1,false,{"$nulls":3},false,{"$nulls":3},false,{"$nulls":3},false,{"$nulls":3},false,false,false,false]
["GS-P-09.102","FMV",2,45,"FMV",0,{"$f":"IF(LEN(E91)>0,A91&IF(C91>2,\"-1\",\"\"),\"\")","v":"GS-P-09.102"},6,0.2,null,0,{"$f":"IF(LEN(J91)>0,A91&\"-2\",\"\")","v":""},0,0,null,0,{"$f":"IF(LEN(O91)>0,A91&\"-3\",\"\")","v":""},0,0,null,0,{"$f":"IF(LEN(T91)>0,A91&\"-4\",\"\")","v":""},0,0,"IPC",0,null,3,0.33,{"$f":"C91","v":2},"3-15",37,-4142,-4142,-4142,38,"dRN",0,1,0,0,0,0,0,0,0,0,0,0,0,3,"2607","2608","09.102","2 NTC | 2 C+","2602",{"$nulls":3},1,false,{"$nulls":3},false,{"$nulls":3},false,{"$nulls":3},false,{"$nulls":3},false,false,false,false]
["GS-P-09.103","Plant actin",2,45,"actin",0,{"$f":"IF(LEN(E92)>0,A92&IF(C92>2,\"-1\",\"\"),\"\")","v":"GS-P-09.103"},6,0.2,null,0,{"$f":"IF(LEN(J92)>0,A92&\"-2\",\"\")","v":""},0,0,null,0,{"$f":"IF(LEN(O92)>0,A92&\"-3\",\"\")","v":""},0,0,null,0,{"$f":"IF(LEN(T92)>0,A92&\"-4\",\"\")","v":""},0,0,"IPC",0,null,4,0.33,{"$f":"C92","v":2},"3-15",{"$f":"hintergrundfarbe(AF92)","v":{"$error":"#NAME?"}},{"$f":"hintergrundfarbe(AG92)","v":{"$error":"#NAME?"}},{"$f":"hintergrundfarbe(AH92)","v":{"$error":"#NAME?"}},{"$f":"hintergrundfarbe(AI92)","v":{"$error":"#NAME?"}},{"$f":"hintergrundfarbe(AJ92)","v":{"$error":"#NAME?"}},"dRN",0,1,0,0,0,0,0,0,0,0,0,0,0,3,"1938","1939","09.103","2 NTC | 2 C+","0826",{"$nulls":3},1,false,{"$nulls":3},false,{"$nulls":3},false,{"$nulls":3},false,{"$nulls":3},false,false,false,false]
["GS-P-09.106","CaMV 35S-Terminator",2,45,"t35S",0,{"$f":"IF(LEN(E93)>0,A93&IF(C93>2,\"-1\",\"\"),\"\")","v":"GS-P-09.106"},6,0.2,null,0,{"$f":"IF(LEN(J93)>0,A93&\"-2\",\"\")","v":""},0,0,null,0,{"$f":"IF(LEN(O93)>0,A93&\"-3\",\"\")","v":""},0,0,null,0,{"$f":"IF(LEN(T93)>0,A93&\"-4\",\"\")","v":""},0,0,"IPC",0,null,4,0.33,{"$f":"C93","v":2},"3-15",{"$f":"hintergrundfarbe(AF93)","v":{"$error":"#NAME?"}},{"$f":"hintergrundfarbe(AG93)","v":{"$error":"#NAME?"}},{"$f":"hintergrundfarbe(AH93)","v":{"$error":"#NAME?"}},{"$f":"hintergrundfarbe(AI93)","v":{"$error":"#NAME?"}},{"$f":"hintergrundfarbe(AJ93)","v":{"$error":"#NAME?"}},"dRN",0,1,0,0,0,0,0,0,0,0,0,0,0,3,"2019","2020","09.106","2 NTC | 2 C+","0826",{"$nulls":3},1,false,{"$nulls":3},false,{"$nulls":3},false,{"$nulls":3},false,{"$nulls":3},false,false,false,false]
["GS-P-09.107","Event DAS-40278-9",2,45,"DAS-40278-9",0,{"$f":"IF(LEN(E94)>0,A94&IF(C94>2,\"-1\",\"\"),\"\")","v":"GS-P-09.107"},6,0.2,null,0,{"$f":"IF(LEN(J94)>0,A94&\"-2\",\"\")","v":""},0,0,null,0,{"$f":"IF(LEN(O94)>0,A94&\"-3\",\"\")","v":""},0,0,null,0,{"$f":"IF(LEN(T94)>0,A94&\"-4\",\"\")","v":""},0,0,"IPC",0,null,4,0.33,{"$f":"C94","v":2},"3-15",{"$f":"hintergrundfarbe(AF94)","v":{"$error":"#NAME?"}},{"$f":"hintergrundfarbe(AG94)","v":{"$error":"#NAME?"}},{"$f":"hintergrundfarbe(AH94)","v":{"$error":"#NAME?"}},{"$f":"hintergrundfarbe(AI94)","v":{"$error":"#NAME?"}},{"$f":"hintergrundfarbe(AJ94)","v":{"$error":"#NAME?"}},"dRN",0,1,0,0,0,0,0,0,0,0,0,0,0,3,"1994","1995","09.107","2 NTC | 2 C+","0826",{"$nulls":3},1,false,{"$nulls":3},false,{"$nulls":3},false,{"$nulls":3},false,{"$nulls":3},false,false,false,false]
["GS-P-09.110","Agrobacterium",2,45,"Agrobacterium",0,{"$f":"IF(LEN(E95)>0,A95&IF(C95>2,\"-1\",\"\"),\"\")","v":"GS-P-09.110"},8,0.2,null,0,{"$f":"IF(LEN(J95)>0,A95&\"-2\",\"\")","v":""},0,0,null,0,{"$f":"IF(LEN(O95)>0,A95&\"-3\",\"\")","v":""},0,0,null,0,{"$f":"IF(LEN(T95)>0,A95&\"-4\",\"\")","v":""},0,0,"IPC",0,null,3,0.33,{"$f":"C95","v":2},"3-15",{"$f":"hintergrundfarbe(AF95)","v":{"$error":"#NAME?"}},{"$f":"hintergrundfarbe(AG95)","v":{"$error":"#NAME?"}},{"$f":"hintergrundfarbe(AH95)","v":{"$error":"#NAME?"}},{"$f":"hintergrundfarbe(AI95)","v":{"$error":"#NAME?"}},{"$f":"hintergrundfarbe(AJ95)","v":{"$error":"#NAME?"}},"dRN",0,1,0,0,0,0,0,0,0,5,0,0,0,3,"2032","2033","09.110","2 NTC | 2 C+","0826",{"$nulls":3},1,false,{"$nulls":3},false,{"$nulls":3},false,{"$nulls":3},false,{"$nulls":3},false,false,false,false]
["GS-P-09.111","CaMV ORF V",2,45,"CaMV",0,{"$f":"IF(LEN(E96)>0,A96&IF(C96>2,\"-1\",\"\"),\"\")","v":"GS-P-09.111"},6,0.15,null,0,{"$f":"IF(LEN(J96)>0,A96&\"-2\",\"\")","v":""},0,0,null,0,{"$f":"IF(LEN(O96)>0,A96&\"-3\",\"\")","v":""},0,0,null,0,{"$f":"IF(LEN(T96)>0,A96&\"-4\",\"\")","v":""},0,0,"IPC",0,null,4,0.33,{"$f":"C96","v":2},"3-15",{"$f":"hintergrundfarbe(AF96)","v":{"$error":"#NAME?"}},{"$f":"hintergrundfarbe(AG96)","v":{"$error":"#NAME?"}},{"$f":"hintergrundfarbe(AH96)","v":{"$error":"#NAME?"}},{"$f":"hintergrundfarbe(AI96)","v":{"$error":"#NAME?"}},{"$f":"hintergrundfarbe(AJ96)","v":{"$error":"#NAME?"}},"dRN",0,1,0,0,0,0,0,0,0,0,0,0,0,3,"1998","2000","09.111","2 NTC | 2 C+","0826",{"$nulls":3},1,false,{"$nulls":3},false,{"$nulls":3},false,{"$nulls":3},false,{"$nulls":3},false,false,false,false]
["GS-P-09.115","Event A2704-12",2,45,"eA2704",0,{"$f":"IF(LEN(E97)>0,A97&IF(C97>2,\"-1\",\"\"),\"\")","v":"GS-P-09.115"},6,0.2,null,0,{"$f":"IF(LEN(J97)>0,A97&\"-2\",\"\")","v":""},0,0,null,0,{"$f":"IF(LEN(O97)>0,A97&\"-3\",\"\")","v":""},0,0,null,0,{"$f":"IF(LEN(T97)>0,A97&\"-4\",\"\")","v":""},0,0,"IPC",0,null,4,0.33,{"$f":"C97","v":2},"3-15",{"$f":"hintergrundfarbe(AF97)","v":{"$error":"#NAME?"}},{"$f":"hintergrundfarbe(AG97)","v":{"$error":"#NAME?"}},{"$f":"hintergrundfarbe(AH97)","v":{"$error":"#NAME?"}},{"$f":"hintergrundfarbe(AI97)","v":{"$error":"#NAME?"}},{"$f":"hintergrundfarbe(AJ97)","v":{"$error":"#NAME?"}},"dRN",0,1,0,0,0,0,0,0,0,0,0,0,0,3,"2035","2007","09.115","2 NTC | 2 C+","0658",{"$nulls":3},1,false,{"$nulls":3},false,{"$nulls":3},false,{"$nulls":3},false,{"$nulls":3},false,false,false,false]
["GS-P-09.116","nos/nptII",2,45,"nos/nptII",0,{"$f":"IF(LEN(E98)>0,A98&IF(C98>2,\"-1\",\"\"),\"\")","v":"GS-P-09.116"},9,0.15,null,0,{"$f":"IF(LEN(J98)>0,A98&\"-2\",\"\")","v":""},0,0,null,0,{"$f":"IF(LEN(O98)>0,A98&\"-3\",\"\")","v":""},0,0,null,0,{"$f":"IF(LEN(T98)>0,A98&\"-4\",\"\")","v":""},0,0,"IPC",0,null,3,0.33,{"$f":"C98","v":2},"3-15",37,-4142,-4142,-4142,38,"dRN",0,1,0,0,0,0,0,0,0,0,0,0,0,3,"2532","2533","09.116","2 NTC | 2 C+","2007",{"$nulls":3},1,false,{"$nulls":3},false,{"$nulls":3},false,{"$nulls":3},false,{"$nulls":3},false,false,false,false]
["GS-P-09.117","35S/nptII",2,45,"35S/nptII",0,{"$f":"IF(LEN(E99)>0,A99&IF(C99>2,\"-1\",\"\"),\"\")","v":"GS-P-09.117"},9,0.15,null,0,{"$f":"IF(LEN(J99)>0,A99&\"-2\",\"\")","v":""},0,0,null,0,{"$f":"IF(LEN(O99)>0,A99&\"-3\",\"\")","v":""},0,0,null,0,{"$f":"IF(LEN(T99)>0,A99&\"-4\",\"\")","v":""},0,0,"IPC",0,null,3,0.33,{"$f":"C99","v":2},"3-15",37,-4142,-4142,-4142,38,"dRN",0,1,0,0,0,0,0,0,0,0,0,0,0,3,"2531","0654","09.117","2 NTC | 2 C+","2007",{"$nulls":3},1,false,{"$nulls":3},false,{"$nulls":3},false,{"$nulls":3},false,{"$nulls":3},false,false,false,false]
["GS-P-09.118","AgroBorder Duplex",3,45,"AB I",0,{"$f":"IF(LEN(E100)>0,A100&IF(C100>2,\"-1\",\"\"),\"\")","v":"GS-P-09.118-1"},5,0.2,"AB II",0,{"$f":"IF(LEN(J100)>0,A100&\"-2\",\"\")","v":"GS-P-09.118-2"},5,0.2,null,0,{"$f":"IF(LEN(O100)>0,A100&\"-3\",\"\")","v":""},0,0,null,0,{"$f":"IF(LEN(T100)>0,A100&\"-4\",\"\")","v":""},0,0,"IPC",0,null,3,0.33,{"$f":"C100","v":3},"3-15",37,35,-4142,-4142,38,"dRN",11,1,1,0,0,1,1,0,0,11,11,0,0,3,"2075","2076","09.118","4 NTC | 4 C+","2007",{"$nulls":3},1,false,{"$nulls":3},false,{"$nulls":3},false,{"$nulls":3},false,{"$nulls":3},false,false,false,false]
["GS-P-09.119","CsVMV/pat(syn)-P/G",2,45,"CsVMV",0,{"$f":"IF(LEN(E101)>0,A101&IF(C101>2,\"-1\",\"\"),\"\")","v":"GS-P-09.119"},6,0.15,null,0,{"$f":"IF(LEN(J101)>0,A101&\"-2\",\"\")","v":""},0,0,null,0,{"$f":"IF(LEN(O101)>0,A101&\"-3\",\"\")","v":""},0,0,null,0,{"$f":"IF(LEN(T101)>0,A101&\"-4\",\"\")","v":""},0,0,"IPC",0,null,3,0.33,{"$f":"C101","v":2},"3-15",37,-4142,-4142,-4142,38,"dRN",0,1,0,0,0,0,0,0,0,0,0,0,0,3,"2484","2065","09.119","2 NTC | 2 C+","2007",{"$nulls":3},1,false,{"$nulls":3},false,{"$nulls":3},false,{"$nulls":3},false,{"$nulls":3},false,false,false,false]
["GS-P-09.120","Maize",2,45,"Maize",0,{"$f":"IF(LEN(E102)>0,A102&IF(C102>2,\"-1\",\"\"),\"\")","v":"GS-P-09.120"},6,0.2,null,0,{"$f":"IF(LEN(J102)>0,A102&\"-2\",\"\")","v":""},0,0,null,0,{"$f":"IF(LEN(O102)>0,A102&\"-3\",\"\")","v":""},0,0,null,0,{"$f":"IF(LEN(T102)>0,A102&\"-4\",\"\")","v":""},0,0,"IPC",0,null,3,0.33,{"$f":"C102","v":2},"3-15",37,-4142,-4142,-4142,38,"dRN",0,1,0,0,0,0,0,0,0,0,0,0,0,5,"2076","2077","09.120","2 NTC | 2 C+","2007",{"$nulls":3},1,false,{"$nulls":3},false,{"$nulls":3},false,{"$nulls":3},false,{"$nulls":3},false,false,false,false]
["GS-P-09.121","35S / NOS / ABII",4,45,"35S",0,{"$f":"IF(LEN(E103)>0,A103&IF(C103>2,\"-1\",\"\"),\"\")","v":"GS-P-09.121-1"},6,0.2,"NOS",0,{"$f":"IF(LEN(J103)>0,A103&\"-2\",\"\")","v":"GS-P-09.121-2"},6,0.2,"ABII",0,{"$f":"IF(LEN(O103)>0,A103&\"-3\",\"\")","v":"GS-P-09.121-3"},6,0.2,null,0,{"$f":"IF(LEN(T103)>0,A103&\"-4\",\"\")","v":""},0,0,"IPC",0,null,3,0.33,{"$f":"C103","v":4},"3-15",37,35,15,-4142,38,"dR",10,1,1,1,0,1,1,0,0,10,10,10,0,2,"2692","2694","09.121","2 NTC | 2 C+","2602",{"$nulls":3},1,false,{"$nulls":3},false,{"$nulls":3},false,{"$nulls":3},false,{"$nulls":3},false,false,false,false]
["GS-P-09.124","Rapeseed",2,45,"Rapeseed",0,{"$f":"IF(LEN(E104)>0,A104&IF(C104>2,\"-1\",\"\"),\"\")","v":"GS-P-09.124"},0,0,null,0,{"$f":"IF(LEN(J104)>0,A104&\"-2\",\"\")","v":""},0,0,null,0,{"$f":"IF(LEN(O104)>0,A104&\"-3\",\"\")","v":""},0,0,null,0,{"$f":"IF(LEN(T104)>0,A104&\"-4\",\"\")","v":""},0,0,"IPC",0,null,0,0,{"$f":"C104","v":2},"3-15",37,-4142,-4142,-4142,38,"dRN",null,1,0,0,0,0,0,0,0,0,0,0,0,0,"2718","2602","09.124","2 NTC | 2 C+","2602",{"$nulls":3},1,{"$nulls":16},0,0,0,0]
["GS-P-09.125","Event MON87427",2,45,"MON87427",0,{"$f":"IF(LEN(E105)>0,A105&IF(C105>2,\"-1\",\"\"),\"\")","v":"GS-P-09.125"},0,0,null,0,{"$f":"IF(LEN(J105)>0,A105&\"-2\",\"\")","v":""},0,0,null,0,{"$f":"IF(LEN(O105)>0,A105&\"-3\",\"\")","v":""},0,0,null,0,{"$f":"IF(LEN(T105)>0,A105&\"-4\",\"\")","v":""},0,0,"IPC",0,null,0,0,{"$f":"C105","v":2},"3-15",37,-4142,-4142,-4142,38,"dRN",null,1,0,0,0,0,0,0,0,0,0,0,0,0,"2746","2747","09.125","2 NTC | 2 C+","2602",{"$nulls":3},1,{"$nulls":16},0,0,0,0]
["GS-P-09.126","35S/NOS/FMV V03",4,45,"35S",0,{"$f":"IF(LEN(E106)>0,A106&IF(C106>2,\"-1\",\"\"),\"\")","v":"GS-P-09.126-1"},0,0,"NOS",0,{"$f":"IF(LEN(J106)>0,A106&\"-2\",\"\")","v":"GS-P-09.126-2"},0,0,"FMV",0,{"$f":"IF(LEN(O106)>0,A106&\"-3\",\"\")","v":"GS-P-09.126-3"},0,0,null,0,{"$f":"IF(LEN(T106)>0,A106&\"-4\",\"\")","v":""},0,0,"IPC",0,null,0,0,{"$f":"C106","v":4},"3-15",37,35,15,-4142,38,null,null,1,1,1,0,0,0,0,0,0,0,0,0,0,"2737","2742","09.126","2 NTC | 2 C+","2602",{"$nulls":3},1,{"$nulls":16},0,0,0,0]
["GS-P-09.127","Event VCO-01981",2,45,"VCO-01981",0,{"$f":"IF(LEN(E107)>0,A107&IF(C107>2,\"-1\",\"\"),\"\")","v":"GS-P-09.127"},0,0,null,0,{"$f":"IF(LEN(J107)>0,A107&\"-2\",\"\")","v":""},0,0,null,0,{"$f":"IF(LEN(O107)>0,A107&\"-3\",\"\")","v":""},0,0,null,0,{"$f":"IF(LEN(T107)>0,A107&\"-4\",\"\")","v":""},0,0,"IPC",0,null,0,0,{"$f":"C107","v":2},"3-15",37,-4142,-4142,-4142,38,"dRN",null,1,0,0,0,0,0,0,0,0,0,0,0,0,"2752","2753","09.127","2 NTC | 2 C+","2602",{"$nulls":3},1,{"$nulls":16},0,0,0,0]
["GS-P-09.131","pmi/nos Event GA21",3,45,"pmi/nos",0,{"$f":"IF(LEN(E108)>0,A108&IF(C108>2,\"-1\",\"\"),\"\")","v":"GS-P-09.131-1"},0,0,"GA21",0,{"$f":"IF(LEN(J108)>0,A108&\"-2\",\"\")","v":"GS-P-09.131-2"},0,0,null,0,{"$f":"IF(LEN(O108)>0,A108&\"-3\",\"\")","v":""},0,0,null,0,{"$f":"IF(LEN(T108)>0,A108&\"-4\",\"\")","v":""},0,0,"IPC",0,null,0,0,{"$f":"C108","v":3},"3-15",37,35,-4142,-4142,38,"dRN",null,1,1,0,0,0,0,0,0,0,0,0,0,0,"2807","2808","09.131","2 NTC | 2 C+","2602",{"$nulls":3},1,{"$nulls":16},0,0,0,0]
["GS-P-09.133","event T14",2,45,null,0,{"$f":"IF(LEN(E109)>0,A109&IF(C109>2,\"-1\",\"\"),\"\")","v":""},0,0,null,0,{"$f":"IF(LEN(J109)>0,A109&\"-2\",\"\")","v":""},0,0,null,0,{"$f":"IF(LEN(O109)>0,A109&\"-3\",\"\")","v":""},0,0,null,0,{"$f":"IF(LEN(T109)>0,A109&\"-4\",\"\")","v":""},0,0,"IPC",0,null,0,0,{"$f":"C109","v":2},"3-15",37,-4142,-4142,-4142,38,"dRN",null,1,0,0,0,0,0,0,0,0,0,0,0,0,"2765","2766","09.133","2 NTC | 2 C+","2602",{"$nulls":3},1,{"$nulls":16},0,0,0,0]
["GS-P-09.135","VCO-01981-5 / DAS-40278-9 / Ly038 Corn",4,45,"VCO",0,{"$f":"IF(LEN(E110)>0,A110&IF(C110>2,\"-1\",\"\"),\"\")","v":"GS-P-09.135-1"},0,0,"DAS",0,{"$f":"IF(LEN(J110)>0,A110&\"-2\",\"\")","v":"GS-P-09.135-2"},0,0,"LY038",0,{"$f":"IF(LEN(O110)>0,A110&\"-3\",\"\")","v":"GS-P-09.135-3"},0,0,null,0,{"$f":"IF(LEN(T110)>0,A110&\"-4\",\"\")","v":""},0,0,"IPC",0,null,0,0,{"$f":"C110","v":4},"3-15",37,35,15,-4142,38,"dR",null,1,1,1,0,0,0,0,0,0,0,0,0,0,"2778","2780","09.135","2 NTC | 2 C+","2602",{"$nulls":3},1,{"$nulls":16},0,0,0,0]
["GS-P-09.136","35S/NOS/FMV V04",4,45,"35S",0,{"$f":"IF(LEN(E111)>0,A111&IF(C111>2,\"-1\",\"\"),\"\")","v":"GS-P-09.136-1"},0,0,"NOS",0,{"$f":"IF(LEN(J111)>0,A111&\"-2\",\"\")","v":"GS-P-09.136-2"},0,0,"FMV",0,{"$f":"IF(LEN(O111)>0,A111&\"-3\",\"\")","v":"GS-P-09.136-3"},0,0,null,0,{"$f":"IF(LEN(T111)>0,A111&\"-4\",\"\")","v":""},0,0,"IPC",0,null,0,0,{"$f":"C111","v":4},"3-15",37,35,15,-4142,38,"dR",null,1,1,1,0,0,0,0,0,0,0,0,0,0,"2842","2844","09.136","2 NTC | 2 C+","2602",{"$nulls":3},1,{"$nulls":16},0,0,0,0]
["GS-P-09.138","Event MON87769",2,45,"MON87769",0,{"$f":"IF(LEN(E112)>0,A112&IF(C112>2,\"-1\",\"\"),\"\")","v":"GS-P-09.138"},0,0,null,0,{"$f":"IF(LEN(J112)>0,A112&\"-2\",\"\")","v":""},0,0,null,0,{"$f":"IF(LEN(O112)>0,A112&\"-3\",\"\")","v":""},0,0,null,0,{"$f":"IF(LEN(T112)>0,A112&\"-4\",\"\")","v":""},0,0,"IPC",0,null,0,0,{"$f":"C112","v":2},"3-15",37,-4142,-4142,-4142,38,"dR",null,0,0,0,0,0,0,0,0,0,0,0,0,0,"2856","2753","09.138","2 NTC | 2 C+","2602",{"$nulls":3},1,{"$nulls":16},0,0,0,0]
["GS-P-09.139","CsVMV/CV127/DP305",4,45,"CsVMV",0,{"$f":"IF(LEN(E113)>0,A113&IF(C113>2,\"-1\",\"\"),\"\")","v":"GS-P-09.139-1"},0,0,"DP305",0,{"$f":"IF(LEN(J113)>0,A113&\"-2\",\"\")","v":"GS-P-09.139-2"},0,0,"CV127",0,{"$f":"IF(LEN(O113)>0,A113&\"-3\",\"\")","v":"GS-P-09.139-3"},0,0,null,0,{"$f":"IF(LEN(T113)>0,A113&\"-4\",\"\")","v":""},0,0,"IPC",0,null,0,0,{"$f":"C113","v":4},"3-15",37,35,15,-4142,38,"dR",null,1,1,1,0,0,0,0,0,0,0,0,0,0,"2860","2861","09.139","2 NTC | 2 C+","2602",{"$nulls":3},1,{"$nulls":16},0,0,0,0]
["GS-P-09.140","RRS-HT-P/C",2,45,"RRS",0,{"$f":"IF(LEN(E114)>0,A114&IF(C114>2,\"-1\",\"\"),\"\")","v":"GS-P-09.140"},0,0,null,0,{"$f":"IF(LEN(J114)>0,A114&\"-2\",\"\")","v":""},0,0,null,0,{"$f":"IF(LEN(O114)>0,A114&\"-3\",\"\")","v":""},0,0,null,0,{"$f":"IF(LEN(T114)>0,A114&\"-4\",\"\")","v":""},0,0,"IPC",0,null,0,0,{"$f":"C114","v":2},"3-15",37,-4142,-4142,-4142,38,"dRN",null,1,0,0,0,0,0,0,0,0,0,0,0,0,"2883","2602","09.140","2 NTC | 2 C+","0901",{"$nulls":3},1,{"$nulls":16},0,0,0,0]
["GS-P-09.141","Event DAS-68416",2,45,"DAS-68416",0,{"$f":"IF(LEN(E115)>0,A115&IF(C115>2,\"-1\",\"\"),\"\")","v":"GS-P-09.141"},0,0,null,0,{"$f":"IF(LEN(J115)>0,A115&\"-2\",\"\")","v":""},0,0,null,0,{"$f":"IF(LEN(O115)>0,A115&\"-3\",\"\")","v":""},0,0,null,0,{"$f":"IF(LEN(T115)>0,A115&\"-4\",\"\")","v":""},0,0,"IPC",0,null,0,0,{"$f":"C115","v":2},"3-15",37,-4142,-4142,-4142,38,"dRN",null,1,0,0,0,0,0,0,0,0,0,0,0,0,"2985","2986","09.141","2 NTC | 2 C+","2602",{"$nulls":3},1,{"$nulls":16},0,0,0,0]
["GS-P-09.142","Soybean Lectin 1",2,45,"Lectin",0,{"$f":"IF(LEN(E116)>0,A116&IF(C116>2,\"-1\",\"\"),\"\")","v":"GS-P-09.142"},0,0,null,0,{"$f":"IF(LEN(J116)>0,A116&\"-2\",\"\")","v":""},0,0,null,0,{"$f":"IF(LEN(O116)>0,A116&\"-3\",\"\")","v":""},0,0,null,0,{"$f":"IF(LEN(T116)>0,A116&\"-4\",\"\")","v":""},0,0,"IPC",0,null,0,0,{"$f":"C116","v":2},"3-15",37,-4142,-4142,-4142,38,"dRN",null,1,0,0,0,0,0,0,0,0,0,0,0,0,"2971","0901","09.142","2 NTC | 2 C+","2602",{"$nulls":3},1,{"$nulls":16},0,0,0,0]
["GS-P-09.143","Event 5307",2,45,5307,0,{"$f":"IF(LEN(E117)>0,A117&IF(C117>2,\"-1\",\"\"),\"\")","v":"GS-P-09.143"},0,0,null,0,{"$f":"IF(LEN(J117)>0,A117&\"-2\",\"\")","v":""},0,0,null,0,{"$f":"IF(LEN(O117)>0,A117&\"-3\",\"\")","v":""},0,0,null,0,{"$f":"IF(LEN(T117)>0,A117&\"-4\",\"\")","v":""},0,0,"IPC",0,null,0,0,{"$f":"C117","v":2},"3-15",37,-4142,-4142,-4142,38,"dRN",null,1,0,0,0,0,0,0,0,0,0,0,0,0,"2953","2954","09.143","2 NTC | 2 C+","2602",{"$nulls":3},1,{"$nulls":16},0,0,0,0]
["GS-P-09.144","Event T25",2,45,"T25",0,{"$f":"IF(LEN(E118)>0,A118&IF(C118>2,\"-1\",\"\"),\"\")","v":"GS-P-09.144"},0,0,null,0,{"$f":"IF(LEN(J118)>0,A118&\"-2\",\"\")","v":""},0,0,null,0,{"$f":"IF(LEN(O118)>0,A118&\"-3\",\"\")","v":""},0,0,null,0,{"$f":"IF(LEN(T118)>0,A118&\"-4\",\"\")","v":""},0,0,"IPC",0,null,0,0,{"$f":"C118","v":2},"3-15",37,-4142,-4142,-4142,38,"dRN",null,1,0,0,0,0,0,0,0,0,0,0,0,0,"2946","2948","09.144","2 NTC | 2 C+","2602",{"$nulls":3},1,{"$nulls":16},0,0,0,0]
["GS-P-09.145","MON87708 / 87701 / 87705 Soy",4,45,"MON87701",0,{"$f":"IF(LEN(E119)>0,A119&IF(C119>2,\"-1\",\"\"),\"\")","v":"GS-P-09.145-1"},0,0,"MON87708",0,{"$f":"IF(LEN(J119)>0,A119&\"-2\",\"\")","v":"GS-P-09.145-2"},0,0,"MON87705",0,{"$f":"IF(LEN(O119)>0,A119&\"-3\",\"\")","v":"GS-P-09.145-3"},0,0,null,0,{"$f":"IF(LEN(T119)>0,A119&\"-4\",\"\")","v":""},0,0,"IPC",0,null,0,0,{"$f":"C119","v":4},"3-15",37,35,15,-4142,38,"dR",null,1,1,1,0,0,0,0,0,0,0,0,0,0,"2974","2975","09.145","2 NTC | 2 C+","3043",{"$nulls":3},1,{"$nulls":16},0,0,0,0]
["GS-P-09.146","Event Bt176",2,45,"Bt176",0,{"$f":"IF(LEN(E120)>0,A120&IF(C120>2,\"-1\",\"\"),\"\")","v":"GS-P-09.146"},0,0,null,0,{"$f":"IF(LEN(J120)>0,A120&\"-2\",\"\")","v":""},0,0,null,0,{"$f":"IF(LEN(O120)>0,A120&\"-3\",\"\")","v":""},0,0,null,0,{"$f":"IF(LEN(T120)>0,A120&\"-4\",\"\")","v":""},0,0,"IPC",0,null,0,0,{"$f":"C120","v":2},"3-15",37,-4142,-4142,-4142,38,"dRN",null,1,0,0,0,0,0,0,0,0,0,0,0,0,"2965","2966","09.146","2 NTC | 2 C+","2602",{"$nulls":3},1,{"$nulls":16},0,0,0,0]
["GS-P-09.147","Event MON87708",2,45,"MON87708",0,{"$f":"IF(LEN(E121)>0,A121&IF(C121>2,\"-1\",\"\"),\"\")","v":"GS-P-09.147"},0,0,null,0,{"$f":"IF(LEN(J121)>0,A121&\"-2\",\"\")","v":""},0,0,null,0,{"$f":"IF(LEN(O121)>0,A121&\"-3\",\"\")","v":""},0,0,null,0,{"$f":"IF(LEN(T121)>0,A121&\"-4\",\"\")","v":""},0,0,"IPC",0,null,0,0,{"$f":"C121","v":2},"3-15",37,-4142,-4142,-4142,38,"dRN",null,1,0,0,0,0,0,0,0,0,0,0,0,0,"3036","3037","09.147","2 NTC | 2 C+","2602",{"$nulls":3},1,{"$nulls":16},0,0,0,0]
["GS-P-09.148","DAS-44406-6 / DAS-81419-2 / DAS-68416-4 Soy",4,45,"DAS-44406",0,{"$f":"IF(LEN(E122)>0,A122&IF(C122>2,\"-1\",\"\"),\"\")","v":"GS-P-09.148-1"},0,0,"DAS81419",0,{"$f":"IF(LEN(J122)>0,A122&\"-2\",\"\")","v":"GS-P-09.148-2"},0,0,"DAS-68416",0,{"$f":"IF(LEN(O122)>0,A122&\"-3\",\"\")","v":"GS-P-09.148-3"},0,0,null,0,{"$f":"IF(LEN(T122)>0,A122&\"-4\",\"\")","v":""},0,0,"IPC",0,null,0,0,{"$f":"C122","v":4},"3-15",37,35,15,-4142,38,"dR",null,1,1,1,0,0,0,0,0,0,0,0,0,0,"3117","3118","09.148","2 NTC | 2 C+","3043",{"$nulls":3},1,{"$nulls":16},0,0,0,0]
["GS-P-09.152","Event CV127",2,45,"CV127",0,{"$f":"IF(LEN(E123)>0,A123&IF(C123>2,\"-1\",\"\"),\"\")","v":"GS-P-09.152"},0,0,null,0,{"$f":"IF(LEN(J123)>0,A123&\"-2\",\"\")","v":""},0,0,null,0,{"$f":"IF(LEN(O123)>0,A123&\"-3\",\"\")","v":""},0,0,null,0,{"$f":"IF(LEN(T123)>0,A123&\"-4\",\"\")","v":""},0,0,"IPC",0,null,0,0,{"$f":"C123","v":2},"3-15",37,-4142,-4142,-4142,38,"dRN",null,1,0,0,0,0,0,0,0,0,0,0,0,0,"3049","1219","09.152","2 NTC | 2 C+","2602",{"$nulls":3},1,{"$nulls":16},0,0,0,0]
["GS-P-09.154","Event LY038",2,45,"LY038",0,{"$f":"IF(LEN(E124)>0,A124&IF(C124>2,\"-1\",\"\"),\"\")","v":"GS-P-09.154"},0,0,null,0,{"$f":"IF(LEN(J124)>0,A124&\"-2\",\"\")","v":""},0,0,null,0,{"$f":"IF(LEN(O124)>0,A124&\"-3\",\"\")","v":""},0,0,null,0,{"$f":"IF(LEN(T124)>0,A124&\"-4\",\"\")","v":""},0,0,"IPC",0,null,0,0,{"$f":"C124","v":2},"3-15",37,-4142,-4142,-4142,38,"dRN",null,1,0,0,0,0,0,0,0,0,0,0,0,0,"3178","0854","09.154","2 NTC | 2 C+","2602",{"$nulls":3},1,{"$nulls":16},0,0,0,0]
["GS-P-09.155","Event FG72",2,45,"FG72",0,{"$f":"IF(LEN(E125)>0,A125&IF(C125>2,\"-1\",\"\"),\"\")","v":"GS-P-09.155"},0,0,null,0,{"$f":"IF(LEN(J125)>0,A125&\"-2\",\"\")","v":""},0,0,null,0,{"$f":"IF(LEN(O125)>0,A125&\"-3\",\"\")","v":""},0,0,null,0,{"$f":"IF(LEN(T125)>0,A125&\"-4\",\"\")","v":""},0,0,"IPC",0,null,0,0,{"$f":"C125","v":2},"3-15",37,-4142,-4142,-4142,38,"dRN",null,1,0,0,0,0,0,0,0,0,0,0,0,0,"3078","3079","09.155","2 NTC | 2 C+","2602",{"$nulls":3},1,{"$nulls":16},0,0,0,0]
["GS-P-09.156","Event DP-305423-1",2,45,"DP305423",0,{"$f":"IF(LEN(E126)>0,A126&IF(C126>2,\"-1\",\"\"),\"\")","v":"GS-P-09.156"},0,0,null,0,{"$f":"IF(LEN(J126)>0,A126&\"-2\",\"\")","v":""},0,0,null,0,{"$f":"IF(LEN(O126)>0,A126&\"-3\",\"\")","v":""},0,0,null,0,{"$f":"IF(LEN(T126)>0,A126&\"-4\",\"\")","v":""},0,0,"IPC",0,null,0,0,{"$f":"C126","v":2},"3-15",37,-4142,-4142,-4142,38,"dRN",null,1,0,0,0,0,0,0,0,0,0,0,0,0,"3053","1086","09.156","2 NTC | 2 C+","2602",{"$nulls":3},1,{"$nulls":16},0,0,0,0]
["GS-P-09.158","Cotton SAH7",2,45,"Cotton",0,{"$f":"IF(LEN(E127)>0,A127&IF(C127>2,\"-1\",\"\"),\"\")","v":"GS-P-09.158"},0,0,null,0,{"$f":"IF(LEN(J127)>0,A127&\"-2\",\"\")","v":""},0,0,null,0,{"$f":"IF(LEN(O127)>0,A127&\"-3\",\"\")","v":""},0,0,null,0,{"$f":"IF(LEN(T127)>0,A127&\"-4\",\"\")","v":""},0,0,"IPC",0,null,0,0,{"$f":"C127","v":2},"3-15",37,-4142,-4142,-4142,38,"dRN",null,1,0,0,0,0,0,0,0,0,0,0,0,0,"3088","3089","09.158","2 NTC | 2 C+","2602",{"$nulls":3},1,{"$nulls":16},0,0,0,0]
["GS-P-09.159","AgroBorder II",2,45,"ABII",0,{"$f":"IF(LEN(E128)>0,A128&IF(C128>2,\"-1\",\"\"),\"\")","v":"GS-P-09.159"},0,0,null,0,{"$f":"IF(LEN(J128)>0,A128&\"-2\",\"\")","v":""},0,0,null,0,{"$f":"IF(LEN(O128)>0,A128&\"-3\",\"\")","v":""},0,0,null,0,{"$f":"IF(LEN(T128)>0,A128&\"-4\",\"\")","v":""},0,0,"IPC",0,null,0,0,{"$f":"C128","v":2},"3-15",37,-4142,-4142,-4142,38,"dRN",null,1,0,0,0,0,0,0,0,0,0,0,0,0,"3135","2076","09.159","2 NTC | 2 C+","2602",{"$nulls":3},1,{"$nulls":16},0,0,0,0]
["GS-P-09.161","bar gene",2,45,"bar",0,{"$f":"IF(LEN(E129)>0,A129&IF(C129>2,\"-1\",\"\"),\"\")","v":"GS-P-09.161"},0,0,null,0,{"$f":"IF(LEN(J129)>0,A129&\"-2\",\"\")","v":""},0,0,null,0,{"$f":"IF(LEN(O129)>0,A129&\"-3\",\"\")","v":""},0,0,null,0,{"$f":"IF(LEN(T129)>0,A129&\"-4\",\"\")","v":""},0,0,"IPC",0,null,0,0,{"$f":"C129","v":2},"3-15",37,-4142,-4142,-4142,38,"dRN",null,1,0,0,0,0,0,0,0,0,0,0,0,0,"3153","1012","09.161","2 NTC | 2 C+","2602",{"$nulls":3},1,{"$nulls":16},0,0,0,0]
["GS-P-09.162","Event GHB",2,45,"GHB6145",0,{"$f":"IF(LEN(E130)>0,A130&IF(C130>2,\"-1\",\"\"),\"\")","v":"GS-P-09.162"},0,0,null,0,{"$f":"IF(LEN(J130)>0,A130&\"-2\",\"\")","v":""},0,0,null,0,{"$f":"IF(LEN(O130)>0,A130&\"-3\",\"\")","v":""},0,0,null,0,{"$f":"IF(LEN(T130)>0,A130&\"-4\",\"\")","v":""},0,0,"IPC",0,null,0,0,{"$f":"C130","v":2},"3-15",37,-4142,-4142,-4142,38,"dRN",null,1,0,0,0,0,0,0,0,0,0,0,0,0,"3147","3089","09.162","2 NTC | 2 C+","2602",{"$nulls":3},1,{"$nulls":16},0,0,0,0]
["GS-P-09.163","AgroBorder I",2,45,"AB I",0,{"$f":"IF(LEN(E131)>0,A131&IF(C131>2,\"-1\",\"\"),\"\")","v":"GS-P-09.163"},0,0,null,0,{"$f":"IF(LEN(J131)>0,A131&\"-2\",\"\")","v":""},0,0,null,0,{"$f":"IF(LEN(O131)>0,A131&\"-3\",\"\")","v":""},0,0,null,0,{"$f":"IF(LEN(T131)>0,A131&\"-4\",\"\")","v":""},0,0,"IPC",0,null,0,0,{"$f":"C131","v":2},"3-15",37,-4142,-4142,-4142,38,"dRN",null,1,0,0,0,0,0,0,0,0,0,0,0,0,"3141","2076","09.163","2 NTC | 2 C+","2602",{"$nulls":3},1,{"$nulls":16},0,0,0,0]
["GS-P-09.164","Event MON89788",2,45,"MON89788",0,{"$f":"IF(LEN(E132)>0,A132&IF(C132>2,\"-1\",\"\"),\"\")","v":"GS-P-09.164"},0,0,null,0,{"$f":"IF(LEN(J132)>0,A132&\"-2\",\"\")","v":""},0,0,null,0,{"$f":"IF(LEN(O132)>0,A132&\"-3\",\"\")","v":""},0,0,null,0,{"$f":"IF(LEN(T132)>0,A132&\"-4\",\"\")","v":""},0,0,"IPC",0,null,0,0,{"$f":"C132","v":2},"3-15",37,-4142,-4142,-4142,38,"dRN",null,1,0,0,0,0,0,0,0,0,0,0,0,0,"3158","0866","09.164","2 NTC | 2 C+","2602",{"$nulls":3},1,{"$nulls":16},0,0,0,0]
["GS-P-11.001","GHc/AFP",2,45,"GHc",0,{"$f":"IF(LEN(E133)>0,A133&IF(C133>2,\"-1\",\"\"),\"\")","v":"GS-P-11.001"},0,0,null,0,{"$f":"IF(LEN(J133)>0,A133&\"-2\",\"\")","v":""},0,0,null,0,{"$f":"IF(LEN(O133)>0,A133&\"-3\",\"\")","v":""},0,0,null,0,{"$f":"IF(LEN(T133)>0,A133&\"-4\",\"\")","v":""},0,0,"IPC",0,null,0,0,{"$f":"C133","v":2},"3-15",37,-4142,-4142,-4142,38,"dRN",null,1,0,0,0,0,0,0,0,0,0,0,0,0,"2802","2602","11.001","2 NTC | 2 C+","2803",{"$nulls":3},1,{"$nulls":16},0,0,0,0]
["GS-P-11.002","GHc/AFP-G/T",2,45,"GHc/AFP",0,{"$f":"IF(LEN(E134)>0,A134&IF(C134>2,\"-1\",\"\"),\"\")","v":"GS-P-11.002"},0,0,null,0,{"$f":"IF(LEN(J134)>0,A134&\"-2\",\"\")","v":""},0,0,null,0,{"$f":"IF(LEN(O134)>0,A134&\"-3\",\"\")","v":""},0,0,null,0,{"$f":"IF(LEN(T134)>0,A134&\"-4\",\"\")","v":""},0,0,"IPC",0,null,0,0,{"$f":"C134","v":2},"3-15",37,-4142,-4142,-4142,38,"dRN",null,1,0,0,0,0,0,0,0,0,0,0,0,0,"2826","2803","11.002","2 NTC | 2 C+","2602",{"$nulls":3},1,{"$nulls":16},0,0,0,0]
["GS-P-09.076","PVGT/nos/nptII/pat(syn)",5,45,"NOS",0,{"$f":"IF(LEN(E135)>0,A135&IF(C135>2,\"-1\",\"\"),\"\")","v":"GS-P-09.076-1"},7,0.1,"nptII",0,{"$f":"IF(LEN(J135)>0,A135&\"-2\",\"\")","v":"GS-P-09.076-2"},9,0.1,"PVGT",0,{"$f":"IF(LEN(O135)>0,A135&\"-3\",\"\")","v":"GS-P-09.076-3"},7,0.1,"pat(syn)",0,{"$f":"IF(LEN(T135)>0,A135&\"-4\",\"\")","v":"GS-P-09.076-4"},7,0.1,"IPC",0,null,4,0.33,{"$f":"C135","v":5},"3-15",{"$nulls":5},"dR",-2,1,1,1,1,0,0,0,0,0,0,0,0,0,"1486","1487","09.076","4 NTC | 4 C+","0900",{"$nulls":3},2,{"$nulls":15},1]
[{"$nulls":54},""]

{"sheet":"Ct Report","index":3,"n_rows":107,"n_cols":12,"rows_kept":107,"merged":[[3,2,3,6],[3,7,3,11],[6,2,6,6],[6,7,6,11]]}
[]
[]
[]
[]
[]
[null,{"$f":"COUNTA(B12:B107)","v":0},{"$f":"IF(LEN(Evaluation!B7)>0,0,COUNTA(C12:C107))","v":0},0,0,0,0,0,0,0,0,0]
["Evaluation",null,"Ct-Values",{"$nulls":4},{"$f":"frmROX&\"-Values\"","v":{"$error":"#N/A"}}]
[null,null,{"$f":"frmFarbe1","v":""},{"$f":"IF(LEN(frmFarbe2)>1,frmFarbe2,\"\")","v":""},{"$f":"IF(LEN(frmFarbe3)>1,frmFarbe3,\"\")","v":""},{"$f":"IF(LEN(frmFarbe4)>1,frmFarbe4,\"\")","v":""},{"$f":"IF(LEN(frmFarbe5)>1,frmFarbe5,\"\")","v":""},{"$f":"frmFarbe1","v":""},{"$f":"IF(LEN(frmFarbe2)>1,frmFarbe2,\"\")","v":""},{"$f":"IF(LEN(frmFarbe3)>1,frmFarbe3,\"\")","v":""},{"$f":"IF(LEN(frmFarbe4)>1,frmFarbe4,\"\")","v":""},{"$f":"IF(LEN(frmFarbe5)>1,frmFarbe5,\"\")","v":""}]
["Well","Well Name",{"$f":"IFERROR(VLOOKUP(frmModul,tabPCRSysteme,5,FALSE),\"\")","v":""},{"$f":"IFERROR(VLOOKUP(frmModul,tabPCRSysteme,10,FALSE),\"\")","v":""},{"$f":"IFERROR(VLOOKUP(frmModul,tabPCRSysteme,15,FALSE),\"\")","v":""},{"$f":"IFERROR(VLOOKUP(frmModul,tabPCRSysteme,20,FALSE),\"\")","v":""},"IPC",{"$f":"IFERROR(VLOOKUP(frmModul,tabPCRSysteme,5,FALSE),\"\")","v":""},{"$f":"IFERROR(VLOOKUP(frmModul,tabPCRSysteme,10,FALSE),\"\")","v":""},{"$f":"IFERROR(VLOOKUP(frmModul,tabPCRSysteme,15,FALSE),\"\")","v":""},{"$f":"IFERROR(VLOOKUP(frmModul,tabPCRSysteme,20,FALSE),\"\")","v":""},"IPC"]
["Threshold"]
[]
["A1"]
["A2"]
["A3"]
["A4"]
["A5"]
["A6"]
["A7"]
["A8"]
["A9"]
["A10"]
["A11"]
["A12"]
["B1"]
["B2"]
["B3"]
["B4"]
["B5"]
["B6"]
["B7"]
["B8"]
["B9"]
["B10"]
["B11"]
["B12"]
["C1"]
["C2"]
["C3"]
["C4"]
["C5"]
["C6"]
["C7"]
["C8"]
["C9"]
["C10"]
["C11"]
["C12"]
["D1"]
["D2"]
["D3"]
["D4"]
["D5"]
["D6"]
["D7"]
["D8"]
["D9"]
["D10"]
["D11"]
["D12"]
["E1"]
["E2"]
["E3"]
["E4"]
["E5"]
["E6"]
["E7"]
["E8"]
["E9"]
["E10"]
["E11"]
["E12"]
["F1"]
["F2"]
["F3"]
["F4"]
["F5"]
["F6"]
["F7"]
["F8"]
["F9"]
["F10"]
["F11"]
["F12"]
["G1"]
["G2"]
["G3"]
["G4"]
["G5"]
["G6"]
["G7"]
["G8"]
["G9"]
["G10"]
["G11"]
["G12"]
["H1"]
["H2"]
["H3"]
["H4"]
["H5"]
["H6"]
["H7"]
["H8"]
["H9"]
["H10"]
["H11"]
["H12"]

{"sheet":"Change Log","index":4,"n_rows":114,"n_cols":2,"rows_kept":114}
[]
["Version:","The following items were fixed and/or added:"]
["16","following Modules added:"]
[null,"·         GS-P-09.154 LY038 Corn IPC"]
[null,"·         GS-P-09.159 AgroBorder II IPC"]
[null,"·         GS-P-09.161 bar IPC"]
[null,"·         GS-P-09.162 Event GHB614 Cotton IPC"]
[null,"·         GS-P-09.163 AgroBorder I IPC"]
[null,"·         GS-P-09.164 Event MON89788 Soy IPC"]
[]
[null,"following Modules changed:"]
[null,"--"]
[null,"new / updated Features:"]
[null,"--"]
[]
["15","following Modules added:"]
[null,"·         GS-P-09.145  MON87708 / 87701 / 87705 Soy / IPC"]
[null,"·         GS-P-09.148 DAS-44406-6 / DAS-81419-2 / DAS-68416-4 Soy / IPC"]
[null,"·         GS-P-09.158 Cotton / IPC"]
[]
[null,"following Modules changed:"]
[null,"--"]
[null,"new / updated Features:"]
[null,"- Import error of ABI 7500 SDS Software V2.4 fixed"]
[]
["14","following Modules added:"]
[null,"·         GS-P-09.155 – Event FG72 Soybean / IPC"]
[]
[null,"new / updated Features:"]
[null,"--"]
["13","following Modules added:"]
[null,"·         GS-P-09.152 – Event CV127 Soybean / IPC"]
[null,"·         GS-P-09.156 – Event 305423 Soybean / IPC"]
[]
[]
[null,"new / updated Features:"]
[null,"--"]
["12","following Modules added:"]
[null,"·         GS-P-09.147 – Event MON87708 Soybean / IPC"]
[]
[]
[]
[null,"new / updated Features:"]
[null,"--"]
["11","following Modules added:"]
[null,"·         GS-P-09.146 – Event Bt176 Corn / IPC"]
[]
[]
[]
[null,"new / updated Features:"]
[null,"--"]
["10","following Modules added:"]
[null,"·         GS-P-09.140 – RRS-HT-P/C / IPC"]
[null,"·         GS-P-09.141 – Event DAS-68416 Soy / IPC"]
[null,"·         GS-P-09.142 – Soybean lectin 1 / IPC"]
[]
[null,"new / updated Features:"]
[null,"--"]
["09","following Modules added:"]
[null,"·         GS-P-09.136 – 35S / NOS / FMV / IPC V04"]
[null,"·         GS-P-09.138 – Event MON87769 / IPC"]
[null,"·         GS-P-09.139 – CsVMV-pat(syn) / CV127 / Event DP 305433 / IPC"]
[]
[null,"new / updated Features:"]
[null,"·        Cq-Scoring only for IPC added"]
["08","following Modules added:"]
[null,"·         GS-P-09.131 – pmi/nos / Event GA21 / IPC"]
[null,"·         GS-P-09.133 – Event T14 / IPC"]
[null,"·         GS-P-09.135 – Event VCO-01981-5 / Event DAS-40278-9 / Ly038 / IPC"]
[null,"·         GS-P-11.001 – GHc2/AFP-G/T / IPC"]
[null,"·         GS-P-11.002 – GHc2/AFP-G/T-D / IPC"]
["07","following Modules added:"]
[null,"·         GS-P-09.125 – Event MON87427 / IPC"]
[null,"·         GS-P-09.126 – 35S / NOS / FMV / IPC V03"]
[null,"·         GS-P-09.127 – Event VCO-01981-5 / IPC"]
[]
["06","following Modules added:"]
[null,"·         GS-P-09.124 – Rapeseed / IPC"]
[null,"·         Scoring criteria for GS-P-09.061 – 35S / NOS / FMV / IPC for Agilent MX 3000/3005P and for Biorad CFX changed"]
[]
[]
[]
["05","following Modules added:"]
[null,"- GS-P-08.042 –Halal MP2 / IPC"]
[null,"- GS-P-09.121 –35S / NOS / ABII / IPC"]
[]
[null,"new / updated Features:"]
[null,"- Platelayout for 12 Wells - and 8 Wells - Format added"]
[]
["04","following Modules added:"]
[null,"- GS-P-08.041 – Pig / IPC"]
[null,"- GS-P-09.102 – FMV / IPC"]
[null,"- GS-P-09.120 – Corn / IPC"]
[null,"- GS-P-09.076 V02 – PVGT/NOS/nptII/PAT / IPC entsprechend Datasheet V02"]
[]
[null,"following Modules updated:"]
[null,"---"]
[]
["03","following Modules added:"]
[null,"- GS-P-08.040 Sheep / IPC"]
[]
[null,"following Modules updated:"]
[null,"- GS-P-09.061 35S/NOS/FMV / IPC according Datasheet V03 and V04"]
[]
["02","following Modules added:"]
[null,"- GS-P-08.038 Turkey / IPC"]
[null,"- GS-P-08.039 Goat / IPC"]
[null,"- GS-P-09.116 NOS/nptII / IPC"]
[null,"- GS-P-09.117 35S/nptII / IPC"]
[]
["01","first release"]
[]
[null,"following Modules added:"]
[null,"- GS-P-09.119 CsVMV/pat(syn) / IPC"]

{"sheet":"Layout","index":5,"n_rows":98,"n_cols":38,"rows_kept":98,"hidden":true}
["tabLayout",null,null,"Layout Freeformat",{"$nulls":3},"Layout 96well-Format",{"$nulls":3},"Layout Standard",{"$nulls":3},"Layout Standard4",{"$nulls":3},"Layout Standard2",{"$nulls":3},"Layout Kingfisher 40 Samples",{"$nulls":3},"Layout 8Well",{"$nulls":3},"Layout 8Well4",{"$nulls":3},"Layout 8Well2"]
["Layout","Range",null,"Nr","Well","Task",null,"Nr","Well","Task",null,"Nr","Well","Task",null,"Nr","Well","Task",null,"Nr","Well","Task",null,"Nr","Well","Task",null,"Nr","Well","Task",null,"Nr","Well","Task",null,"Nr","Well","Task"]
["12 Well | 6 NTC | 4 C+","Standard",null,1,"A1","N",null,1,"A1","N",null,1,"A1","N",null,1,"A1","N",null,1,"A1","N",null,1,"A1","N",null,1,"H1","N",null,1,"H1","N",null,1,"H1","N"]
["12 Well | 4 NTC | 4 C+","Standard4",null,2,"B1","N",null,2,"B1","N",null,2,"A2","N",null,2,"A2","N",null,2,"A2","N",null,2,"B1","N",null,2,"G1","N",null,2,"G1","N",null,2,"G1","N"]
["12 Well | 2 NTC | 2 C+","Standard2",null,3,"C1","N",null,3,"C1","U",null,3,"A3","N",null,3,"A3","N",null,3,"A3","P",null,3,"C1","N",null,3,"F1","N",null,3,"F1","N",null,3,"F1","P"]
["8 Well | 6 NTC | 4 C+","8Well",null,4,"D1","N",null,4,"D1","U",null,4,"A4","N",null,4,"A4","N",null,4,"A4","P",null,4,"D1","N",null,4,"E1","N",null,4,"E1","N",null,4,"E1","P"]
["8 Well | 4 NTC | 4 C+","8Well4",null,5,"E1","P",null,5,"E1","U",null,5,"A5","N",null,5,"A5","P",null,5,"A5","U",null,5,"E1","P",null,5,"D1","N",null,5,"D1","P",null,5,"D1","U"]
["8 Well | 2 NTC | 2 C+","8Well2",null,6,"F1","P",null,6,"F1","U",null,6,"A6","N",null,6,"A6","P",null,6,"A6","U",null,6,"F1","P",null,6,"C1","N",null,6,"C1","P",null,6,"C1","U"]
["Kingfisher 1 - 40 Samples","Kingfisher",null,7,"G1","U",null,7,"G1","U",null,7,"A7","P",null,7,"A7","P",null,7,"A7","U",null,7,"G1","P",null,7,"B1","P",null,7,"B1","P",null,7,"B1","U"]
[{"$nulls":3},8,"H1","U",null,8,"H1","U",null,8,"A8","P",null,8,"A8","P",null,8,"A8","U",null,8,"H1","P",null,8,"A1","P",null,8,"A1","P",null,8,"A1","U"]
["Freeformat Bt10","FreeformatBt10",null,9,"A2","U",null,9,"A2","U",null,9,"A9","P",null,9,"A9","U",null,9,"A9","U",null,9,"A2","E",null,9,"H2","P",null,9,"H2","U",null,9,"H2","U"]
["96 Well Format Bt10","96wellFormatBt10",null,10,"B2","U",null,10,"B2","U",null,10,"A10","P",null,10,"A10","U",null,10,"A10","U",null,10,"B2","E",null,10,"G2","P",null,10,"G2","U",null,10,"G2","U"]
[{"$nulls":3},11,"C2","U",null,11,"C2","U",null,11,"A11","U",null,11,"A11","U",null,11,"A11","U",null,11,"G4","E",null,11,"F2","U",null,11,"F2","U",null,11,"F2","U"]
[{"$nulls":3},12,"D2","U",null,12,"D2","U",null,12,"A12","U",null,12,"A12","U",null,12,"A12","U",null,12,"H4","E",null,12,"E2","U",null,12,"E2","U",null,12,"E2","U"]
[{"$nulls":3},13,"E2","U",null,13,"E2","U",null,13,"B1","U",null,13,"B1","U",null,13,"B1","U",null,13,"E7","E",null,13,"D2","U",null,13,"D2","U",null,13,"D2","U"]
[{"$nulls":3},14,"F2","U",null,14,"F2","U",null,14,"B2","U",null,14,"B2","U",null,14,"B2","U",null,14,"F7","E",null,14,"C2","U",null,14,"C2","U",null,14,"C2","U"]
[{"$nulls":3},15,"G2","U",null,15,"G2","U",null,15,"B3","U",null,15,"B3","U",null,15,"B3","U",null,15,"C10","E",null,15,"B2","U",null,15,"B2","U",null,15,"B2","U"]
[{"$nulls":3},16,"H2","U",null,16,"H2","U",null,16,"B4","U",null,16,"B4","U",null,16,"B4","U",null,16,"D10","E",null,16,"A2","U",null,16,"A2","U",null,16,"A2","U"]
[{"$nulls":3},17,"A3","U",null,17,"A3","U",null,17,"B5","U",null,17,"B5","U",null,17,"B5","U",null,17,"C2","U",null,17,"H3","U",null,17,"H3","U",null,17,"H3","U"]
[{"$nulls":3},18,"B3","U",null,18,"B3","U",null,18,"B6","U",null,18,"B6","U",null,18,"B6","U",null,18,"D2","U",null,18,"G3","U",null,18,"G3","U",null,18,"G3","U"]
[{"$nulls":3},19,"C3","U",null,19,"C3","U",null,19,"B7","U",null,19,"B7","U",null,19,"B7","U",null,19,"E2","U",null,19,"F3","U",null,19,"F3","U",null,19,"F3","U"]
[{"$nulls":3},20,"D3","U",null,20,"D3","U",null,20,"B8","U",null,20,"B8","U",null,20,"B8","U",null,20,"F2","U",null,20,"E3","U",null,20,"E3","U",null,20,"E3","U"]
[{"$nulls":3},21,"E3","U",null,21,"E3","U",null,21,"B9","U",null,21,"B9","U",null,21,"B9","U",null,21,"G2","U",null,21,"D3","U",null,21,"D3","U",null,21,"D3","U"]
[{"$nulls":3},22,"F3","U",null,22,"F3","U",null,22,"B10","U",null,22,"B10","U",null,22,"B10","U",null,22,"H2","U",null,22,"C3","U",null,22,"C3","U",null,22,"C3","U"]
[{"$nulls":3},23,"G3","U",null,23,"G3","U",null,23,"B11","U",null,23,"B11","U",null,23,"B11","U",null,23,"A3","U",null,23,"B3","U",null,23,"B3","U",null,23,"B3","U"]
[{"$nulls":3},24,"H3","U",null,24,"H3","U",null,24,"B12","U",null,24,"B12","U",null,24,"B12","U",null,24,"B3","U",null,24,"A3","U",null,24,"A3","U",null,24,"A3","U"]
[{"$nulls":3},25,"A4","U",null,25,"A4","U",null,25,"C1","U",null,25,"C1","U",null,25,"C1","U",null,25,"C3","U",null,25,"H4","U",null,25,"H4","U",null,25,"H4","U"]
[{"$nulls":3},26,"B4","U",null,26,"B4","U",null,26,"C2","U",null,26,"C2","U",null,26,"C2","U",null,26,"D3","U",null,26,"G4","U",null,26,"G4","U",null,26,"G4","U"]
[{"$nulls":3},27,"C4","U",null,27,"C4","E",null,27,"C3","U",null,27,"C3","U",null,27,"C3","U",null,27,"E3","U",null,27,"F4","U",null,27,"F4","U",null,27,"F4","U"]
[{"$nulls":3},28,"D4","U",null,28,"D4","E",null,28,"C4","U",null,28,"C4","U",null,28,"C4","U",null,28,"F3","U",null,28,"E4","U",null,28,"E4","U",null,28,"E4","U"]
[{"$nulls":3},29,"E4","U",null,29,"E4","U",null,29,"C5","U",null,29,"C5","U",null,29,"C5","U",null,29,"G3","U",null,29,"D4","U",null,29,"D4","U",null,29,"D4","U"]
[{"$nulls":3},30,"F4","U",null,30,"F4","U",null,30,"C6","U",null,30,"C6","U",null,30,"C6","U",null,30,"H3","U",null,30,"C4","U",null,30,"C4","U",null,30,"C4","U"]
[{"$nulls":3},31,"G4","U",null,31,"G4","U",null,31,"C7","U",null,31,"C7","U",null,31,"C7","U",null,31,"A4","U",null,31,"B4","U",null,31,"B4","U",null,31,"B4","U"]
[{"$nulls":3},32,"H4","U",null,32,"H4","U",null,32,"C8","U",null,32,"C8","U",null,32,"C8","U",null,32,"B4","U",null,32,"A4","U",null,32,"A4","U",null,32,"A4","U"]
[{"$nulls":3},33,"A5","U",null,33,"A5","U",null,33,"C9","U",null,33,"C9","U",null,33,"C9","U",null,33,"C4","U",null,33,"H5","U",null,33,"H5","U",null,33,"H5","U"]
[{"$nulls":3},34,"B5","U",null,34,"B5","U",null,34,"C10","U",null,34,"C10","U",null,34,"C10","U",null,34,"D4","U",null,34,"G5","U",null,34,"G5","U",null,34,"G5","U"]
[{"$nulls":3},35,"C5","U",null,35,"C5","U",null,35,"C11","U",null,35,"C11","U",null,35,"C11","U",null,35,"E4","U",null,35,"F5","U",null,35,"F5","U",null,35,"F5","U"]
[{"$nulls":3},36,"D5","U",null,36,"D5","U",null,36,"C12","U",null,36,"C12","U",null,36,"C12","U",null,36,"F4","U",null,36,"E5","U",null,36,"E5","U",null,36,"E5","U"]
[{"$nulls":3},37,"E5","U",null,37,"E5","U",null,37,"D1","U",null,37,"D1","U",null,37,"D1","U",null,37,"A5","U",null,37,"D5","U",null,37,"D5","U",null,37,"D5","U"]
[{"$nulls":3},38,"F5","U",null,38,"F5","U",null,38,"D2","U",null,38,"D2","U",null,38,"D2","U",null,38,"B5","U",null,38,"C5","U",null,38,"C5","U",null,38,"C5","U"]
[{"$nulls":3},39,"G5","U",null,39,"G5","U",null,39,"D3","U",null,39,"D3","U",null,39,"D3","U",null,39,"C5","U",null,39,"B5","U",null,39,"B5","U",null,39,"B5","U"]
[{"$nulls":3},40,"H5","U",null,40,"H5","U",null,40,"D4","U",null,40,"D4","U",null,40,"D4","U",null,40,"D5","U",null,40,"A5","U",null,40,"A5","U",null,40,"A5","U"]
[{"$nulls":3},41,"A6","U",null,41,"A6","U",null,41,"D5","U",null,41,"D5","U",null,41,"D5","U",null,41,"E5","U",null,41,"H6","U",null,41,"H6","U",null,41,"H6","U"]
[{"$nulls":3},42,"B6","U",null,42,"B6","U",null,42,"D6","U",null,42,"D6","U",null,42,"D6","U",null,42,"F5","U",null,42,"G6","U",null,42,"G6","U",null,42,"G6","U"]
[{"$nulls":3},43,"C6","U",null,43,"C6","U",null,43,"D7","U",null,43,"D7","U",null,43,"D7","U",null,43,"G5","U",null,43,"F6","U",null,43,"F6","U",null,43,"F6","U"]
[{"$nulls":3},44,"D6","U",null,44,"D6","U",null,44,"D8","U",null,44,"D8","U",null,44,"D8","U",null,44,"H5","U",null,44,"E6","U",null,44,"E6","U",null,44,"E6","U"]
[{"$nulls":3},45,"E6","U",null,45,"E6","U",null,45,"D9","U",null,45,"D9","U",null,45,"D9","U",null,45,"A6","U",null,45,"D6","U",null,45,"D6","U",null,45,"D6","U"]
[{"$nulls":3},46,"F6","U",null,46,"F6","U",null,46,"D10","U",null,46,"D10","U",null,46,"D10","U",null,46,"B6","U",null,46,"C6","U",null,46,"C6","U",null,46,"C6","U"]
[{"$nulls":3},47,"G6","U",null,47,"G6","U",null,47,"D11","U",null,47,"D11","U",null,47,"D11","U",null,47,"C6","U",null,47,"B6","U",null,47,"B6","U",null,47,"B6","U"]
[{"$nulls":3},48,"H6","U",null,48,"H6","U",null,48,"D12","U",null,48,"D12","U",null,48,"D12","U",null,48,"D6","U",null,48,"A6","U",null,48,"A6","U",null,48,"A6","U"]
[{"$nulls":3},49,"A7","U",null,49,"A7","N",null,49,"E1","U",null,49,"E1","U",null,49,"E1","U",null,49,"E6","U",null,49,"H7","U",null,49,"H7","U",null,49,"H7","U"]
[{"$nulls":3},50,"B7","U",null,50,"B7","N",null,50,"E2","U",null,50,"E2","U",null,50,"E2","U",null,50,"F6","U",null,50,"G7","U",null,50,"G7","U",null,50,"G7","U"]
[{"$nulls":3},51,"C7","U",null,51,"C7","U",null,51,"E3","U",null,51,"E3","U",null,51,"E3","U",null,51,"G6","U",null,51,"F7","U",null,51,"F7","U",null,51,"F7","U"]
[{"$nulls":3},52,"D7","U",null,52,"D7","U",null,52,"E4","U",null,52,"E4","U",null,52,"E4","U",null,52,"H6","U",null,52,"E7","U",null,52,"E7","U",null,52,"E7","U"]
[{"$nulls":3},53,"E7","U",null,53,"E7","U",null,53,"E5","U",null,53,"E5","U",null,53,"E5","U",null,53,"A7","U",null,53,"D7","U",null,53,"D7","U",null,53,"D7","U"]
[{"$nulls":3},54,"F7","U",null,54,"F7","U",null,54,"E6","U",null,54,"E6","U",null,54,"E6","U",null,54,"B7","U",null,54,"C7","U",null,54,"C7","U",null,54,"C7","U"]
[{"$nulls":3},55,"G7","U",null,55,"G7","U",null,55,"E7","U",null,55,"E7","U",null,55,"E7","U",null,55,"C7","U",null,55,"B7","U",null,55,"B7","U",null,55,"B7","U"]
[{"$nulls":3},56,"H7","U",null,56,"H7","U",null,56,"E8","U",null,56,"E8","U",null,56,"E8","U",null,56,"D7","U",null,56,"A7","U",null,56,"A7","U",null,56,"A7","U"]
[{"$nulls":3},57,"A8","U",null,57,"A8","U",null,57,"E9","U",null,57,"E9","U",null,57,"E9","U",null,57,"G7","U",null,57,"H8","U",null,57,"H8","U",null,57,"H8","U"]
[{"$nulls":3},58,"B8","U",null,58,"B8","U",null,58,"E10","U",null,58,"E10","U",null,58,"E10","U",null,58,"H7","U",null,58,"G8","U",null,58,"G8","U",null,58,"G8","U"]
[{"$nulls":3},59,"C8","U",null,59,"C8","U",null,59,"E11","U",null,59,"E11","U",null,59,"E11","U",null,59,"A8","U",null,59,"F8","U",null,59,"F8","U",null,59,"F8","U"]
[{"$nulls":3},60,"D8","U",null,60,"D8","U",null,60,"E12","U",null,60,"E12","U",null,60,"E12","U",null,60,"B8","U",null,60,"E8","U",null,60,"E8","U",null,60,"E8","U"]
[{"$nulls":3},61,"E8","U",null,61,"E8","U",null,61,"F1","U",null,61,"F1","U",null,61,"F1","U",null,61,"C8","U",null,61,"D8","U",null,61,"D8","U",null,61,"D8","U"]
[{"$nulls":3},62,"F8","U",null,62,"F8","U",null,62,"F2","U",null,62,"F2","U",null,62,"F2","U",null,62,"D8","U",null,62,"C8","U",null,62,"C8","U",null,62,"C8","U"]
[{"$nulls":3},63,"G8","U",null,63,"G8","U",null,63,"F3","U",null,63,"F3","U",null,63,"F3","U",null,63,"E8","U",null,63,"B8","U",null,63,"B8","U",null,63,"B8","U"]
[{"$nulls":3},64,"H8","U",null,64,"H8","U",null,64,"F4","U",null,64,"F4","U",null,64,"F4","U",null,64,"F8","U",null,64,"A8","U",null,64,"A8","U",null,64,"A8","U"]
[{"$nulls":3},65,"A9","U",null,65,"A9","U",null,65,"F5","U",null,65,"F5","U",null,65,"F5","U",null,65,"G8","U",null,65,"H9","U",null,65,"H9","U",null,65,"H9","U"]
[{"$nulls":3},66,"B9","U",null,66,"B9","U",null,66,"F6","U",null,66,"F6","U",null,66,"F6","U",null,66,"H8","U",null,66,"G9","U",null,66,"G9","U",null,66,"G9","U"]
[{"$nulls":3},67,"C9","U",null,67,"C9","U",null,67,"F7","U",null,67,"F7","U",null,67,"F7","U",null,67,"A9","U",null,67,"F9","U",null,67,"F9","U",null,67,"F9","U"]
[{"$nulls":3},68,"D9","U",null,68,"D9","U",null,68,"F8","U",null,68,"F8","U",null,68,"F8","U",null,68,"B9","U",null,68,"E9","U",null,68,"E9","U",null,68,"E9","U"]
[{"$nulls":3},69,"E9","U",null,69,"E9","E",null,69,"F9","U",null,69,"F9","U",null,69,"F9","U",null,69,"C9","U",null,69,"D9","U",null,69,"D9","U",null,69,"D9","U"]
[{"$nulls":3},70,"F9","U",null,70,"F9","E",null,70,"F10","U",null,70,"F10","U",null,70,"F10","U",null,70,"D9","U",null,70,"C9","U",null,70,"C9","U",null,70,"C9","U"]
[{"$nulls":3},71,"G9","U",null,71,"G9","U",null,71,"F11","U",null,71,"F11","U",null,71,"F11","U",null,71,"E9","U",null,71,"B9","U",null,71,"B9","U",null,71,"B9","U"]
[{"$nulls":3},72,"H9","U",null,72,"H9","U",null,72,"F12","U",null,72,"F12","U",null,72,"F12","U",null,72,"F9","U",null,72,"A9","U",null,72,"A9","U",null,72,"A9","U"]
[{"$nulls":3},73,"A10","U",null,73,"A10","U",null,73,"G1","U",null,73,"G1","U",null,73,"G1","U",null,73,"G9","U",null,73,"H10","U",null,73,"H10","U",null,73,"H10","U"]
[{"$nulls":3},74,"B10","U",null,74,"B10","U",null,74,"G2","U",null,74,"G2","U",null,74,"G2","U",null,74,"H9","U",null,74,"G10","U",null,74,"G10","U",null,74,"G10","U"]
[{"$nulls":3},75,"C10","U",null,75,"C10","U",null,75,"G3","U",null,75,"G3","U",null,75,"G3","U",null,75,"A10","U",null,75,"F10","U",null,75,"F10","U",null,75,"F10","U"]
[{"$nulls":3},76,"D10","U",null,76,"D10","U",null,76,"G4","U",null,76,"G4","U",null,76,"G4","U",null,76,"B10","U",null,76,"E10","U",null,76,"E10","U",null,76,"E10","U"]
[{"$nulls":3},77,"E10","U",null,77,"E10","U",null,77,"G5","U",null,77,"G5","U",null,77,"G5","U",null,77,"E10","U",null,77,"D10","U",null,77,"D10","U",null,77,"D10","U"]
[{"$nulls":3},78,"F10","U",null,78,"F10","U",null,78,"G6","U",null,78,"G6","U",null,78,"G6","U",null,78,"F10","U",null,78,"C10","U",null,78,"C10","U",null,78,"C10","U"]
[{"$nulls":3},79,"G10","U",null,79,"G10","U",null,79,"G7","U",null,79,"G7","U",null,79,"G7","U",null,79,"G10","U",null,79,"B10","U",null,79,"B10","U",null,79,"B10","U"]
[{"$nulls":3},80,"H10","U",null,80,"H10","U",null,80,"G8","U",null,80,"G8","U",null,80,"G8","U",null,80,"H10","U",null,80,"A10","U",null,80,"A10","U",null,80,"A10","U"]
[{"$nulls":3},81,"A11","U",null,81,"A11","U",null,81,"G9","U",null,81,"G9","U",null,81,"G9","U",null,81,"A11","U",null,81,"H11","U",null,81,"H11","U",null,81,"H11","U"]
[{"$nulls":3},82,"B11","U",null,82,"B11","U",null,82,"G10","U",null,82,"G10","U",null,82,"G10","U",null,82,"B11","U",null,82,"G11","U",null,82,"G11","U",null,82,"G11","U"]
[{"$nulls":3},83,"C11","U",null,83,"C11","U",null,83,"G11","U",null,83,"G11","U",null,83,"G11","U",null,83,"C11","U",null,83,"F11","U",null,83,"F11","U",null,83,"F11","U"]
[{"$nulls":3},84,"D11","U",null,84,"D11","U",null,84,"G12","U",null,84,"G12","U",null,84,"G12","U",null,84,"D11","U",null,84,"E11","U",null,84,"E11","U",null,84,"E11","U"]
[{"$nulls":3},85,"E11","U",null,85,"E11","U",null,85,"H1","U",null,85,"H1","U",null,85,"H1","U",null,85,"E11","U",null,85,"D11","U",null,85,"D11","U",null,85,"D11","U"]
[{"$nulls":3},86,"F11","U",null,86,"F11","U",null,86,"H2","U",null,86,"H2","U",null,86,"H2","U",null,86,"F11","U",null,86,"C11","U",null,86,"C11","U",null,86,"C11","U"]
[{"$nulls":3},87,"G11","U",null,87,"G11","U",null,87,"H3","U",null,87,"H3","U",null,87,"H3","U",null,87,"G11","U",null,87,"B11","U",null,87,"B11","U",null,87,"B11","U"]
[{"$nulls":3},88,"H11","U",null,88,"H11","U",null,88,"H4","U",null,88,"H4","U",null,88,"H4","U",null,88,"H11","U",null,88,"A11","U",null,88,"A11","U",null,88,"A11","U"]
[{"$nulls":3},89,"A12","U",null,89,"A12","U",null,89,"H5","U",null,89,"H5","U",null,89,"H5","U",null,89,"A12","U",null,89,"H12","U",null,89,"H12","U",null,89,"H12","U"]
[{"$nulls":3},90,"B12","U",null,90,"B12","U",null,90,"H6","U",null,90,"H6","U",null,90,"H6","U",null,90,"B12","U",null,90,"G12","U",null,90,"G12","U",null,90,"G12","U"]
[{"$nulls":3},91,"C12","U",null,91,"C12","U",null,91,"H7","U",null,91,"H7","U",null,91,"H7","U",null,91,"C12","U",null,91,"F12","U",null,91,"F12","U",null,91,"F12","U"]
[{"$nulls":3},92,"D12","U",null,92,"D12","U",null,92,"H8","U",null,92,"H8","U",null,92,"H8","U",null,92,"D12","U",null,92,"E12","U",null,92,"E12","U",null,92,"E12","U"]
[{"$nulls":3},93,"E12","U",null,93,"E12","U",null,93,"H9","U",null,93,"H9","U",null,93,"H9","U",null,93,"E12","U",null,93,"D12","U",null,93,"D12","U",null,93,"D12","U"]
[{"$nulls":3},94,"F12","U",null,94,"F12","U",null,94,"H10","U",null,94,"H10","U",null,94,"H10","U",null,94,"F12","U",null,94,"C12","U",null,94,"C12","U",null,94,"C12","U"]
[{"$nulls":3},95,"G12","U",null,95,"G12","P",null,95,"H11","U",null,95,"H11","U",null,95,"H11","U",null,95,"G12","U",null,95,"B12","U",null,95,"B12","U",null,95,"B12","U"]
[{"$nulls":3},96,"H12","U",null,96,"H12","P",null,96,"H12","U",null,96,"H12","U",null,96,"H12","U",null,96,"H12","U",null,96,"A12","U",null,96,"A12","U",null,96,"A12","U"]

{"sheet":"RealTimeInstruments","index":6,"n_rows":16,"n_cols":5,"rows_kept":16,"hidden":true}
["tabRealTimeInstruments",null,null,{"$f":"LOOKUP(1,1/(A1:A65536<>\"\"),ROW(A:A))","v":16},{"$f":"D1-2","v":14}]
["Name","ID","Group","Anzahl Zeichen"]
["Stratagene MX 3005",1,"MX Pro",{"$f":"LEN(A3)+LEN(B3)+LEN(C3)","v":25}]
["ABI 7900",1,"7900",{"$f":"LEN(A4)+LEN(B4)+LEN(C4)","v":13}]
["ABI 7500 ",1,"7500",{"$f":"LEN(A5)+LEN(B5)+LEN(C5)","v":14}]
["LC 480",1,"LC480",{"$f":"LEN(A6)+LEN(B6)+LEN(C6)","v":12}]
[]
["tabInstruments"]
["Name","NoAmplification",null,"dR Only"]
["ABI 7500 SDS V1.4",null,"tab7500Reporter",0]
["ABI 7500 SDS V2.0","Undetermined","tab7500Reporter",0]
["ABI 7900 SDS V2.1","Undetermined","tab7900Reporter",0]
["Agilent AriaMX","No Cq","tabAriaMXReporter",0]
["Agilent MX 3000/3005P","No Ct","tabMXReporter",0]
["BioRad CFX96","NaN","tabCFXReporter",-1]
["Roche LightCycler 480",null,"tabLC480Reporter",0]

{"sheet":"TaqManOptions","index":7,"n_rows":720,"n_cols":104,"rows_kept":720,"hidden":true,"merged":[[11,12,11,21],[11,23,11,24],[11,32,11,33],[12,12,12,13],[12,14,12,15],[12,16,12,17],[12,18,12,19],[12,20,12,21],[22,19,22,25],[22,26,22,32],[22,33,22,39],[22,40,22,46],[22,47,22,53],[165,19,165,25],[165,26,165,32],[165,33,165,39],[165,40,165,46],[165,47,165,53],[260,19,260,25],[260,26,260,32],[260,33,260,39],[260,40,260,46],[260,47,260,53],[374,19,374,25],[374,26,374,32],[374,33,374,39],[374,40,374,46],[374,47,374,53],[482,19,482,25],[482,26,482,32],[482,33,482,39],[482,40,482,46],[482,47,482,53],[590,19,590,25],[590,26,590,32],[590,33,590,39],[590,40,590,46],[590,47,590,53],[697,19,697,25],[697,26,697,32],[697,33,697,39],[697,40,697,46],[697,47,697,53]]}
["tabTaqManID",null,{"$f":"COLUMN()","v":3},{"$f":"COLUMN()","v":4},{"$f":"COLUMN()","v":5},{"$f":"COLUMN()","v":6},{"$f":"COLUMN()","v":7},{"$f":"COLUMN()","v":8},{"$f":"COLUMN()","v":9},{"$f":"COLUMN()","v":10},{"$f":"COLUMN()","v":11},{"$f":"COLUMN()","v":12},{"$f":"COLUMN()","v":13}]
[]
["InstrumentType",null,null,"BereichAuswertung","ReporterDye","MaxAnzahlSysteme","SpalteWell","SpalteCtSystem1","SpalteCtSystem2","SpalteCtSystem3","SpalteCtSystem4","SpalteCtSystem5","SpalteRNSystem1","SpalteRNSystem2","SpalteRNSystem3","SpalteRNSystem4","SpalteRNSystem5"]
[7500,null,null,"B10:Z108","tab7500Reporter",4,"B","C","D","E","F","G","H","I","J","K","L"]
["7500 V2",null,null,"CB10:CZ108","tab7500Reporter",4,"CB","CC","CD","CE","CF","CG","CH","CI","CJ","CK","CL"]
[7700,{"$nulls":46},-1]
[7900,null,null,"BB10:BZ108","tab7900Reporter",2,"BB","BC","BD","BE","BF","BG","BH","BI","BJ","BK","BL"]
["MX Pro",null,null,"AB10:AZ108","tabMXReporter",5,"AB","AC","AD","AE","AF","AG","AH","AI","AJ","AK","AL"]
[]
[]
["tabTaqManDaten",null,{"$f":"COLUMN()","v":3},{"$f":"COLUMN()","v":4},{"$f":"COLUMN()","v":5},{"$f":"COLUMN()","v":6},{"$f":"COLUMN()","v":7},{"$f":"COLUMN()","v":8},{"$f":"COLUMN()","v":9},{"$f":"COLUMN()","v":10},{"$f":"COLUMN()","v":11},{"$f":"COLUMN()","v":12},{"$f":"COLUMN()","v":13},{"$f":"COLUMN()","v":14},{"$f":"COLUMN()","v":15},{"$f":"COLUMN()","v":16},{"$f":"COLUMN()","v":17},{"$f":"COLUMN()","v":18},{"$f":"COLUMN()","v":19},{"$f":"COLUMN()","v":20},{"$f":"COLUMN()","v":21},{"$f":"COLUMN()","v":22},{"$f":"COLUMN()","v":23},{"$f":"COLUMN()","v":24},{"$f":"COLUMN()","v":25},{"$f":"COLUMN()","v":26},{"$f":"COLUMN()","v":27},{"$f":"COLUMN()","v":28},{"$f":"COLUMN()","v":29},{"$f":"COLUMN()","v":30},{"$f":"COLUMN()","v":31},{"$f":"COLUMN()","v":32},{"$f":"COLUMN()","v":33},{"$f":"COLUMN()","v":34}]
["Gerät","Spalte","Zellen-Bereich",{"$nulls":4},"Zellen Threshold",{"$nulls":4},"BaseLine",{"$nulls":9},"No","Prefix Reports"]
[null,"Well-Bezug","Farbe1","Farbe2","Farbe3","Farbe4","Farbe5","Farbe1","Farbe2","Farbe3","Farbe4","Farbe5","Farbe1",null,"Farbe2",null,"Farbe3",null,"Farbe4",null,"Farbe5",null,"Ampli","Result","Exp."]
[null,"(A1 oder 1)",{"$nulls":4},"IPC",{"$nulls":5},"Start","End","Start","End","Start","End","Start","End","Start","End","fication","Report","Report","Anzahl Dateien","DateiEndung"]
["MX Pro","B",{"$nulls":10},"G98","G194",{"$nulls":8},"No Ct","Res_","Res_",1,".txt"]
[7500,"C",{"$nulls":10},"E101","E200","C2","D2","C101","D101","C200","D200",{"$nulls":3},"Ct_","Rn_",2,".csv"]
["7500 V2","B",{"$nulls":20},"Undetermined",null,null,2,".xls"]
[7900,"C",{"$nulls":20},"Undetermined","Result","Clipped",2,".txt"]
[7700,"C","A2:K97",{"$nulls":3},"A112:K207","B109",{"$nulls":3},"B219","B105","B106",{"$nulls":6},"B215","B216",null,"Result_","ExpReport_",2,".xls"]
[]
[]
["tab7500Reporter",{"$nulls":18},{"$f":"COLUMN()","v":20},{"$f":"COLUMN()","v":21},{"$f":"COLUMN()","v":22},{"$f":"COLUMN()","v":23},{"$f":"COLUMN()","v":24},{"$f":"COLUMN()","v":25},{"$f":"COLUMN()","v":26},{"$f":"COLUMN()","v":27},{"$f":"COLUMN()","v":28},{"$f":"COLUMN()","v":29},{"$f":"COLUMN()","v":30},{"$f":"COLUMN()","v":31},{"$f":"COLUMN()","v":32},{"$f":"COLUMN()","v":33},{"$f":"COLUMN()","v":34},{"$f":"COLUMN()","v":35},{"$f":"COLUMN()","v":36},{"$f":"COLUMN()","v":37},{"$f":"COLUMN()","v":38},{"$f":"COLUMN()","v":39},{"$f":"COLUMN()","v":40},{"$f":"COLUMN()","v":41},{"$f":"COLUMN()","v":42},{"$f":"COLUMN()","v":43},{"$f":"COLUMN()","v":44},{"$f":"COLUMN()","v":45},{"$f":"COLUMN()","v":46},{"$f":"COLUMN()","v":47},{"$f":"COLUMN()","v":48},{"$f":"COLUMN()","v":49},{"$f":"COLUMN()","v":50},{"$f":"COLUMN()","v":51},{"$f":"COLUMN()","v":52},{"$f":"COLUMN()","v":53},{"$f":"COLUMN()","v":54},{"$f":"COLUMN()","v":55},{"$f":"COLUMN()","v":56},{"$f":"COLUMN()","v":57},{"$f":"COLUMN()","v":58},{"$f":"COLUMN()","v":59},{"$f":"COLUMN()","v":60},{"$f":"COLUMN()","v":61},{"$f":"COLUMN()","v":62},{"$f":"COLUMN()","v":63},{"$f":"COLUMN()","v":64},{"$f":"COLUMN()","v":65},{"$f":"COLUMN()","v":66},{"$f":"COLUMN()","v":67},{"$f":"COLUMN()","v":68},{"$f":"COLUMN()","v":69},{"$f":"COLUMN()","v":70},{"$f":"COLUMN()","v":71},{"$f":"COLUMN()","v":72},{"$f":"COLUMN()","v":73},{"$f":"COLUMN()","v":74},{"$f":"COLUMN()","v":75},{"$f":"COLUMN()","v":76},{"$f":"COLUMN()","v":77},{"$f":"COLUMN()","v":78},{"$f":"COLUMN()","v":79},{"$f":"COLUMN()","v":80},{"$f":"COLUMN()","v":81},{"$f":"COLUMN()","v":82},{"$f":"COLUMN()","v":83},{"$f":"COLUMN()","v":84},{"$f":"COLUMN()","v":85},{"$f":"COLUMN()","v":86},{"$f":"COLUMN()","v":87},{"$f":"COLUMN()","v":88},{"$f":"COLUMN()","v":89},{"$f":"COLUMN()","v":90},{"$f":"COLUMN()","v":91},{"$f":"COLUMN()","v":92},{"$f":"COLUMN()","v":93},{"$f":"COLUMN()","v":94},{"$f":"COLUMN()","v":95},{"$f":"COLUMN()","v":96},{"$f":"COLUMN()","v":97},{"$f":"COLUMN()","v":98},{"$f":"COLUMN()","v":99},{"$f":"COLUMN()","v":100},{"$f":"COLUMN()","v":101},{"$f":"COLUMN()","v":102},{"$f":"COLUMN()","v":103},{"$f":"COLUMN()","v":104}]
[null,null,"Reporter Dye",{"$nulls":4},"Name Detektor",{"$nulls":5},"Quencher",{"$nulls":5},"System1",{"$nulls":6},"System2",{"$nulls":6},"System3",{"$nulls":6},"System4",{"$nulls":6},"System5",{"$nulls":6},"Cutoff Sensitivitätsergebnis System1",{"$nulls":3},"Cutoff Sensitivitätsergebnis System2",{"$nulls":3},"Cutoff Sensitivitätsergebnis System3",{"$nulls":3},"Cutoff Sensitivitätsergebnis System4",{"$nulls":3},"Nur CutOff-Auswertung (siehe 08.34)",{"$nulls":3},"ROX","Identifier",null,null,"Delta Cq-","Nur CutOff-Auswertung (siehe 08.34)",null,1,2,3,4,"IPC"]
["Modul","Zeile",1,2,3,4,"IPC",1,2,3,4,"IPC","Anzahl Modul in Liste",1,2,3,4,"IPC","Validiert für 7500","CqCutOff1","CqCutOff2","CqCutOff3","CqCutOff4","RNLImit1","RNLImit2","RNLImit3","CqCutOff1","CqCutOff2","CqCutOff3","CqCutOff4","RNLImit1","RNLImit2","RNLImit3","CqCutOff1","CqCutOff2","CqCutOff3","CqCutOff4","RNLImit1","RNLImit2","RNLImit3","CqCutOff1","CqCutOff2","CqCutOff3","CqCutOff4","RNLImit1","RNLImit2","RNLImit3","CqCutOff1","CqCutOff2","CqCutOff3","CqCutOff4","RNLImit1","RNLImit2","RNLImit3","Vorhanden",null,null,"StdDev ","Vorhanden","K+ (Kopien/Rxn)","Cutoff (Kopien/Rxn)","Faktor","Vorhanden","K+ (Kopien/Rxn)","Cutoff (Kopien/Rxn)","Faktor","Vorhanden","K+ (Kopien/Rxn)","Cutoff (Kopien/Rxn)","Faktor","System1","System 2","System3","System 4","Normalisierung","MM","K+","BM","Asymmetrie","Typ","StdDev Faktor","StdDev + x Cq","StdDev + x Cq","StdDev + x Cq","StdDev + x Cq","Nur CutOff"]
["08.020",{"$f":"ROW()","v":25},"FAM",{"$nulls":3},"VIC","20HOR",{"$nulls":3},"20IPH",{"$f":"COUNTIF(lst7500Reporter,A25)","v":1},"NFQ","","","","NFQ","JA",0,6,"","",0.2,0,"",0,0,"","",0,0,"",0,0,"","",0,0,"",0,0,"","",0,0,"",0,3,"","",0.33,0,"",true,null,null,0.64,{"$nulls":16},"dRN","1663","1664","0826",0]
["08.026",{"$f":"ROW()","v":26},"FAM",{"$nulls":3},"VIC",80261,{"$nulls":3},"8026i",1,"NFQ","","","","NFQ","JA",0,8,"","",0.2,0,"",0,0,"","",0,0,"",0,0,"","",0,0,"",0,0,"","",0,0,"",-5,3,"","",0.33,0,"",false,{"$nulls":19},"dRN","1832","1833",2602,0]
["08.027",{"$f":"ROW()","v":27},"FAM","VIC",null,null,"Cy5",80271,80272,null,null,"27IPC",1,"NFQ","NFQ","","","NFQ","JA",0,7,"","",0.2,0,"",0,7,"","",0.2,0,"",0,0,"","",0,0,"",0,0,"","",0,0,"",-3,3,"","",0.33,0,"",false,{"$nulls":19},"dRN","1820","1821",2602,-5]
["08.028",{"$f":"ROW()","v":28},"FAM",{"$nulls":3},"VIC","8028a",{"$nulls":3},"8028i",1,"NFQ","","","","NFQ","JA",0,8,"","",0.2,0,"",0,0,"","",0,0,"",0,0,"","",0,0,"",0,0,"","",0,0,"",-3,3,"","",0.33,0,"",false,{"$nulls":19},"dRN","1886","1869",2602,0]
["08.029",{"$f":"ROW()","v":29},"FAM",{"$nulls":3},"VIC","8029a",{"$nulls":3},"8029i",1,"NFQ","","","","NFQ","JA",0,8,"","",0.2,0,"",0,0,"","",0,0,"",0,0,"","",0,0,"",0,0,"","",0,0,"",-3,3,"","",0.33,0,"",false,{"$nulls":19},"dRN","1863","1864",2602,0]
["08.030",{"$f":"ROW()","v":30},"FAM",{"$nulls":3},"VIC","8030a",{"$nulls":3},"8030i",1,"NFQ","","","","NFQ","JA",-5,8,"","",0.2,0,"",0,0,"","",0,0,"",0,0,"","",0,0,"",0,0,"","",0,0,"",-3,3,"","",0.33,0,"",false,{"$nulls":19},"dRN","1868","1869",2602,0]
["08.031",{"$f":"ROW()","v":31},"FAM",{"$nulls":3},"VIC","8031a",{"$nulls":3},"8031i",1,"NFQ","","","","NFQ","JA",0,8,"","",0.2,0,"",0,0,"","",0,0,"",0,0,"","",0,0,"",0,0,"","",0,0,"",-3,3,"","",0.33,0,"",false,{"$nulls":19},"dRN","1944","1945","0826",0]
["08.032",{"$f":"ROW()","v":32},"FAM",{"$nulls":3},"VIC","8032a",{"$nulls":3},"8032i",1,"NFQ","","","","NFQ","JA",0,8,"","",0.2,0,"",0,0,"","",0,0,"",0,0,"","",0,0,"",0,0,"","",0,0,"",-3,3,"","",0.33,0,"",false,{"$nulls":19},"dRN","1894","1895",2602,0]
["08.033",{"$f":"ROW()","v":33},"FAM",{"$nulls":3},"VIC","8033a",{"$nulls":3},"8033i",1,"NFQ","","","","NFQ","JA",0,8,"","",0.2,0,"",0,0,"","",0,0,"",0,0,"","",0,0,"",0,0,"","",0,0,"",-3,3,"","",0.33,0,"",false,{"$nulls":19},"dRN","1947","1948","0826",0]
["08.034",{"$f":"ROW()","v":34},"FAM",{"$nulls":3},"VIC","8034a",{"$nulls":3},"8034i",1,"NFQ",{"$nulls":3},"NFQ","JA",-10,6,"","",0,0,"",0,0,"","",0,0,"",0,0,"","",0,0,"",0,0,"","",0,0,"",-3,3,"","",0.33,0,"",false,{"$nulls":3},false,{"$nulls":3},false,{"$nulls":3},false,{"$nulls":3},true,false,false,false,"dRN","1928","1929","0826",0]
["08.035",{"$f":"ROW()","v":35},"FAM",{"$nulls":3},"VIC","8035a",{"$nulls":3},"8035i",1,"NFQ",{"$nulls":3},"NFQ","JA",-5,8,"","",0.2,0,"",0,0,"","",0,0,"",0,0,"","",0,0,"",0,0,"","",0,0,"",-3,3,"","",0.33,0,"",false,{"$nulls":3},false,{"$nulls":3},false,{"$nulls":3},false,{"$nulls":3},false,false,false,false,"dRN","1990","1869",null,0]
["08.036",{"$f":"ROW()","v":36},"FAM",{"$nulls":3},"VIC","8036a",{"$nulls":3},"8036i",1,"NFQ",{"$nulls":3},"NFQ","JA",0,10,"","",0.2,0,"",0,0,"","",0,0,"",0,0,"","",0,0,"",0,0,"","",0,0,"",-3,3,"","",0.33,0,"",false,{"$nulls":3},false,{"$nulls":3},false,{"$nulls":3},false,{"$nulls":3},false,false,false,false,"dRN",2799,"2069",2799,0]
["08.037",{"$f":"ROW()","v":37},"FAM",{"$nulls":3},"VIC","8037a",{"$nulls":3},"8037i",1,"NFQ",{"$nulls":3},"NFQ","JA",0,8,"","",0.2,0,"",0,0,"","",0,0,"",0,0,"","",0,0,"",0,0,"","",0,0,"",-3,3,"","",0.33,0,"",false,{"$nulls":3},false,{"$nulls":3},false,{"$nulls":3},false,{"$nulls":3},false,false,false,false,"dRN","2485","1945",2602,0]
["08.038",{"$f":"ROW()","v":38},"FAM",{"$nulls":3},"VIC","8038a",{"$nulls":3},"8038i",1,"NFQ",{"$nulls":3},"NFQ","JA",0,8,"","",0.2,0,"",0,0,"","",0,0,"",0,0,"","",0,0,"",0,0,"","",0,0,"",-5,3,"","",0.33,0,"",false,{"$nulls":3},false,{"$nulls":3},false,{"$nulls":3},false,{"$nulls":3},false,false,false,false,"dRN","2524","2525",2602,0]
["08.039",{"$f":"ROW()","v":39},"FAM",{"$nulls":3},"VIC","8039a",{"$nulls":3},"8039i",1,"NFQ",{"$nulls":3},"NFQ","JA",0,8,"","",0.2,0,"",0,0,"","",0,0,"",0,0,"","",0,0,"",0,0,"","",0,0,"",-3,3,"","",0.33,0,"",false,{"$nulls":3},false,{"$nulls":3},false,{"$nulls":3},false,{"$nulls":3},false,false,false,false,"dRN","2514","2516",2602,0]
["08.040",{"$f":"ROW()","v":40},"FAM",{"$nulls":3},"VIC","8040a",{"$nulls":3},"8040i",1,"NFQ",{"$nulls":3},"NFQ","JA",0,8,"","",0.2,0,"",0,0,"","",0,0,"",0,0,"","",0,0,"",0,0,"","",0,0,"",-3,3,"","",0.33,0,"",false,{"$nulls":3},false,{"$nulls":3},false,{"$nulls":3},false,{"$nulls":3},false,false,false,false,"dRN","2547","2546",2602,0]
["08.041",{"$f":"ROW()","v":41},"FAM",{"$nulls":3},"VIC","8041a",{"$nulls":3},"8041i",1,"NFQ",{"$nulls":3},"NFQ","JA",-5,8,"","",0.2,0,"",0,0,"","",0,0,"",0,0,"","",0,0,"",0,0,"","",0,0,"",-3,3,"","",0.33,0,"",false,{"$nulls":3},false,{"$nulls":3},false,{"$nulls":3},false,{"$nulls":3},false,false,false,false,"dRN","2615","1864","2602",0]
["08.042",{"$f":"ROW()","v":42},"FAM","VIC",null,null,"Cy5","8042a","8042b",null,null,"8042i",1,"NFQ","NFQ",null,null,"NFQ","JA",-10,7,"","",0.2,0,"",-10,7,"","",0.2,0,"",0,0,"","",0,0,"",0,0,"","",0,0,"",-3,3,"","",0.33,0,"",false,{"$nulls":3},false,{"$nulls":3},false,{"$nulls":3},false,{"$nulls":3},false,false,false,false,"dRN","2642","2673","2602",-5]
["09.006",{"$f":"ROW()","v":43},"FAM",{"$nulls":3},"JOE","06Bt",{"$nulls":3},"06IPC",1,"NFQ","","","","NFQ","JA",0,6,"","",0.2,0,"",0,0,"","",0,0,"",0,0,"","",0,0,"",0,0,"","",0,0,"",0,4,"","",0.5,0,"",{"$nulls":20},"dRN","0209","0877","0826",0]
["09.015",{"$f":"ROW()","v":44},"FAM",{"$nulls":3},"JOE","15NK",{"$nulls":3},"15IPC",1,"NFQ","","","","NFQ","JA",0,6,"","",0.2,0,"",0,0,"","",0,0,"",0,0,"","",0,0,"",0,0,"","",0,0,"",0,4,"","",0.5,0,"",{"$nulls":20},"dRN","0648","0647","0826",0]
["09.016",{"$f":"ROW()","v":45},"FAM",{"$nulls":3},"JOE","16MIR",{"$nulls":3},"16IPC",1,"NFQ","","","","NFQ","JA",0,6,"","",0.2,0,"",0,0,"","",0,0,"",0,0,"","",0,0,"",0,0,"","",0,0,"",0,4,"","",0.5,0,"",{"$nulls":20},"dRN","0650","0651","0826",0]
["09.017",{"$f":"ROW()","v":46},"FAM","JOE",null,null,"Cy5","1735S","17nos",null,null,"17IPC",1,"NFQ","NFQ","","","NFQ","JA",0,6,"","",0.2,0,"",0,6,"","",0.2,0,"",0,0,"","",0,0,"",0,0,"","",0,0,"",0,4,"","",0.5,0,"",{"$nulls":20},"dRN","0537","0571","0826",-2]
["09.019",{"$f":"ROW()","v":47},"FAM",{"$nulls":3},"JOE","19MON",{"$nulls":3},"19IPC",1,"NFQ","","","","NFQ","JA",0,6,"","",0.2,0,"",0,0,"","",0,0,"",0,0,"","",0,0,"",0,0,"","",0,0,"",0,4,"","",0.5,0,"",{"$nulls":20},"dRN","0653","0654","0826",0]
["09.020",{"$f":"ROW()","v":48},"FAM",{"$nulls":3},"JOE","20HRW",{"$nulls":3},"20IPC",1,"NFQ","","","","NFQ","JA",0,6,"","",0.2,0,"",0,0,"","",0,0,"",0,0,"","",0,0,"",0,0,"","",0,0,"",0,4,"","",0.5,0,"",{"$nulls":20},"dRN","0655","0656","0826",0]
["09.021",{"$f":"ROW()","v":49},"FAM",{"$nulls":3},"JOE","21SOY",{"$nulls":3},"21IPC",1,"NFQ","","","","NFQ","JA",0,6,"","",0.2,0,"",0,0,"","",0,0,"",0,0,"","",0,0,"",0,0,"","",0,0,"",0,4,"","",0.5,0,"",{"$nulls":20},"dRN","0657","0658",null,0]
["09.027",{"$f":"ROW()","v":50},"FAM",{"$nulls":3},"JOE","27MON",{"$nulls":3},"27IPC",1,"NFQ","","","","NFQ","JA",0,6,"","",0.2,0,"",0,0,"","",0,0,"",0,0,"","",0,0,"",0,0,"","",0,0,"",0,4,"","",0.33,0,"",{"$nulls":20},"dRN","0825","0824","0826",0]
["09.028",{"$f":"ROW()","v":51},"FAM",{"$nulls":3},"JOE","28SAM",{"$nulls":3},"28IPC",1,"NFQ","","","","NFQ","JA",0,6,"","",0.2,0,"",0,0,"","",0,0,"",0,0,"","",0,0,"",0,0,"","",0,0,"",0,4,"","",0.33,0,"",{"$nulls":20},"dRN","0827","0828","0826",0]
["09.029",{"$f":"ROW()","v":52},"FAM",{"$nulls":3},"JOE","29LY",{"$nulls":3},"29IPC",1,"NFQ","","","","NFQ","JA",0,7,"","",0.1,0,"",0,0,"","",0,0,"",0,0,"","",0,0,"",0,0,"","",0,0,"",0,4,"","",0.33,0,"",{"$nulls":20},"dRN","0855","0854","0826",0]
["09.030",{"$f":"ROW()","v":53},"FAM",{"$nulls":3},"JOE","30GA",{"$nulls":3},"30IPC",1,"NFQ","","","","NFQ","JA",0,6,"","",0.2,0,"",0,0,"","",0,0,"",0,0,"","",0,0,"",0,0,"","",0,0,"",0,4,"","",0.33,0,"",{"$nulls":20},"dRN","0883","0884","0826",0]
["09.031",{"$f":"ROW()","v":54},"FAM",{"$nulls":3},"JOE","31HX1",{"$nulls":3},"31IPC",1,"NFQ","","","","NFQ","JA",0,6,"","",0.2,0,"",0,0,"","",0,0,"",0,0,"","",0,0,"",0,0,"","",0,0,"",0,4,"","",0.33,0,"",{"$nulls":20},"dRN","0885","0886","0826",0]
["09.033",{"$f":"ROW()","v":55},"FAM",{"$nulls":3},"JOE","33RR2",{"$nulls":3},"33IPC",1,"NFQ","","","","NFQ","JA",0,6,"","",0.2,0.5,"",0,0,"","",0,0,"",0,0,"","",0,0,"",0,0,"","",0,0,"",0,4,"","",0.33,0,"",{"$nulls":20},"dRN","0864","0866","0826",0]
["09.034",{"$f":"ROW()","v":56},"FAM",{"$nulls":3},"VIC","34RRS",{"$nulls":3},"34IPC",1,"NFQ","","","","NFQ","JA",0,6,"","",0.2,0,"",0,0,"","",0,0,"",0,0,"","",0,0,"",0,0,"","",0,0,"",0,4,"","",0.33,0,"",{"$nulls":20},"dRN","0978","0901","0826",0]
["09.035",{"$f":"ROW()","v":57},"FAM",{"$nulls":3},"JOE","35FMV",{"$nulls":3},"35IPC",{"$f":"COUNTIF(lst7500Reporter,A57)","v":1},"NFQ","","","","NFQ","JA",0,6,"","",0.2,0,"",0,0,"","",0,0,"",0,0,"","",0,0,"",0,0,"","",0,0,"",0,4,"","",0.33,0,"",{"$nulls":20},"dRN","0902","0904","0826",0]
["09.036",{"$f":"ROW()","v":58},"FAM",{"$nulls":3},"VIC","36NOS",{"$nulls":3},"36IPC",1,"NFQ","","","","NFQ","JA",0,7,"","",0.2,0,"",0,0,"","",0,0,"",0,0,"","",0,0,"",0,0,"","",0,0,"",0,4,"","",0.25,0,"",{"$nulls":20},"dRN","0898","0758","0826",0]
["09.037",{"$f":"ROW()","v":59},"FAM",{"$nulls":3},"VIC","3735S",{"$nulls":3},"37IPC",1,"NFQ","","","","NFQ","JA",0,7,"","",0.2,0,"",0,0,"","",0,0,"",0,0,"","",0,0,"",0,0,"","",0,0,"",0,4,"","",0.25,0,"",{"$nulls":20},"dRN","0899","0901","0826",0]
["09.038",{"$f":"ROW()","v":60},"FAM",{"$nulls":3},"JOE",38890,{"$nulls":3},"38IPC",1,"NFQ","","","","NFQ","JA",-5,6,"","",0.2,0,"",0,0,"","",0,0,"",0,0,"","",0,0,"",0,0,"","",0,0,"",-3,4,"","",0.33,0,"",{"$nulls":20},"dRN","0971","0972","0826",0]
["09.039",{"$f":"ROW()","v":61},"FAM",{"$nulls":3},"JOE","39bar",{"$nulls":3},"39IPC",1,"NFQ","","","","NFQ","JA",0,6,"","",0.2,0,"",0,0,"","",0,0,"",0,0,"","",0,0,"",0,0,"","",0,0,"",0,3,"","",0.33,0,"",{"$nulls":20},"dRN","1010","1012","0826",0]
["09.040",{"$f":"ROW()","v":62},"FAM",{"$nulls":3},"JOE",40880,{"$nulls":3},"40IPC",1,"NFQ","","","","NFQ","JA",0,6,"","",0.2,0,"",0,0,"","",0,0,"",0,0,"","",0,0,"",0,0,"","",0,0,"",0,4,"","",0.33,0,"",{"$nulls":20},"dRN","1011","1013","0826",0]
["09.041",{"$f":"ROW()","v":63},"FAM",{"$nulls":3},"JOE",41327,{"$nulls":3},"41IPC",1,"NFQ","","","","NFQ","JA",0,6,"","",0.2,0,"",0,0,"","",0,0,"",0,0,"","",0,0,"",0,0,"","",0,0,"",0,4,"","",0.33,0,"",{"$nulls":20},"dRN","1023","1025","0826",0]
["09.042",{"$f":"ROW()","v":64},"FAM",{"$nulls":3},"JOE","42SPE",{"$nulls":3},"42IPC",1,"NFQ","","","","NFQ","JA",{"$error":"#N/A"},{"$error":"#N/A"},"","",{"$error":"#N/A"},{"$error":"#N/A"},"",{"$error":"#N/A"},{"$error":"#N/A"},"","",{"$error":"#N/A"},{"$error":"#N/A"},"",{"$error":"#N/A"},{"$error":"#N/A"},"","",{"$error":"#N/A"},{"$error":"#N/A"},"",{"$error":"#N/A"},{"$error":"#N/A"},"","",{"$error":"#N/A"},{"$error":"#N/A"},"",{"$error":"#N/A"},{"$error":"#N/A"},"","",{"$error":"#N/A"},{"$error":"#N/A"},"",{"$error":"#N/A"},{"$error":"#N/A"},{"$error":"#N/A"},{"$error":"#N/A"},{"$error":"#N/A"},{"$error":"#N/A"},{"$error":"#N/A"},{"$error":"#N/A"},{"$error":"#N/A"},{"$error":"#N/A"},{"$error":"#N/A"},{"$error":"#N/A"},{"$error":"#N/A"},{"$error":"#N/A"},{"$error":"#N/A"},{"$error":"#N/A"},{"$error":"#N/A"},{"$error":"#N/A"},{"$error":"#N/A"},{"$error":"#N/A"},{"$error":"#N/A"},{"$error":"#N/A"},{"$error":"#N/A"},{"$error":"#N/A"},{"$error":"#N/A"}]
["09.043",{"$f":"ROW()","v":65},"FAM",{"$nulls":3},"JOE","43-H7",{"$nulls":3},"43IPC",1,"NFQ","","","","NFQ","JA",0,6,"","",0.2,0,"",0,0,"","",0,0,"",0,0,"","",0,0,"",0,0,"","",0,0,"",0,4,"","",0.33,0,"",{"$nulls":20},"dRN","1071","1069","0826",0]
["09.044",{"$f":"ROW()","v":66},"FAM",{"$nulls":3},"JOE","44DP3",{"$nulls":3},"44IPC",1,"NFQ","","","","NFQ","JA",0,6,"","",0.2,0,"",0,0,"","",0,0,"",0,0,"","",0,0,"",0,0,"","",0,0,"",0,4,"","",0.33,0,"",{"$nulls":8},false,{"$nulls":3},true,{"$nulls":7},"dRN","1084","1086","0826",0]
["09.045",{"$f":"ROW()","v":67},"FAM",{"$nulls":3},"JOE","45noD",{"$nulls":3},"45IPC",1,"NFQ","","","","NFQ","JA",0,6,"","",0.2,0,"",0,0,"","",0,0,"",0,0,"","",0,0,"",0,0,"","",0,0,"",0,4,"","",0.33,0,"",{"$nulls":8},false,{"$nulls":3},true,{"$nulls":7},"dRN","1063","1041","0826",0]
["09.046",{"$f":"ROW()","v":68},"FAM",{"$nulls":3},"JOE","46nia",{"$nulls":3},"46IPC",1,"NFQ","","","","NFQ","JA",0,7,"","",0.2,0,"",0,0,"","",0,0,"",0,0,"","",0,0,"",0,0,"","",0,0,"",0,4,"","",0.33,0,"",{"$nulls":8},false,{"$nulls":3},true,{"$nulls":7},"dRN","1091","1093","0826",0]
["09.047",{"$f":"ROW()","v":69},"FAM",{"$nulls":3},"VIC","9047a",{"$nulls":3},"9047i",1,"NFQ","","","","NFQ","JA",-3,7,"","",0.2,0,"",0,0,"","",0,0,"",0,0,"","",0,0,"",0,0,"","",0,0,"",-3,4,"","",0.33,0,"",false,{"$nulls":7},false,{"$nulls":3},true,{"$nulls":7},"dRN","1925","1926","0826",0]
["09.048",{"$f":"ROW()","v":70},"FAM",{"$nulls":3},"VIC","48T45",{"$nulls":3},"48IPC",1,"NFQ","","","","NFQ","JA",0,7,"","",0.15,0,"",0,0,"","",0,0,"",0,0,"","",0,0,"",0,0,"","",0,0,"",0,3,"","",0.33,0,"",{"$nulls":8},false,{"$nulls":3},true,{"$nulls":7},"dRN","1131","1133","0826",0]
["09.050",{"$f":"ROW()","v":71},"FAM","JOE",null,null,"Cy5","5035S","50NOS",null,null,"50IPC",1,"NFQ","NFQ","","","NFQ","JA",-10,7,"","",0.2,0,"",-10,7,"","",0.2,0,"",0,0,"","",0,0,"",0,0,"","",0,0,"",-2,4,"","",0.33,0,"",{"$nulls":20},"dRN","1121","1122","0826",0]
["09.052",{"$f":"ROW()","v":72},"FAM",{"$nulls":3},"VIC","52vip",{"$nulls":3},"52IPC",1,"NFQ","","","","NFQ","JA",0,7,"","",0.2,0,"",0,0,"","",0,0,"",0,0,"","",0,0,"",0,0,"","",0,0,"",0,5,"","",0.33,0,"",{"$nulls":4},false,{"$nulls":3},false,{"$nulls":3},true,{"$nulls":7},"dRN","1157","1158","0826",0]
["09.053",{"$f":"ROW()","v":73},"FAM",{"$nulls":3},"VIC",53981,{"$nulls":3},"53IPC",1,"NFQ","","","","NFQ","JA",0,6,"","",0.2,0,"",0,0,"","",0,0,"",0,0,"","",0,0,"",0,0,"","",0,0,"",0,4,"","",0.33,0,"",{"$nulls":4},false,{"$nulls":3},false,{"$nulls":3},true,{"$nulls":7},"dRN","1161","1163","0826",0]
["09.055",{"$f":"ROW()","v":74},"FAM",{"$nulls":3},"VIC","55KMD",{"$nulls":3},"55IPC",1,"NFQ","","","","NFQ","JA",0,6,"","",0.2,0,"",0,0,"","",0,0,"",0,0,"","",0,0,"",0,0,"","",0,0,"",0,3,"","",0.33,0,"",{"$nulls":4},false,{"$nulls":3},false,{"$nulls":3},true,{"$nulls":7},"dRN","1352","1354","0826",0]
["09.061",{"$f":"ROW()","v":75},"FAM","JOE","TAMRA",null,"Cy5","6135S","61NOS","61FMV",null,"61IPC",1,"NFQ","BHQ1","BHQ2",null,"BHQ2","JA",-10,8,"","",0.2,0,"",-10,8,"","",0.2,0,"",-10,9,"","",0.2,0,"",0,0,"","",0,0,"",-2,3,"","",0.33,0,"",{"$nulls":20},"dRN","1222",1223,"0892",-4]
["09.063",{"$f":"ROW()","v":76},"FAM",{"$nulls":3},"VIC",63127,{"$nulls":3},"63IPC",1,"NFQ","","","","NFQ","JA",0,8,"","",0.2,0,"",0,0,"","",0,0,"",0,0,"","",0,0,"",0,0,"","",0,0,"",0,3,"","",0.33,0,"",{"$nulls":4},false,{"$nulls":3},false,{"$nulls":3},true,{"$nulls":7},"dRN","1216","1219","0826",0]
["09.068",{"$f":"ROW()","v":77},"FAM",{"$nulls":3},"VIC","68T25",{"$nulls":3},"68IPC",1,"NFQ",{"$nulls":3},"NFQ","Nein",0,6,"","",0.2,0,"",0,0,"","",0,0,"",0,0,"","",0,0,"",0,0,"","",0,0,"",0,4,"","",0.25,0,"",false,{"$nulls":3},false,{"$nulls":3},false,{"$nulls":3},false,{"$nulls":3},false,false,false,false,"dRN","1247","1248","0826",0]
["09.083",{"$f":"ROW()","v":78},"FAM","VIC",null,null,"Cy5","83BAR","83PAT",null,null,"83IPC",1,"NFQ","NFQ","","","NFQ","JA",0,6,"","",0.2,0,"",0,7,"","",0.15,0,"",0,0,"","",0,0,"",0,0,"","",0,0,"",-3,3,"","",0.33,0,"",{"$nulls":20},"dRN","1572","1573","0826",0]
["09.085",{"$f":"ROW()","v":79},"FAM",{"$nulls":3},"VIC","85lec",{"$nulls":3},"85IPC",1,"TAMRA","","","","NFQ","JA",0,8,"","",0.2,0,"",0,0,"","",0,0,"",0,0,"","",0,0,"",0,0,"","",0,0,"",0,3,"","",0.33,0,"",{"$nulls":4},false,{"$nulls":3},false,{"$nulls":3},true,{"$nulls":7},"dRN","1610","0901",null,0]
["09.091",{"$f":"ROW()","v":80},"FAM",{"$nulls":3},"VIC",91874,{"$nulls":3},"91IPC",1,"NFQ","","","","NFQ","JA",0,5,"","",0.2,0,"",0,0,"","",0,0,"",0,0,"","",0,0,"",0,0,"","",0,0,"",0,4,"","",0.33,0,"",false,{"$nulls":3},false,{"$nulls":3},false,{"$nulls":3},true,{"$nulls":7},"dRN","1825","1827","0826",0]
["09.092",{"$f":"ROW()","v":81},"VIC","FAM",null,null,"Cy5","9092a","9092b",null,null,"9092i",1,"NFQ","NFQ","","","NFQ","JA",-11,5,"","",0.2,0,"",-11,5,"","",0.2,0,"",0,0,"","",0,0,"",0,0,"","",0,0,"",-3,3,"","",0.7,0,"",false,{"$nulls":19},"dRN","1876","1877","0826",-11]
["09.095",{"$f":"ROW()","v":82},"FAM",{"$nulls":3},"VIC","9095a",{"$nulls":3},"9095i",1,"NFQ","","","","NFQ","JA",0,5,"","",0.2,0,"",0,0,"","",0,0,"",0,0,"","",0,0,"",0,0,"","",0,0,"",0,3,"","",0.33,0,"",false,{"$nulls":19},"dRN","1859","1860","0826",0]
["09.099",{"$f":"ROW()","v":83},"FAM",{"$nulls":3},"VIC","9099a",{"$nulls":3},"9099i",1,"NFQ",{"$nulls":3},"NFQ","JA",-3,6,"","",0.2,0,"",0,0,"","",0,0,"",0,0,"","",0,0,"",0,0,"","",0,0,"",-3,4,"","",0.33,0,"",false,{"$nulls":3},false,{"$nulls":3},false,{"$nulls":3},false,{"$nulls":3},false,false,false,false,"dRN","1964","1354","0826",0]
["09.102",{"$f":"ROW()","v":84},"FAM",{"$nulls":3},"VIC","9102a",{"$nulls":3},"9102i",1,"NFQ",{"$nulls":3},"NFQ","JA",0,6,"","",0.2,0,"",0,0,"","",0,0,"",0,0,"","",0,0,"",0,0,"","",0,0,"",-3,3,"","",0.33,0,"",false,{"$nulls":3},false,{"$nulls":3},false,{"$nulls":3},false,{"$nulls":3},false,false,false,false,"dRN","2607","2608","2602",0]
["09.103",{"$f":"ROW()","v":85},"FAM",{"$nulls":3},"VIC","9103a",{"$nulls":3},"9103i",1,"NFQ",{"$nulls":3},"NFQ","JA",0,6,"","",0.2,0,"",0,0,"","",0,0,"",0,0,"","",0,0,"",0,0,"","",0,0,"",-3,4,"","",0.33,0,"",false,{"$nulls":3},false,{"$nulls":3},false,{"$nulls":3},false,{"$nulls":3},false,false,false,false,"dRN","1938","1939","0826",0]
["09.106",{"$f":"ROW()","v":86},"FAM",{"$nulls":3},"VIC","9106a",{"$nulls":3},"9106i",1,"NFQ",{"$nulls":3},"NFQ","JA",0,6,"","",0.2,0,"",0,0,"","",0,0,"",0,0,"","",0,0,"",0,0,"","",0,0,"",-3,4,"","",0.33,0,"",false,{"$nulls":3},false,{"$nulls":3},false,{"$nulls":3},false,{"$nulls":3},false,false,false,false,"dRN","2019","2020","0826",0]
["09.107",{"$f":"ROW()","v":87},"FAM",{"$nulls":3},"VIC","9107a",{"$nulls":3},"9107i",1,"NFQ",{"$nulls":3},"NFQ","JA",0,6,"","",0.2,0,"",0,0,"","",0,0,"",0,0,"","",0,0,"",0,0,"","",0,0,"",-3,4,"","",0.33,0,"",false,{"$nulls":3},false,{"$nulls":3},false,{"$nulls":3},false,{"$nulls":3},false,false,false,false,"dRN","1994","1995","0826",0]
["09.110",{"$f":"ROW()","v":88},"FAM",{"$nulls":3},"VIC","9110a",{"$nulls":3},"9110i",1,"NFQ",{"$nulls":3},"NFQ","JA",-5,8,"","",0.2,0,"",0,0,"","",0,0,"",0,0,"","",0,0,"",0,0,"","",0,0,"",-3,3,"","",0.33,0,"",false,{"$nulls":3},false,{"$nulls":3},false,{"$nulls":3},false,{"$nulls":3},false,false,false,false,"dRN","2032","2033","0826",0]
["09.111",{"$f":"ROW()","v":89},"FAM",{"$nulls":3},"VIC","9111a",{"$nulls":3},"9111i",{"$f":"COUNTIF(lst7500Reporter,A89)","v":1},"NFQ",{"$nulls":3},"NFQ","JA",0,6,"","",0.15,0,"",0,0,"","",0,0,"",0,0,"","",0,0,"",0,0,"","",0,0,"",-3,4,"","",0.33,0,"",false,{"$nulls":3},false,{"$nulls":3},false,{"$nulls":3},false,{"$nulls":3},false,false,false,false,"dRN","1998","2000","0826",0]
["09.115",{"$f":"ROW()","v":90},"FAM",{"$nulls":3},"VIC","9115a",{"$nulls":3},"9115i",1,"NFQ",{"$nulls":3},"NFQ","JA",0,6,"","",0.2,0,"",0,0,"","",0,0,"",0,0,"","",0,0,"",0,0,"","",0,0,"",-3,4,"","",0.33,0,"",false,{"$nulls":3},false,{"$nulls":3},false,{"$nulls":3},false,{"$nulls":3},false,false,false,false,"dRN","2035",2602,"0658",0]
["09.116",{"$f":"ROW()","v":91},"FAM",{"$nulls":3},"VIC","9116a",{"$nulls":3},"9116i",1,"NFQ",{"$nulls":3},"NFQ","JA",0,9,"","",0.15,0,"",0,0,"","",0,0,"",0,0,"","",0,0,"",0,0,"","",0,0,"",-3,3,"","",0.33,0,"",false,{"$nulls":3},false,{"$nulls":3},false,{"$nulls":3},false,{"$nulls":3},false,false,false,false,"dRN","2532","2533",2602,0]
["09.117",{"$f":"ROW()","v":92},"FAM",{"$nulls":3},"VIC","9117a",{"$nulls":3},"9117i",1,"NFQ",{"$nulls":3},"NFQ","JA",0,9,"","",0.15,0,"",0,0,"","",0,0,"",0,0,"","",0,0,"",0,0,"","",0,0,"",-3,3,"","",0.33,0,"",false,{"$nulls":3},false,{"$nulls":3},false,{"$nulls":3},false,{"$nulls":3},false,false,false,false,"dRN","2531","0654",2602,0]
["09.118",{"$f":"ROW()","v":93},"FAM","Cy5",null,null,"VIC","9118a","9118b",null,null,"9118i",1,"NFQ","NFQ",null,null,"NFQ","Nein",-11,5,"","",0.2,0,"",-11,5,"","",0.2,0,"",0,0,"","",0,0,"",0,0,"","",0,0,"",-3,3,"","",0.33,0,"",false,{"$nulls":3},false,{"$nulls":3},false,{"$nulls":3},false,{"$nulls":3},false,false,false,false,"dRN","2075","2076",2602,11]
["09.119",{"$f":"ROW()","v":94},"FAM",{"$nulls":3},"VIC","9119a",{"$nulls":3},"9119i",1,"NFQ",{"$nulls":3},"NFQ","JA",0,6,"","",0.15,0,"",0,0,"","",0,0,"",0,0,"","",0,0,"",0,0,"","",0,0,"",-3,3,"","",0.33,0,"",false,{"$nulls":3},false,{"$nulls":3},false,{"$nulls":3},false,{"$nulls":3},false,false,false,false,"dRN","2484","2065",2602,0]
["09.120",{"$f":"ROW()","v":95},"FAM",{"$nulls":3},"VIC","9120a",{"$nulls":3},"9120i",1,"NFQ",{"$nulls":3},"NFQ","JA",-5,6,"","",0.2,0,"",0,0,"","",0,0,"",0,0,"","",0,0,"",0,0,"","",0,0,"",-3,3,"","",0.33,0,"",false,{"$nulls":3},false,{"$nulls":3},false,{"$nulls":3},false,{"$nulls":3},false,false,false,false,"dRN","2076","2077",2602,0]
["09.121",{"$f":"ROW()","v":96},"FAM","JOE","TAMRA",null,"Cy5","9121a","9121b","9121c",null,"9121i",1,"NFQ","NFQ","NFQ",null,"NFQ","JA",-10,6,"","",0.2,0,"",-10,6,"","",0.2,0,"",-10,6,"","",0.2,0,"",0,0,"","",0,0,"",-2,3,"","",0.33,0,"",false,{"$nulls":3},false,{"$nulls":3},false,{"$nulls":3},false,{"$nulls":3},false,false,false,false,"dRN","2692","2694","2602",10]
["09.124",{"$f":"ROW()","v":97},"FAM",{"$nulls":3},"VIC","9124a",{"$nulls":3},"9124i",1,"NFQ",{"$nulls":3},"NFQ","JA",-10,8,0,0,0.2,0,0,0,{"$nulls":6},0,{"$nulls":6},0,{"$nulls":6},-3,3,0,0,0.33,0,0,false,null,null,0,{"$nulls":12},false,{"$nulls":3},"dRN",2718,2602,2602,0]
["09.125",{"$f":"ROW()","v":98},"FAM",{"$nulls":3},"VIC","9125a",{"$nulls":3},"9125i",1,"NFQ",{"$nulls":3},"NFQ","JA",-10,8,0,0,0.2,0,0,0,{"$nulls":6},0,{"$nulls":6},0,{"$nulls":6},-3,3,0,0,0.33,0,0,false,null,null,0,{"$nulls":12},false,{"$nulls":3},"dRN",2746,2747,2602,0]
["09.126",{"$f":"ROW()","v":99},"FAM","JOE","TAMRA",null,"Cy5","9126a","9126b","9126c",null,"9126i",1,"NFQ","NFQ","NFQ",null,"NFQ","JA",-10,8,0,0,0.2,0,0,-10,8,0,0,0.2,0,0,-10,9,0,0,0.2,0,0,0,{"$nulls":6},-3,3,0,0,0.33,0,0,false,null,null,0,false,null,null,0,false,null,null,0,{"$nulls":4},false,false,false,null,"dRN",2737,2742,2602,10]
["09.127",{"$f":"ROW()","v":100},"FAM",{"$nulls":3},"VIC","9127a",{"$nulls":3},"9127i",1,"NFQ",{"$nulls":3},"NFQ","JA",-10,8,0,0,0.2,0,0,0,{"$nulls":6},0,{"$nulls":6},0,{"$nulls":6},-3,3,0,0,0.33,0,0,false,null,null,0,{"$nulls":12},false,{"$nulls":3},"dRN",2752,2753,2602,0]
["09.131",{"$f":"ROW()","v":101},"FAM","VIC",null,null,"Cy5","9131a","9131b",null,null,"9131i",1,"NFQ","NFQ",null,null,"NFQ","JA",-10,7,0,0,0.2,0,0,-10,7,0,0,0.2,0,0,0,{"$nulls":6},0,{"$nulls":6},-3,3,0,0,0.33,0,0,false,null,null,0,false,null,null,0,{"$nulls":8},false,false,null,null,"dRN",2807,2808,2602,12]
["09.133",{"$f":"ROW()","v":102},{"$nulls":10},1,{"$nulls":5},"Nein",0,{"$nulls":6},0,{"$nulls":6},0,{"$nulls":6},0,{"$nulls":6},0,{"$nulls":26},"dRN",2765,2766,2602,0]
["09.135",{"$f":"ROW()","v":103},"FAM","JOE","TAMRA",null,"Cy5","9135a","9135b","9135c",null,"9135i",1,"NFQ","NFQ","NFQ",null,"NFQ","JA",-10,8,0,0,0.2,0,0,-10,8,0,0,0.2,0,0,-10,8,0,0,0.2,0,0,0,{"$nulls":6},-3,3,0,0,0.33,0,0,false,null,null,0,false,null,null,0,false,null,null,0,{"$nulls":4},false,false,false,null,"dRN",2778,2780,2602,12]
["09.136",{"$f":"ROW()","v":104},"FAM","JOE","TAMRA",null,"Cy5","9136a","9136b","9136c",null,"9136i",1,"NFQ","NFQ","NFQ",null,"NFQ","JA",-10,8,0,0,0.2,0,0,-10,8,0,0,0.2,0,0,-10,9,0,0,0.2,0,0,0,{"$nulls":6},-3,3,0,0,0,0,0,false,null,null,0,false,null,null,0,false,null,null,0,{"$nulls":4},false,false,false,null,"dRN",2842,2844,2602,10,{"$nulls":6},true]
["09.138",{"$f":"ROW()","v":105},"FAM",{"$nulls":3},"VIC","9138a",{"$nulls":3},"9138i",1,"NFQ",{"$nulls":3},"NFQ","JA",-10,8,0,0,0.2,0,0,0,{"$nulls":6},0,{"$nulls":6},0,{"$nulls":6},-3,3,0,0,0.33,0,0,false,null,null,0,{"$nulls":12},false,{"$nulls":3},"dRN",2856,2753,2602,0,{"$nulls":6},false]
["09.139",{"$f":"ROW()","v":106},{"$nulls":10},1,{"$nulls":5},"Nein",0,{"$nulls":6},0,{"$nulls":6},0,{"$nulls":6},0,{"$nulls":6},0,{"$nulls":26},"dRN",2860,2861,2602,0]
["11.001",{"$f":"ROW()","v":107},"FAM",{"$nulls":3},"VIC","1101a",{"$nulls":3},"1101i",1,"NFQ",{"$nulls":3},"NFQ","JA",-10,8,0,0,0.2,0,0,0,{"$nulls":6},0,{"$nulls":6},0,{"$nulls":6},-3,3,0,0,0.33,0,0,false,null,null,0,{"$nulls":12},false,{"$nulls":3},"dRN",2802,2602,2803,0]
["09.144",{"$f":"ROW()","v":108},"FAM",{"$nulls":3},"VIC","9144a",{"$nulls":3},"9144i",{"$f":"COUNTIF(lst7500Reporter,A108)","v":1},"NFQ",{"$nulls":3},"NFQ","JA",-10,8,0,0,0.2,0,0,{"$nulls":21},-3,3,0,0,0.33,0,0,false,null,null,0,{"$nulls":12},false,{"$nulls":3},"dRN",2946,2948,2602,0,{"$nulls":6},false]
["09.143",{"$f":"ROW()","v":109},"FAM",{"$nulls":3},"VIC","9143a",{"$nulls":3},"9143i",1,"NFQ",{"$nulls":3},"NFQ","JA",-10,7,0,0,0.2,0,0,{"$nulls":21},-3,3,0,0,0.33,0,0,false,null,null,0,{"$nulls":12},false,{"$nulls":3},"dRN",2953,2954,2602,0,{"$nulls":6},false]
["09.141",{"$f":"ROW()","v":110},"FAM",{"$nulls":3},"VIC","9141a",{"$nulls":3},"9141i",1,"NFQ",{"$nulls":3},"NFQ","JA",-10,8,0,0,0.2,0,0,{"$nulls":21},-3,3,0,0,0.33,0,0,false,null,null,0,{"$nulls":12},false,{"$nulls":3},"dRN",2985,2986,2602,0,{"$nulls":6},false]
["09.142",{"$f":"ROW()","v":111},"FAM",{"$nulls":3},"VIC","9142a",{"$nulls":3},"9142i",1,"NFQ",{"$nulls":3},"NFQ","JA",-10,8,0,0,0.2,0,0,{"$nulls":21},-3,3,0,0,0.33,0,0,false,null,null,0,{"$nulls":12},false,{"$nulls":3},"dRN",2971,901,2602,0,{"$nulls":6},false]
["09.140",{"$f":"ROW()","v":112},"FAM",{"$nulls":3},"VIC","9140a",{"$nulls":3},"9140i",1,"NFQ",{"$nulls":3},"NFQ","JA",-10,8,0,0,0.2,0,0,{"$nulls":21},-3,3,0,0,0.2,0,0,false,null,null,0,{"$nulls":12},false,{"$nulls":3},"dRN",2883,2602,901,0,{"$nulls":6},false]
["09.146",{"$f":"ROW()","v":113},"FAM",{"$nulls":3},"VIC","9146a",{"$nulls":3},"9146i",1,"NFQ",{"$nulls":3},"NFQ","JA",-10,8,0,0,0.2,0,0,{"$nulls":21},-3,3,0,0,0.33,0,0,false,null,null,0,{"$nulls":12},false,{"$nulls":3},"dRN",2965,2966,2602,0,{"$nulls":6},false]
["09.147",{"$f":"ROW()","v":114},"FAM",{"$nulls":3},"VIC","9147a",{"$nulls":3},"9147i",{"$f":"COUNTIF(lst7500Reporter,A114)","v":1},"NFQ",{"$nulls":3},"NFQ","JA",-10,8,0,0,0.2,0,0,{"$nulls":21},-3,3,0,0,0.33,0,0,false,null,null,0,{"$nulls":12},false,{"$nulls":3},"dRN",3036,3037,2602,0,{"$nulls":6},false]
["09.152",{"$f":"ROW()","v":115},"FAM",{"$nulls":3},"VIC","9152a",{"$nulls":3},"9152i",1,"NFQ",{"$nulls":3},"NFQ","JA",-10,8,0,0,0.2,0,0,{"$nulls":21},-3,3,0,0,0.33,0,0,false,null,null,0,{"$nulls":12},false,{"$nulls":3},"dRN",3049,1219,2602,0,{"$nulls":6},false]
["09.156",{"$f":"ROW()","v":116},"FAM",{"$nulls":3},"VIC","9156a",{"$nulls":3},"9156i",1,"NFQ",{"$nulls":3},"NFQ","JA",-10,8,0,0,0.2,0,0,{"$nulls":21},-3,3,0,0,0.33,0,0,false,null,null,0,{"$nulls":12},false,{"$nulls":3},"dRN",3053,1086,2602,0,{"$nulls":6},false]
["09.155",{"$f":"ROW()","v":117},"FAM",{"$nulls":3},"VIC","9155a",{"$nulls":3},"9155i",1,"NFQ",{"$nulls":3},"NFQ","JA",-10,8,0,0,0.2,0,0,{"$nulls":21},-3,3,0,0,0.33,0,0,false,null,null,0,{"$nulls":12},false,{"$nulls":3},"dRN",3078,3079,2602,0,{"$nulls":6},false]
["09.145",{"$f":"ROW()","v":118},{"$nulls":10},1,{"$nulls":5},"Nein",{"$nulls":55},"dRN",2974,2975,3043,0]
["09.148",{"$f":"ROW()","v":119},{"$nulls":10},1,{"$nulls":5},"Nein",{"$nulls":55},"dRN",3117,3118,3043,0]
["09.158",{"$f":"ROW()","v":120},"FAM",{"$nulls":3},"VIC","9158a",{"$nulls":3},"9158i",{"$f":"COUNTIF(lst7500Reporter,A120)","v":1},"NFQ",{"$nulls":3},"NFQ","JA",-11,8,0,0,0.2,0,0,{"$nulls":21},-3,3,0,0,0.33,0,0,false,null,null,0,{"$nulls":12},false,{"$nulls":3},"dRN",3088,3089,2602,0,{"$nulls":6},false]
["08.043",{"$f":"ROW()","v":121},"FAM",{"$nulls":3},"VIC","8043a",{"$nulls":3},"8043i",1,"NFQ",{"$nulls":3},"NFQ","JA",-10,4.5,0,0,0,0,0,{"$nulls":21},-3,3,0,0,0.33,0,0,false,null,null,0,{"$nulls":12},true,{"$nulls":3},"dRN",2870,1869,2602,0,{"$nulls":6},false]
["09.159",{"$f":"ROW()","v":122},"FAM",{"$nulls":3},"VIC","9159a",{"$nulls":3},"9159i",1,"NFQ",{"$nulls":3},"NFQ","JA",-10,8,0,0,0.2,0,0,{"$nulls":21},-3,3,0,0,0.33,0,0,false,null,null,0,{"$nulls":12},false,{"$nulls":3},"dRN",3135,2076,2602,0,{"$nulls":6},false]
["09.154",{"$f":"ROW()","v":123},"FAM",{"$nulls":3},"VIC","9154a",{"$nulls":3},"9154i",1,"NFQ",{"$nulls":3},"NFQ","JA",-10,8,0,0,0.2,0,0,{"$nulls":21},-3,3,0,0,0.33,0,0,false,null,null,0,{"$nulls":12},false,{"$nulls":3},"dRN",3178,854,2602,0,{"$nulls":6},false]
["09.161",{"$f":"ROW()","v":124},"FAM",{"$nulls":3},"VIC","9161a",{"$nulls":3},"9161i",1,"NFQ",{"$nulls":3},"NFQ","JA",-10,8,0,0,0.2,0,0,{"$nulls":21},-3,3,0,0,0.33,0,0,false,null,null,0,{"$nulls":12},false,{"$nulls":3},"dRN",3153,1012,2602,0,{"$nulls":6},false]
["09.162",{"$f":"ROW()","v":125},"FAM",{"$nulls":3},"VIC","9162a",{"$nulls":3},"9162i",1,"NFQ",{"$nulls":3},"NFQ","JA",-10,8,0,0,0.2,0,0,{"$nulls":21},-3,3,0,0,0.33,0,0,false,null,null,0,{"$nulls":12},false,{"$nulls":3},"dRN",3147,3089,2602,0,{"$nulls":6},false]
["09.163",{"$f":"ROW()","v":126},"FAM",{"$nulls":3},"VIC","9163a",{"$nulls":3},"9163i",{"$f":"COUNTIF(lst7500Reporter,A126)","v":1},"NFQ",{"$nulls":3},"NFQ","JA",-10,8,0,0,0.2,0,0,{"$nulls":21},-3,3,0,0,0.33,0,0,false,null,null,0,{"$nulls":12},false,{"$nulls":3},"dRN",3141,2076,2602,0,{"$nulls":6},false]
["09.164",{"$f":"ROW()","v":127},"FAM",{"$nulls":3},"VIC","9164a",{"$nulls":3},"9164i",{"$f":"COUNTIF(lst7500Reporter,A127)","v":1},"NFQ",{"$nulls":3},"NFQ","JA",-10,8,0,0,0.2,0,0,{"$nulls":21},-3,3,0,0,0.33,0,0,false,null,null,0,{"$nulls":12},false,{"$nulls":3},"dRN",3158,866,2602,0,{"$nulls":6},false]
["11.002",{"$f":"ROW()","v":128},"FAM",{"$nulls":3},"VIC","1102a",{"$nulls":3},"1102i",1,"NFQ",{"$nulls":3},"NFQ","JA",-10,8,0,0,0.2,0,0,0,{"$nulls":6},0,{"$nulls":6},0,{"$nulls":6},-3,3,0,0,0.33,0,0,false,null,null,0,{"$nulls":12},false,{"$nulls":3},"dRN",2826,2803,2602,0]
[]
["tab7700Reporter"]
[null,null,"Reporter Dye",{"$nulls":4},"Name Detektor"]
["Modul","Zeile",1,2,3,4,"IPC",1,2,3,4,"IPC"]
["08.020",{"$f":"ROW()","v":133},"FAM",{"$nulls":3},"VIC","20HOR",{"$nulls":3},"20IPH",{"$f":"COUNTIF(lst7700Reporter,A133)","v":1}]
["09.006",{"$f":"ROW()","v":134},"FAM",{"$nulls":3},"VIC","06Bt",{"$nulls":3},"06IPC",1]
["09.015",{"$f":"ROW()","v":135},"FAM",{"$nulls":3},"VIC","15NK",{"$nulls":3},"15IPC",1]
["09.016",{"$f":"ROW()","v":136},"FAM",{"$nulls":3},"VIC","16MIR",{"$nulls":3},"16IPC",1]
["09.019",{"$f":"ROW()","v":137},"FAM",{"$nulls":3},"VIC","19MON",{"$nulls":3},"19IPC",1]
["09.020",{"$f":"ROW()","v":138},"FAM",{"$nulls":3},"VIC","20HRW",{"$nulls":3},"20IPC",1]
["09.021",{"$f":"ROW()","v":139},"FAM",{"$nulls":3},"VIC","21SOY",{"$nulls":3},"21IPC",1]
["09.027",{"$f":"ROW()","v":140},"FAM",{"$nulls":3},"VIC","27MON",{"$nulls":3},"27IPC",1]
["09.028",{"$f":"ROW()","v":141},"FAM",{"$nulls":3},"VIC","28SAM",{"$nulls":3},"28IPC",1]
["09.029",{"$f":"ROW()","v":142},"FAM",{"$nulls":3},"VIC","29LY",{"$nulls":3},"29IPC",1]
["09.030",{"$f":"ROW()","v":143},"FAM",{"$nulls":3},"VIC","30GA",{"$nulls":3},"30IPC",1]
["09.031",{"$f":"ROW()","v":144},"FAM",{"$nulls":3},"VIC","31HX1",{"$nulls":3},"31IPC",1]
["09.033",{"$f":"ROW()","v":145},"FAM",{"$nulls":3},"VIC","33RR2",{"$nulls":3},"33IPC",1]
["09.034",{"$f":"ROW()","v":146},"FAM",{"$nulls":3},"VIC","34RRS",{"$nulls":3},"34IPC",1]
["09.035",{"$f":"ROW()","v":147},"FAM",{"$nulls":3},"VIC","35FMV",{"$nulls":3},"35IPC",1]
["09.036",{"$f":"ROW()","v":148},"FAM",{"$nulls":3},"VIC","36NOS",{"$nulls":3},"36IPC",1]
["09.037",{"$f":"ROW()","v":149},"FAM",{"$nulls":3},"VIC","3735S",{"$nulls":3},"37IPC",1]
["09.038",{"$f":"ROW()","v":150},"FAM",{"$nulls":3},"VIC",38890,{"$nulls":3},"38IPC",1]
["09.039",{"$f":"ROW()","v":151},"FAM",{"$nulls":3},"VIC","39bar",{"$nulls":3},"39IPC",1]
["09.040",{"$f":"ROW()","v":152},"FAM",{"$nulls":3},"VIC",40880,{"$nulls":3},"40IPC",1]
["09.041",{"$f":"ROW()","v":153},"FAM",{"$nulls":3},"VIC",41327,{"$nulls":3},"41IPC",1]
["09.042",{"$f":"ROW()","v":154},"FAM",{"$nulls":4},"42SPE",{"$nulls":3},"42IPC",1]
["09.043",{"$f":"ROW()","v":155},"FAM",{"$nulls":3},"VIC","43-H7",{"$nulls":3},"43IPC",1]
["09.044",{"$f":"ROW()","v":156},"FAM",{"$nulls":3},"VIC","44DP3",{"$nulls":3},"44IPC",1]
["09.045",{"$f":"ROW()","v":157},"FAM",{"$nulls":3},"VIC","45noD",{"$nulls":3},"45IPC",1]
["09.046",{"$f":"ROW()","v":158},"FAM",{"$nulls":3},"VIC","46nia",{"$nulls":3},"46IPC",1]
["09.048",{"$f":"ROW()","v":159},"FAM",{"$nulls":3},"VIC","48T45",{"$nulls":3},"48IPC",1]
["09.052",{"$f":"ROW()","v":160},"FAM",{"$nulls":3},"VIC","52vip",{"$nulls":3},"52IPC",1]
["09.053",{"$f":"ROW()","v":161},"FAM",{"$nulls":3},"VIC",53981,{"$nulls":3},"53IPC",1]
["09.055",{"$f":"ROW()","v":162},"FAM",{"$nulls":3},"VIC","55KMD",{"$nulls":3},"55IPC",1]
["09.063",{"$f":"ROW()","v":163},"FAM",{"$nulls":3},"VIC",63127,{"$nulls":3},"63IPC",1]
[]
["tab7900Reporter",{"$nulls":18},{"$f":"COLUMN()","v":20},{"$f":"COLUMN()","v":21},{"$f":"COLUMN()","v":22},{"$f":"COLUMN()","v":23},{"$f":"COLUMN()","v":24},{"$f":"COLUMN()","v":25},{"$f":"COLUMN()","v":26},{"$f":"COLUMN()","v":27},{"$f":"COLUMN()","v":28},{"$f":"COLUMN()","v":29},{"$f":"COLUMN()","v":30},{"$f":"COLUMN()","v":31},{"$f":"COLUMN()","v":32},{"$f":"COLUMN()","v":33},{"$f":"COLUMN()","v":34},{"$f":"COLUMN()","v":35},{"$f":"COLUMN()","v":36},{"$f":"COLUMN()","v":37},{"$f":"COLUMN()","v":38},{"$f":"COLUMN()","v":39},{"$f":"COLUMN()","v":40},{"$f":"COLUMN()","v":41},{"$f":"COLUMN()","v":42},{"$f":"COLUMN()","v":43},{"$f":"COLUMN()","v":44},{"$f":"COLUMN()","v":45},{"$f":"COLUMN()","v":46},{"$f":"COLUMN()","v":47},{"$f":"COLUMN()","v":48},{"$f":"COLUMN()","v":49},{"$f":"COLUMN()","v":50},{"$f":"COLUMN()","v":51},{"$f":"COLUMN()","v":52},{"$f":"COLUMN()","v":53},{"$f":"COLUMN()","v":54},{"$f":"COLUMN()","v":55},{"$f":"COLUMN()","v":56},{"$f":"COLUMN()","v":57},{"$f":"COLUMN()","v":58},{"$f":"COLUMN()","v":59},{"$f":"COLUMN()","v":60},{"$f":"COLUMN()","v":61},{"$f":"COLUMN()","v":62},{"$f":"COLUMN()","v":63},{"$f":"COLUMN()","v":64},{"$f":"COLUMN()","v":65},{"$f":"COLUMN()","v":66},{"$f":"COLUMN()","v":67},{"$f":"COLUMN()","v":68},{"$f":"COLUMN()","v":69},{"$f":"COLUMN()","v":70},{"$f":"COLUMN()","v":71},{"$f":"COLUMN()","v":72},{"$f":"COLUMN()","v":73},{"$f":"COLUMN()","v":74},{"$f":"COLUMN()","v":75},{"$f":"COLUMN()","v":76},{"$f":"COLUMN()","v":77},{"$f":"COLUMN()","v":78},{"$f":"COLUMN()","v":79},{"$f":"COLUMN()","v":80},{"$f":"COLUMN()","v":81},{"$f":"COLUMN()","v":82},{"$f":"COLUMN()","v":83},{"$f":"COLUMN()","v":84},{"$f":"COLUMN()","v":85},{"$f":"COLUMN()","v":86},{"$f":"COLUMN()","v":87},{"$f":"COLUMN()","v":88},{"$f":"COLUMN()","v":89},{"$f":"COLUMN()","v":90},{"$f":"COLUMN()","v":91},{"$f":"COLUMN()","v":92},{"$f":"COLUMN()","v":93},{"$f":"COLUMN()","v":94},{"$f":"COLUMN()","v":95},{"$f":"COLUMN()","v":96},{"$f":"COLUMN()","v":97},{"$f":"COLUMN()","v":98},{"$f":"COLUMN()","v":99},{"$f":"COLUMN()","v":100},{"$f":"COLUMN()","v":101},{"$f":"COLUMN()","v":102},{"$f":"COLUMN()","v":103},{"$f":"COLUMN()","v":104}]
[null,null,"Reporter Dye",{"$nulls":4},"Name Detektor",{"$nulls":5},"Quencher",{"$nulls":5},"System1",{"$nulls":6},"System2",{"$nulls":6},"System3",{"$nulls":6},"System4",{"$nulls":6},"System5",{"$nulls":6},"Cutoff Sensitivitätsergebnis System1",{"$nulls":3},"Cutoff Sensitivitätsergebnis System2",{"$nulls":3},"Cutoff Sensitivitätsergebnis System3",{"$nulls":3},"Cutoff Sensitivitätsergebnis System4",{"$nulls":3},"Nur CutOff-Auswertung (siehe 08.34)",{"$nulls":3},"ROX","Identifier",null,null,"Delta Cq-"]
["Modul","Zeile",1,2,3,4,"IPC",1,2,3,4,"IPC","Anzahl Modul in Liste",1,2,3,4,"IPC","Validiert für 7500","CqCutOff1","CqCutOff2","CqCutOff3","CqCutOff4","RNLImit1","RNLImit2","RNLImit3","CqCutOff1","CqCutOff2","CqCutOff3","CqCutOff4","RNLImit1","RNLImit2","RNLImit3","CqCutOff1","CqCutOff2","CqCutOff3","CqCutOff4","RNLImit1","RNLImit2","RNLImit3","CqCutOff1","CqCutOff2","CqCutOff3","CqCutOff4","RNLImit1","RNLImit2","RNLImit3","CqCutOff1","CqCutOff2","CqCutOff3","CqCutOff4","RNLImit1","RNLImit2","RNLImit3","Vorhanden",null,null,"StdDev ","Vorhanden","K+ (Kopien/Rxn)","Cutoff (Kopien/Rxn)","Faktor","Vorhanden","K+ (Kopien/Rxn)","Cutoff (Kopien/Rxn)","Faktor","Vorhanden","K+ (Kopien/Rxn)","Cutoff (Kopien/Rxn)","Faktor","System1","System 2","System3","System 4","Normalisierung","MM","K+","BM","Asymmetrie"]
["08.020",{"$f":"ROW()","v":168},"FAM",{"$nulls":3},"VIC","20HOR",{"$nulls":3},"20IPH",{"$f":"COUNTIF(lst7900Reporter,A168)","v":1},"NFQ","","","","NFQ","JA",0,6,"","",0.2,0,"",0,0,"","",0,0,"",0,0,"","",0,0,"",0,0,"","",0,0,"",0,3,"","",0.33,0,"",true,0,0,0.64,0,0,0,0,0,0,0,0,0,0,0,0,0,0,0,0,"dRN","1663","1664","0826",0]
["08.026",{"$f":"ROW()","v":169},"FAM",{"$nulls":3},"VIC",80261,{"$nulls":3},"8026i",1,"NFQ","","","","NFQ","JA",0,8,"","",0.2,0,"",0,0,"","",0,0,"",0,0,"","",0,0,"",0,0,"","",0,0,"",-5,3,"","",0.33,0,"",false,0,0,0,0,0,0,0,0,0,0,0,0,0,0,0,0,0,0,0,"dRN","1832","1833",2602,0]
["08.027",{"$f":"ROW()","v":170},"FAM","VIC",{"$nulls":3},80271,80272,{"$nulls":3},1,"NFQ","NFQ","","","NFQ","JA",0,7,"","",0.2,0,"",0,7,"","",0.2,0,"",0,0,"","",0,0,"",0,0,"","",0,0,"",-3,3,"","",0.33,0,"",false,0,0,0,0,0,0,0,0,0,0,0,0,0,0,0,0,0,0,0,"dRN","1820","1821",2602,-5]
["08.028",{"$f":"ROW()","v":171},"FAM",{"$nulls":3},"VIC","8028a",{"$nulls":3},"8028i",1,"NFQ","","","","NFQ","JA",0,8,"","",0.2,0,"",0,0,"","",0,0,"",0,0,"","",0,0,"",0,0,"","",0,0,"",-3,3,"","",0.33,0,"",false,0,0,0,0,0,0,0,0,0,0,0,0,0,0,0,0,0,0,0,"dRN","1886","1869",2602,0]
["08.029",{"$f":"ROW()","v":172},"FAM",{"$nulls":3},"VIC","8029a",{"$nulls":3},"8029i",1,"NFQ","","","","NFQ","JA",0,8,"","",0.2,0,"",0,0,"","",0,0,"",0,0,"","",0,0,"",0,0,"","",0,0,"",-3,3,"","",0.33,0,"",false,0,0,0,0,0,0,0,0,0,0,0,0,0,0,0,0,0,0,0,"dRN","1863","1864",2602,0]
["08.030",{"$f":"ROW()","v":173},"FAM",{"$nulls":3},"VIC","8030a",{"$nulls":3},"8030i",1,"NFQ","","","","NFQ","JA",-5,8,"","",0.2,0,"",0,0,"","",0,0,"",0,0,"","",0,0,"",0,0,"","",0,0,"",-3,3,"","",0.33,0,"",false,0,0,0,0,0,0,0,0,0,0,0,0,0,0,0,0,0,0,0,"dRN","1868","1869",2602,0]
["08.032",{"$f":"ROW()","v":174},"FAM",{"$nulls":3},"VIC","8032a",{"$nulls":3},"8032i",1,"NFQ","","","","NFQ","JA",0,8,"","",0.2,0,"",0,0,"","",0,0,"",0,0,"","",0,0,"",0,0,"","",0,0,"",-3,3,"","",0.33,0,"",false,0,0,0,0,0,0,0,0,0,0,0,0,0,0,0,0,0,0,0,"dRN","1894","1895",2602,0]
["08.035",{"$f":"ROW()","v":175},"FAM",{"$nulls":3},"VIC","8035a",{"$nulls":3},"8035i",1,"NFQ",{"$nulls":3},"NFQ","JA",-5,8,"","",0.2,0,"",0,0,"","",0,0,"",0,0,"","",0,0,"",0,0,"","",0,0,"",-3,3,"","",0.33,0,"",false,0,0,0,false,0,0,0,false,0,0,0,false,0,0,0,false,false,false,false,"dRN","1990","1869",0,0]
["08.036",{"$f":"ROW()","v":176},"FAM",{"$nulls":3},"VIC","8036a",{"$nulls":3},"8036i",1,"NFQ",{"$nulls":3},"NFQ","JA",0,10,"","",0.2,0,"",0,0,"","",0,0,"",0,0,"","",0,0,"",0,0,"","",0,0,"",-3,3,"","",0.33,0,"",false,0,0,0,false,0,0,0,false,0,0,0,false,0,0,0,false,false,false,false,"dRN",2799,"2069",2799,0]
["08.037",{"$f":"ROW()","v":177},"FAM",{"$nulls":3},"VIC","8037a",{"$nulls":3},"8037i",1,"NFQ",{"$nulls":3},"NFQ","JA",0,8,"","",0.2,0,"",0,0,"","",0,0,"",0,0,"","",0,0,"",0,0,"","",0,0,"",-3,3,"","",0.33,0,"",false,0,0,0,false,0,0,0,false,0,0,0,false,0,0,0,false,false,false,false,"dRN","2485","1945",2602,0]
["08.038",{"$f":"ROW()","v":178},"FAM",{"$nulls":3},"VIC","8038a",{"$nulls":3},"8038i",1,"NFQ",{"$nulls":3},"NFQ","JA",0,8,"","",0.2,0,"",0,0,"","",0,0,"",0,0,"","",0,0,"",0,0,"","",0,0,"",-5,3,"","",0.33,0,"",false,0,0,0,false,0,0,0,false,0,0,0,false,0,0,0,false,false,false,false,"dRN","2524","2525",2602,0]
["08.039",{"$f":"ROW()","v":179},"FAM",{"$nulls":3},"VIC","8039a",{"$nulls":3},"8039i",1,"NFQ",{"$nulls":3},"NFQ","JA",0,8,"","",0.2,0,"",0,0,"","",0,0,"",0,0,"","",0,0,"",0,0,"","",0,0,"",-3,3,"","",0.33,0,"",false,0,0,0,false,0,0,0,false,0,0,0,false,0,0,0,false,false,false,false,"dRN","2514","2516",2602,0]
["08.040",{"$f":"ROW()","v":180},"FAM",{"$nulls":3},"VIC","8040a",{"$nulls":3},"8040i",1,"NFQ",{"$nulls":3},"NFQ","JA",0,8,"","",0.2,0,"",0,0,"","",0,0,"",0,0,"","",0,0,"",0,0,"","",0,0,"",-3,3,"","",0.33,0,"",false,0,0,0,false,0,0,0,false,0,0,0,false,0,0,0,false,false,false,false,"dRN","2547","2546",2602,0]
["08.041",{"$f":"ROW()","v":181},"FAM",{"$nulls":3},"VIC","8041a",{"$nulls":3},"8041i",1,"NFQ",{"$nulls":3},"NFQ","JA",-5,8,"","",0.2,0,"",0,0,"","",0,0,"",0,0,"","",0,0,"",0,0,"","",0,0,"",-3,3,"","",0.33,0,"",false,0,0,0,false,0,0,0,false,0,0,0,false,0,0,0,false,false,false,false,"dRN","2615","1864","2602",0]
["09.006",{"$f":"ROW()","v":182},"FAM",{"$nulls":3},"VIC","06Bt",{"$nulls":3},"06IPC",1,"NFQ","","","","NFQ","JA",0,6,"","",0.2,0,"",0,0,"","",0,0,"",0,0,"","",0,0,"",0,0,"","",0,0,"",0,4,"","",0.5,0,"",0,0,0,0,0,0,0,0,0,0,0,0,0,0,0,0,0,0,0,0,"dRN","0209","0877","0826",0]
["09.015",{"$f":"ROW()","v":183},"FAM",{"$nulls":3},"VIC","15NK",{"$nulls":3},"15IPC",1,"NFQ","","","","NFQ","JA",0,6,"","",0.2,0,"",0,0,"","",0,0,"",0,0,"","",0,0,"",0,0,"","",0,0,"",0,4,"","",0.5,0,"",0,0,0,0,0,0,0,0,0,0,0,0,0,0,0,0,0,0,0,0,"dRN","0648","0647","0826",0]
["09.016",{"$f":"ROW()","v":184},"FAM",{"$nulls":3},"VIC","16MIR",{"$nulls":3},"16IPC",1,"NFQ","","","","NFQ","JA",0,6,"","",0.2,0,"",0,0,"","",0,0,"",0,0,"","",0,0,"",0,0,"","",0,0,"",0,4,"","",0.5,0,"",0,0,0,0,0,0,0,0,0,0,0,0,0,0,0,0,0,0,0,0,"dRN","0650","0651","0826",0]
["09.019",{"$f":"ROW()","v":185},"FAM",{"$nulls":3},"VIC","19MON",{"$nulls":3},"19IPC",1,"NFQ","","","","NFQ","JA",0,6,"","",0.2,0,"",0,0,"","",0,0,"",0,0,"","",0,0,"",0,0,"","",0,0,"",0,4,"","",0.5,0,"",0,0,0,0,0,0,0,0,0,0,0,0,0,0,0,0,0,0,0,0,"dRN","0653","0654","0826",0]
["09.020",{"$f":"ROW()","v":186},"FAM",{"$nulls":3},"VIC","20HRW",{"$nulls":3},"20IPC",1,"NFQ","","","","NFQ","JA",0,6,"","",0.2,0,"",0,0,"","",0,0,"",0,0,"","",0,0,"",0,0,"","",0,0,"",0,4,"","",0.5,0,"",0,0,0,0,0,0,0,0,0,0,0,0,0,0,0,0,0,0,0,0,"dRN","0655","0656","0826",0]
["09.021",{"$f":"ROW()","v":187},"FAM",{"$nulls":3},"VIC","21SOY",{"$nulls":3},"21IPC",1,"NFQ","","","","NFQ","JA",0,6,"","",0.2,0,"",0,0,"","",0,0,"",0,0,"","",0,0,"",0,0,"","",0,0,"",0,4,"","",0.5,0,"",0,0,0,0,0,0,0,0,0,0,0,0,0,0,0,0,0,0,0,0,"dRN","0657","0658",0,0]
["09.027",{"$f":"ROW()","v":188},"FAM",{"$nulls":3},"VIC","27MON",{"$nulls":3},"27IPC",1,"NFQ","","","","NFQ","JA",0,6,"","",0.2,0,"",0,0,"","",0,0,"",0,0,"","",0,0,"",0,0,"","",0,0,"",0,4,"","",0.33,0,"",0,0,0,0,0,0,0,0,0,0,0,0,0,0,0,0,0,0,0,0,"dRN","0825","0824","0826",0]
["09.028",{"$f":"ROW()","v":189},"FAM",{"$nulls":3},"VIC","28SAM",{"$nulls":3},"28IPC",1,"NFQ","","","","NFQ","JA",0,6,"","",0.2,0,"",0,0,"","",0,0,"",0,0,"","",0,0,"",0,0,"","",0,0,"",0,4,"","",0.33,0,"",0,0,0,0,0,0,0,0,0,0,0,0,0,0,0,0,0,0,0,0,"dRN","0827","0828","0826",0]
["09.029",{"$f":"ROW()","v":190},"FAM",{"$nulls":3},"VIC","29LY",{"$nulls":3},"29IPC",1,"NFQ","","","","NFQ","JA",0,7,"","",0.1,0,"",0,0,"","",0,0,"",0,0,"","",0,0,"",0,0,"","",0,0,"",0,4,"","",0.33,0,"",0,0,0,0,0,0,0,0,0,0,0,0,0,0,0,0,0,0,0,0,"dRN","0855","0854","0826",0]
["09.030",{"$f":"ROW()","v":191},"FAM",{"$nulls":3},"VIC","30GA",{"$nulls":3},"30IPC",1,"NFQ","","","","NFQ","JA",0,6,"","",0.2,0,"",0,0,"","",0,0,"",0,0,"","",0,0,"",0,0,"","",0,0,"",0,4,"","",0.33,0,"",0,0,0,0,0,0,0,0,0,0,0,0,0,0,0,0,0,0,0,0,"dRN","0883","0884","0826",0]
["09.031",{"$f":"ROW()","v":192},"FAM",{"$nulls":3},"VIC","31HX1",{"$nulls":3},"31IPC",1,"NFQ","","","","NFQ","JA",0,6,"","",0.2,0,"",0,0,"","",0,0,"",0,0,"","",0,0,"",0,0,"","",0,0,"",0,4,"","",0.33,0,"",0,0,0,0,0,0,0,0,0,0,0,0,0,0,0,0,0,0,0,0,"dRN","0885","0886","0826",0]
["09.033",{"$f":"ROW()","v":193},"FAM",{"$nulls":3},"VIC","33RR2",{"$nulls":3},"33IPC",1,"NFQ","","","","NFQ","JA",0,6,"","",0.2,0.5,"",0,0,"","",0,0,"",0,0,"","",0,0,"",0,0,"","",0,0,"",0,4,"","",0.33,0,"",0,0,0,0,0,0,0,0,0,0,0,0,0,0,0,0,0,0,0,0,"dRN","0864","0866","0826",0]
["09.034",{"$f":"ROW()","v":194},"FAM",{"$nulls":3},"VIC","34RRS",{"$nulls":3},"34IPC",1,"NFQ","","","","NFQ","JA",0,6,"","",0.2,0,"",0,0,"","",0,0,"",0,0,"","",0,0,"",0,0,"","",0,0,"",0,4,"","",0.33,0,"",0,0,0,0,0,0,0,0,0,0,0,0,0,0,0,0,0,0,0,0,"dRN","0978","0901","0826",0]
["09.035",{"$f":"ROW()","v":195},"FAM",{"$nulls":3},"VIC","35FMV",{"$nulls":3},"35IPC",1,"NFQ","","","","NFQ","JA",0,6,"","",0.2,0,"",0,0,"","",0,0,"",0,0,"","",0,0,"",0,0,"","",0,0,"",0,4,"","",0.33,0,"",0,0,0,0,0,0,0,0,0,0,0,0,0,0,0,0,0,0,0,0,"dRN","0902","0904","0826",0]
["09.036",{"$f":"ROW()","v":196},"FAM",{"$nulls":3},"VIC","36NOS",{"$nulls":3},"36IPC",1,"NFQ","","","","NFQ","JA",0,7,"","",0.2,0,"",0,0,"","",0,0,"",0,0,"","",0,0,"",0,0,"","",0,0,"",0,4,"","",0.25,0,"",0,0,0,0,0,0,0,0,0,0,0,0,0,0,0,0,0,0,0,0,"dRN","0898","0758","0826",0]
["09.037",{"$f":"ROW()","v":197},"FAM",{"$nulls":3},"VIC","3735S",{"$nulls":3},"37IPC",1,"NFQ","","","","NFQ","JA",0,7,"","",0.2,0,"",0,0,"","",0,0,"",0,0,"","",0,0,"",0,0,"","",0,0,"",0,4,"","",0.25,0,"",0,0,0,0,0,0,0,0,0,0,0,0,0,0,0,0,0,0,0,0,"dRN","0899","0901","0826",0]
["09.038",{"$f":"ROW()","v":198},"FAM",{"$nulls":3},"VIC",38890,{"$nulls":3},"38IPC",1,"NFQ","","","","NFQ","JA",-5,6,"","",0.2,0,"",0,0,"","",0,0,"",0,0,"","",0,0,"",0,0,"","",0,0,"",-3,4,"","",0.33,0,"",0,0,0,0,0,0,0,0,0,0,0,0,0,0,0,0,0,0,0,0,"dRN","0971","0972","0826",0]
["09.039",{"$f":"ROW()","v":199},"FAM",{"$nulls":3},"VIC","39bar",{"$nulls":3},"39IPC",1,"NFQ","","","","NFQ","JA",0,6,"","",0.2,0,"",0,0,"","",0,0,"",0,0,"","",0,0,"",0,0,"","",0,0,"",0,3,"","",0.33,0,"",0,0,0,0,0,0,0,0,0,0,0,0,0,0,0,0,0,0,0,0,"dRN","1010","1012","0826",0]
["09.040",{"$f":"ROW()","v":200},"FAM",{"$nulls":3},"VIC",40880,{"$nulls":3},"40IPC",{"$f":"COUNTIF(lst7900Reporter,A200)","v":1},"NFQ","","","","NFQ","JA",0,6,"","",0.2,0,"",0,0,"","",0,0,"",0,0,"","",0,0,"",0,0,"","",0,0,"",0,4,"","",0.33,0,"",0,0,0,0,0,0,0,0,0,0,0,0,0,0,0,0,0,0,0,0,"dRN","1011","1013","0826",0]
["09.041",{"$f":"ROW()","v":201},"FAM",{"$nulls":3},"VIC",41327,{"$nulls":3},"41IPC",1,"NFQ","","","","NFQ","JA",0,6,"","",0.2,0,"",0,0,"","",0,0,"",0,0,"","",0,0,"",0,0,"","",0,0,"",0,4,"","",0.33,0,"",0,0,0,0,0,0,0,0,0,0,0,0,0,0,0,0,0,0,0,0,"dRN","1023","1025","0826",0]
["09.042",{"$f":"ROW()","v":202},"FAM",{"$nulls":3},"VIC","42SPE",{"$nulls":3},"42IPC",1,"NFQ","","","","NFQ","JA",{"$error":"#N/A"},{"$error":"#N/A"},"","",{"$error":"#N/A"},{"$error":"#N/A"},"",{"$error":"#N/A"},{"$error":"#N/A"},"","",{"$error":"#N/A"},{"$error":"#N/A"},"",{"$error":"#N/A"},{"$error":"#N/A"},"","",{"$error":"#N/A"},{"$error":"#N/A"},"",{"$error":"#N/A"},{"$error":"#N/A"},"","",{"$error":"#N/A"},{"$error":"#N/A"},"",{"$error":"#N/A"},{"$error":"#N/A"},"","",{"$error":"#N/A"},{"$error":"#N/A"},"",{"$error":"#N/A"},{"$error":"#N/A"},{"$error":"#N/A"},{"$error":"#N/A"},{"$error":"#N/A"},{"$error":"#N/A"},{"$error":"#N/A"},{"$error":"#N/A"},{"$error":"#N/A"},{"$error":"#N/A"},{"$error":"#N/A"},{"$error":"#N/A"},{"$error":"#N/A"},{"$error":"#N/A"},{"$error":"#N/A"},{"$error":"#N/A"},{"$error":"#N/A"},{"$error":"#N/A"},{"$error":"#N/A"},{"$error":"#N/A"},{"$error":"#N/A"},{"$error":"#N/A"},{"$error":"#N/A"},{"$error":"#N/A"},{"$error":"#N/A"}]
["09.043",{"$f":"ROW()","v":203},"FAM",{"$nulls":3},"VIC","43-H7",{"$nulls":3},"43IPC",1,"NFQ","","","","NFQ","JA",0,6,"","",0.2,0,"",0,0,"","",0,0,"",0,0,"","",0,0,"",0,0,"","",0,0,"",0,4,"","",0.33,0,"",0,0,0,0,0,0,0,0,0,0,0,0,0,0,0,0,0,0,0,0,"dRN","1071","1069","0826",0]
["09.044",{"$f":"ROW()","v":204},"FAM",{"$nulls":3},"VIC","44DP3",{"$nulls":3},"44IPC",1,"NFQ","","","","NFQ","JA",0,6,"","",0.2,0,"",0,0,"","",0,0,"",0,0,"","",0,0,"",0,0,"","",0,0,"",0,4,"","",0.33,0,"",0,0,0,0,0,0,0,0,false,0,0,0,true,0,0,0,0,0,0,0,"dRN","1084","1086","0826",0]
["09.045",{"$f":"ROW()","v":205},"FAM",{"$nulls":3},"VIC","45noD",{"$nulls":3},"45IPC",1,"NFQ","","","","NFQ","JA",0,6,"","",0.2,0,"",0,0,"","",0,0,"",0,0,"","",0,0,"",0,0,"","",0,0,"",0,4,"","",0.33,0,"",0,0,0,0,0,0,0,0,false,0,0,0,true,0,0,0,0,0,0,0,"dRN","1063","1041","0826",0]
["09.046",{"$f":"ROW()","v":206},"FAM",{"$nulls":3},"VIC","46nia",{"$nulls":3},"46IPC",1,"NFQ","","","","NFQ","JA",0,7,"","",0.2,0,"",0,0,"","",0,0,"",0,0,"","",0,0,"",0,0,"","",0,0,"",0,4,"","",0.33,0,"",0,0,0,0,0,0,0,0,false,0,0,0,true,0,0,0,0,0,0,0,"dRN","1091","1093","0826",0]
["09.047",{"$f":"ROW()","v":207},"FAM",{"$nulls":3},"VIC","9047a",{"$nulls":3},"9047i",1,"NFQ","","","","NFQ","JA",-3,7,"","",0.2,0,"",0,0,"","",0,0,"",0,0,"","",0,0,"",0,0,"","",0,0,"",-3,4,"","",0.33,0,"",false,0,0,0,0,0,0,0,false,0,0,0,true,0,0,0,0,0,0,0,"dRN","1925","1926","0826",0]
["09.048",{"$f":"ROW()","v":208},"FAM",{"$nulls":3},"VIC","48T45",{"$nulls":3},"48IPC",1,"NFQ","","","","NFQ","JA",0,7,"","",0.15,0,"",0,0,"","",0,0,"",0,0,"","",0,0,"",0,0,"","",0,0,"",0,3,"","",0.33,0,"",0,0,0,0,0,0,0,0,false,0,0,0,true,0,0,0,0,0,0,0,"dRN","1131","1133","0826",0]
["09.052",{"$f":"ROW()","v":209},"FAM",{"$nulls":3},"VIC","52vip",{"$nulls":3},"52IPC",1,"NFQ","","","","NFQ","JA",0,7,"","",0.2,0,"",0,0,"","",0,0,"",0,0,"","",0,0,"",0,0,"","",0,0,"",0,5,"","",0.33,0,"",0,0,0,0,false,0,0,0,false,0,0,0,true,0,0,0,0,0,0,0,"dRN","1157","1158","0826",0]
["09.053",{"$f":"ROW()","v":210},"FAM",{"$nulls":3},"VIC",53981,{"$nulls":3},"53IPC",1,"NFQ","","","","NFQ","JA",0,6,"","",0.2,0,"",0,0,"","",0,0,"",0,0,"","",0,0,"",0,0,"","",0,0,"",0,4,"","",0.33,0,"",0,0,0,0,false,0,0,0,false,0,0,0,true,0,0,0,0,0,0,0,"dRN","1161","1163","0826",0]
["09.055",{"$f":"ROW()","v":211},"FAM",{"$nulls":3},"VIC","55KMD",{"$nulls":3},"55IPC",1,"NFQ","","","","NFQ","JA",0,6,"","",0.2,0,"",0,0,"","",0,0,"",0,0,"","",0,0,"",0,0,"","",0,0,"",0,3,"","",0.33,0,"",0,0,0,0,false,0,0,0,false,0,0,0,true,0,0,0,0,0,0,0,"dRN","1352","1354","0826",0]
["09.063",{"$f":"ROW()","v":212},"FAM",{"$nulls":3},"VIC",63127,{"$nulls":3},"63IPC",1,"NFQ","","","","NFQ","JA",0,8,"","",0.2,0,"",0,0,"","",0,0,"",0,0,"","",0,0,"",0,0,"","",0,0,"",0,3,"","",0.33,0,"",0,0,0,0,false,0,0,0,false,0,0,0,true,0,0,0,0,0,0,0,"dRN","1216","1219","0826",0]
["09.068",{"$f":"ROW()","v":213},"FAM",{"$nulls":3},"VIC","68T25",{"$nulls":3},"68IPC",1,"NFQ",{"$nulls":3},"NFQ","JA",0,6,"","",0.2,0,"",0,0,"","",0,0,"",0,0,"","",0,0,"",0,0,"","",0,0,"",0,4,"","",0.25,0,"",false,0,0,0,false,0,0,0,false,0,0,0,false,0,0,0,false,false,false,false,"dRN","1247","1248","0826",0]
["09.085",{"$f":"ROW()","v":214},"FAM",{"$nulls":3},"VIC","85lec",{"$nulls":3},"85IPC",1,"TAMRA","","","","NFQ","JA",0,8,"","",0.2,0,"",0,0,"","",0,0,"",0,0,"","",0,0,"",0,0,"","",0,0,"",0,3,"","",0.33,0,"",0,0,0,0,false,0,0,0,false,0,0,0,true,0,0,0,0,0,0,0,"dRN","1610","0901",0,0]
["09.091",{"$f":"ROW()","v":215},"FAM",{"$nulls":3},"VIC",91874,{"$nulls":3},"91IPC",1,"NFQ","","","","NFQ","JA",0,5,"","",0.2,0,"",0,0,"","",0,0,"",0,0,"","",0,0,"",0,0,"","",0,0,"",0,4,"","",0.33,0,"",false,0,0,0,false,0,0,0,false,0,0,0,true,0,0,0,0,0,0,0,"dRN","1825","1827","0826",0]
["09.095",{"$f":"ROW()","v":216},"FAM",{"$nulls":3},"VIC","9095a",{"$nulls":3},"9095i",1,"NFQ","","","","NFQ","JA",0,5,"","",0.2,0,"",0,0,"","",0,0,"",0,0,"","",0,0,"",0,0,"","",0,0,"",0,3,"","",0.33,0,"",false,0,0,0,0,0,0,0,0,0,0,0,0,0,0,0,0,0,0,0,"dRN","1859","1860","0826",0]
["09.099",{"$f":"ROW()","v":217},"FAM",{"$nulls":3},"VIC","9099a",{"$nulls":3},"9099i",1,"NFQ",{"$nulls":3},"NFQ","JA",-3,6,"","",0.2,0,"",0,0,"","",0,0,"",0,0,"","",0,0,"",0,0,"","",0,0,"",-3,4,"","",0.33,0,"",false,0,0,0,false,0,0,0,false,0,0,0,false,0,0,0,false,false,false,false,"dRN","1964","1354","0826",0]
["09.102",{"$f":"ROW()","v":218},"FAM",{"$nulls":3},"VIC","9102a",{"$nulls":3},"9102i",1,"NFQ",{"$nulls":3},"NFQ","Nein",0,6,"","",0.2,0,"",0,0,"","",0,0,"",0,0,"","",0,0,"",0,0,"","",0,0,"",-3,3,"","",0.33,0,"",false,0,0,0,false,0,0,0,false,0,0,0,false,0,0,0,false,false,false,false,"dRN","2607","2608","2602",0]
["09.103",{"$f":"ROW()","v":219},"FAM",{"$nulls":3},"VIC","9103a",{"$nulls":3},"9103i",1,"NFQ",{"$nulls":3},"NFQ","JA",0,6,"","",0.2,0,"",0,0,"","",0,0,"",0,0,"","",0,0,"",0,0,"","",0,0,"",-3,4,"","",0.33,0,"",false,0,0,0,false,0,0,0,false,0,0,0,false,0,0,0,false,false,false,false,"dRN","1938","1939","0826",0]
["09.107",{"$f":"ROW()","v":220},"FAM",{"$nulls":3},"VIC","9107a",{"$nulls":3},"9107i",1,"NFQ",{"$nulls":3},"NFQ","JA",0,6,"","",0.2,0,"",0,0,"","",0,0,"",0,0,"","",0,0,"",0,0,"","",0,0,"",-3,4,"","",0.33,0,"",false,0,0,0,false,0,0,0,false,0,0,0,false,0,0,0,false,false,false,false,"dRN","1994","1995","0826",0]
["09.111",{"$f":"ROW()","v":221},"FAM",{"$nulls":3},"VIC","9111a",{"$nulls":3},"9111i",1,"NFQ",{"$nulls":3},"NFQ","JA",0,6,"","",0.15,0,"",0,0,"","",0,0,"",0,0,"","",0,0,"",0,0,"","",0,0,"",-3,4,"","",0.33,0,"",false,0,0,0,false,0,0,0,false,0,0,0,false,0,0,0,false,false,false,false,"dRN","1998","2000","0826",0]
["09.116",{"$f":"ROW()","v":222},"FAM",{"$nulls":3},"VIC","9116a",{"$nulls":3},"9116i",1,"NFQ",{"$nulls":3},"NFQ","JA",0,9,"","",0.15,0,"",0,0,"","",0,0,"",0,0,"","",0,0,"",0,0,"","",0,0,"",-3,3,"","",0.33,0,"",false,0,0,0,false,0,0,0,false,0,0,0,false,0,0,0,false,false,false,false,"dRN","2532","2533",2602,0]
["09.117",{"$f":"ROW()","v":223},"FAM",{"$nulls":3},"VIC","9117a",{"$nulls":3},"9117i",1,"NFQ",{"$nulls":3},"NFQ","JA",0,9,"","",0.15,0,"",0,0,"","",0,0,"",0,0,"","",0,0,"",0,0,"","",0,0,"",-3,3,"","",0.33,0,"",false,0,0,0,false,0,0,0,false,0,0,0,false,0,0,0,false,false,false,false,"dRN","2531","0654",2602,0]
["09.118",{"$f":"ROW()","v":224},"FAM","CY5",null,null,"VIC","9118a","9118b",null,null,"9118i",1,"NFQ","NFQ",null,null,"NFQ","JA",-11,5,"","",0.2,0,"",-11,5,"","",0.2,0,"",0,0,"","",0,0,"",0,0,"","",0,0,"",-3,3,"","",0.33,0,"",false,0,0,0,false,0,0,0,false,0,0,0,false,0,0,0,false,false,false,false,"dRN","2075","2076",2602,11]
["09.119",{"$f":"ROW()","v":225},"FAM",{"$nulls":3},"VIC","9119a",{"$nulls":3},"9119i",1,"NFQ",{"$nulls":3},"NFQ","JA",0,6,"","",0.15,0,"",0,0,"","",0,0,"",0,0,"","",0,0,"",0,0,"","",0,0,"",-3,3,"","",0.33,0,"",false,0,0,0,false,0,0,0,false,0,0,0,false,0,0,0,false,false,false,false,"dRN","2484","2065",2602,0]
["09.120",{"$f":"ROW()","v":226},{"$nulls":10},1,{"$nulls":5},"Nein",0,{"$nulls":6},0,{"$nulls":6},0,{"$nulls":6},0,{"$nulls":6},0]
["09.121",{"$f":"ROW()","v":227},{"$nulls":10},1,{"$nulls":5},"Nein",0,{"$nulls":6},0,{"$nulls":6},0,{"$nulls":6},0,{"$nulls":6},0]
["09.124",{"$f":"ROW()","v":228},{"$nulls":10},1,{"$nulls":5},"Nein",0,{"$nulls":6},0,{"$nulls":6},0,{"$nulls":6},0,{"$nulls":6},0,{"$nulls":26},"dRN",2718,2602,2602,0]
["09.125",{"$f":"ROW()","v":229},"FAM",{"$nulls":3},"VIC","9125a",{"$nulls":3},"9125i",1,"NFQ",{"$nulls":3},"NFQ","JA",-10,8,0,0,0.2,0,0,0,{"$nulls":6},0,{"$nulls":6},0,{"$nulls":6},-3,3,0,0,0.33,0,0,false,null,null,0,{"$nulls":12},false,{"$nulls":3},"dRN",2746,2747,2602,0]
["09.126",{"$f":"ROW()","v":230},{"$nulls":10},1,{"$nulls":5},"Nein",0,{"$nulls":6},0,{"$nulls":6},0,{"$nulls":6},0,{"$nulls":6},0,{"$nulls":26},"dR",2737,2742,2602,0]
["09.127",{"$f":"ROW()","v":231},{"$nulls":10},1,{"$nulls":5},"Nein",0,{"$nulls":6},0,{"$nulls":6},0,{"$nulls":6},0,{"$nulls":6},0,{"$nulls":26},"dRN",2752,2753,2602,0]
["09.131",{"$f":"ROW()","v":232},{"$nulls":10},{"$f":"COUNTIF(lst7900Reporter,A232)","v":1},{"$nulls":5},"Nein",0,{"$nulls":6},0,{"$nulls":6},0,{"$nulls":6},0,{"$nulls":6},0,{"$nulls":26},"dRN",2807,2808,2602,0]
["09.133",{"$f":"ROW()","v":233},{"$nulls":10},1,{"$nulls":5},"Nein",0,{"$nulls":6},0,{"$nulls":6},0,{"$nulls":6},0,{"$nulls":6},0,{"$nulls":26},"dRN",2765,2766,2602,0]
["09.135",{"$f":"ROW()","v":234},{"$nulls":10},1,{"$nulls":5},"Nein",0,{"$nulls":6},0,{"$nulls":6},0,{"$nulls":6},0,{"$nulls":6},0,{"$nulls":26},"dR",2778,2780,2602,0]
["09.136",{"$f":"ROW()","v":235},{"$nulls":10},1,{"$nulls":5},"Nein",0,{"$nulls":6},0,{"$nulls":6},0,{"$nulls":6},0,{"$nulls":6},0,{"$nulls":26},"dR",2842,2844,2602,0]
["09.138",{"$f":"ROW()","v":236},{"$nulls":10},1,{"$nulls":5},"Nein",0,{"$nulls":6},0,{"$nulls":6},0,{"$nulls":6},0,{"$nulls":6},0,{"$nulls":26},"dR",2856,2753,2602,0]
["09.139",{"$f":"ROW()","v":237},{"$nulls":10},1,{"$nulls":5},"Nein",0,{"$nulls":6},0,{"$nulls":6},0,{"$nulls":6},0,{"$nulls":6},0,{"$nulls":26},"dR",2860,2861,2602,0]
["11.001",{"$f":"ROW()","v":238},{"$nulls":10},1,{"$nulls":5},"Nein",0,{"$nulls":6},0,{"$nulls":6},0,{"$nulls":6},0,{"$nulls":6},0,{"$nulls":26},"dRN",2802,2602,2803,0]
["09.144",{"$f":"ROW()","v":239},"FAM",{"$nulls":3},"VIC","9144a",{"$nulls":3},"9144i",{"$f":"COUNTIF(lst7900Reporter,A239)","v":1},"NFQ",{"$nulls":3},"NFQ","JA",-10,8,0,0,0.2,0,0,{"$nulls":21},-3,3,0,0,0.33,0,0,false,null,null,0,{"$nulls":12},false,{"$nulls":3},"dRN",2946,2948,2602,0,{"$nulls":6},false]
["09.143",{"$f":"ROW()","v":240},"FAM",{"$nulls":3},"VIC","9143a",{"$nulls":3},"9143i",1,"NFQ",{"$nulls":3},"NFQ","JA",-10,7,0,0,0.2,0,0,{"$nulls":21},-3,3,0,0,0.33,0,0,false,null,null,0,{"$nulls":12},false,{"$nulls":3},"dRN",2953,2954,2602,0,{"$nulls":6},false]
["09.141",{"$f":"ROW()","v":241},{"$nulls":10},1,{"$nulls":5},"Nein",{"$nulls":55},"dRN",2985,2986,2602,0]
["09.142",{"$f":"ROW()","v":242},{"$nulls":10},1,{"$nulls":5},"Nein",{"$nulls":55},"dRN",2971,901,2602,0]
["09.146",{"$f":"ROW()","v":243},"FAM",{"$nulls":3},"VIC","9146a",{"$nulls":3},"9146i",1,"NFQ",{"$nulls":3},"NFQ","JA",-10,8,0,0,0.2,0,0,{"$nulls":21},-3,3,0,0,0.33,0,0,false,null,null,0,{"$nulls":12},false,{"$nulls":3},"dRN",2965,2966,2602,0,{"$nulls":6},false]
["09.147",{"$f":"ROW()","v":244},{"$nulls":10},{"$f":"COUNTIF(lst7900Reporter,A244)","v":1},{"$nulls":5},"Nein",{"$nulls":55},"dRN",3036,3037,2602,0]
["09.152",{"$f":"ROW()","v":245},{"$nulls":10},1,{"$nulls":5},"Nein",{"$nulls":55},"dRN",3049,1219,2602,0]
["09.156",{"$f":"ROW()","v":246},{"$nulls":10},1,{"$nulls":5},"Nein",{"$nulls":55},"dRN",3053,1086,2602,0]
["09.155",{"$f":"ROW()","v":247},{"$nulls":10},1,{"$nulls":5},"Nein",{"$nulls":55},"dRN",3078,3079,2602,0]
["09.145",{"$f":"ROW()","v":248},{"$nulls":10},1,{"$nulls":5},"Nein",{"$nulls":55},"dR",2974,2975,3043,0]
["09.148",{"$f":"ROW()","v":249},{"$nulls":10},1,{"$nulls":5},"Nein",{"$nulls":55},"dR",3117,3118,3043,0]
["09.158",{"$f":"ROW()","v":250},{"$nulls":10},{"$f":"COUNTIF(lst7900Reporter,A250)","v":1},{"$nulls":5},"Nein",{"$nulls":55},"dRN",3088,3089,2602,0]
["08.043",{"$f":"ROW()","v":251},"FAM",{"$nulls":3},"VIC","8043a",{"$nulls":3},"8043i",1,"NFQ",{"$nulls":3},"NFQ","JA",-10,4.5,0,0,0,0,0,{"$nulls":21},-3,3,0,0,0.33,0,0,false,null,null,0,{"$nulls":12},true,{"$nulls":3},"dRN",2870,1869,2602,0,{"$nulls":6},false]
["09.159",{"$f":"ROW()","v":252},{"$nulls":10},1,{"$nulls":5},"Nein",{"$nulls":55},"dRN",3135,2076,2602,0]
["09.154",{"$f":"ROW()","v":253},{"$nulls":10},1,{"$nulls":5},"Nein",{"$nulls":55},"dRN",3178,854,2602,0]
["09.161",{"$f":"ROW()","v":254},{"$nulls":10},1,{"$nulls":5},"Nein",{"$nulls":55},"dRN",3153,1012,2602,0]
["09.162",{"$f":"ROW()","v":255},{"$nulls":10},1,{"$nulls":5},"Nein",{"$nulls":55},"dRN",3147,3089,2602,0]
["09.163",{"$f":"ROW()","v":256},{"$nulls":10},{"$f":"COUNTIF(lst7900Reporter,A256)","v":1},{"$nulls":5},"Nein",{"$nulls":55},"dRN",3141,2076,2602,0]
["09.164",{"$f":"ROW()","v":257},{"$nulls":10},{"$f":"COUNTIF(lst7900Reporter,A257)","v":1},{"$nulls":5},"Nein",{"$nulls":55},"dRN",3158,866,2602,0]
["09.140",{"$f":"ROW()","v":258},{"$nulls":10},1,{"$nulls":5},"Nein",{"$nulls":55},"dRN",2883,2602,901,0]
[]
["tabMXReporter",{"$nulls":18},{"$f":"COLUMN()","v":20},{"$f":"COLUMN()","v":21},{"$f":"COLUMN()","v":22},{"$f":"COLUMN()","v":23},{"$f":"COLUMN()","v":24},{"$f":"COLUMN()","v":25},{"$f":"COLUMN()","v":26},{"$f":"COLUMN()","v":27},{"$f":"COLUMN()","v":28},{"$f":"COLUMN()","v":29},{"$f":"COLUMN()","v":30},{"$f":"COLUMN()","v":31},{"$f":"COLUMN()","v":32},{"$f":"COLUMN()","v":33},{"$f":"COLUMN()","v":34},{"$f":"COLUMN()","v":35},{"$f":"COLUMN()","v":36},{"$f":"COLUMN()","v":37},{"$f":"COLUMN()","v":38},{"$f":"COLUMN()","v":39},{"$f":"COLUMN()","v":40},{"$f":"COLUMN()","v":41},{"$f":"COLUMN()","v":42},{"$f":"COLUMN()","v":43},{"$f":"COLUMN()","v":44},{"$f":"COLUMN()","v":45},{"$f":"COLUMN()","v":46},{"$f":"COLUMN()","v":47},{"$f":"COLUMN()","v":48},{"$f":"COLUMN()","v":49},{"$f":"COLUMN()","v":50},{"$f":"COLUMN()","v":51},{"$f":"COLUMN()","v":52},{"$f":"COLUMN()","v":53},{"$f":"COLUMN()","v":54},{"$f":"COLUMN()","v":55},{"$f":"COLUMN()","v":56},{"$f":"COLUMN()","v":57},{"$f":"COLUMN()","v":58},{"$f":"COLUMN()","v":59},{"$f":"COLUMN()","v":60},{"$f":"COLUMN()","v":61},{"$f":"COLUMN()","v":62},{"$f":"COLUMN()","v":63},{"$f":"COLUMN()","v":64},{"$f":"COLUMN()","v":65},{"$f":"COLUMN()","v":66},{"$f":"COLUMN()","v":67},{"$f":"COLUMN()","v":68},{"$f":"COLUMN()","v":69},{"$f":"COLUMN()","v":70},{"$f":"COLUMN()","v":71},{"$f":"COLUMN()","v":72},{"$f":"COLUMN()","v":73},{"$f":"COLUMN()","v":74},{"$f":"COLUMN()","v":75},{"$f":"COLUMN()","v":76},{"$f":"COLUMN()","v":77},{"$f":"COLUMN()","v":78},{"$f":"COLUMN()","v":79},{"$f":"COLUMN()","v":80},{"$f":"COLUMN()","v":81},{"$f":"COLUMN()","v":82},{"$f":"COLUMN()","v":83},{"$f":"COLUMN()","v":84},{"$f":"COLUMN()","v":85},{"$f":"COLUMN()","v":86},{"$f":"COLUMN()","v":87},{"$f":"COLUMN()","v":88},{"$f":"COLUMN()","v":89},{"$f":"COLUMN()","v":90},{"$f":"COLUMN()","v":91},{"$f":"COLUMN()","v":92},{"$f":"COLUMN()","v":93},{"$f":"COLUMN()","v":94},{"$f":"COLUMN()","v":95},{"$f":"COLUMN()","v":96},{"$f":"COLUMN()","v":97},{"$f":"COLUMN()","v":98},{"$f":"COLUMN()","v":99},{"$f":"COLUMN()","v":100},{"$f":"COLUMN()","v":101},{"$f":"COLUMN()","v":102},{"$f":"COLUMN()","v":103},{"$f":"COLUMN()","v":104}]
[null,null,"Reporter Dye",{"$nulls":4},"Name Detektor",{"$nulls":5},"Quencher",{"$nulls":5},"System1",{"$nulls":6},"System2",{"$nulls":6},"System3",{"$nulls":6},"System4",{"$nulls":6},"System5",{"$nulls":6},"Cutoff Sensitivitätsergebnis System1",{"$nulls":3},"Cutoff Sensitivitätsergebnis System2",{"$nulls":3},"Cutoff Sensitivitätsergebnis System3",{"$nulls":3},"Cutoff Sensitivitätsergebnis System4",{"$nulls":3},"Nur CutOff-Auswertung (siehe 08.34)",{"$nulls":3},"ROX","Identifier",null,null,"Delta Cq-",{"$nulls":6},"IPC"]
["Modul","Zeile",1,2,3,4,"IPC",1,2,3,4,"IPC","Anzahl Modul in Liste",1,2,3,4,"IPC","Validiert für 7500","CqCutOff1","CqCutOff2","CqCutOff3","CqCutOff4","RNLImit1","RNLImit2","RNLImit3","CqCutOff1","CqCutOff2","CqCutOff3","CqCutOff4","RNLImit1","RNLImit2","RNLImit3","CqCutOff1","CqCutOff2","CqCutOff3","CqCutOff4","RNLImit1","RNLImit2","RNLImit3","CqCutOff1","CqCutOff2","CqCutOff3","CqCutOff4","RNLImit1","RNLImit2","RNLImit3","CqCutOff1","CqCutOff2","CqCutOff3","CqCutOff4","RNLImit1","RNLImit2","RNLImit3","Vorhanden",null,null,"StdDev ","Vorhanden","K+ (Kopien/Rxn)","Cutoff (Kopien/Rxn)","Faktor","Vorhanden","K+ (Kopien/Rxn)","Cutoff (Kopien/Rxn)","Faktor","Vorhanden","K+ (Kopien/Rxn)","Cutoff (Kopien/Rxn)","Faktor","System1","System 2","System3","System 4","Normalisierung","MM","K+","BM","Asymmetrie",{"$nulls":6},"Nur CutOff"]
["08.020",{"$f":"ROW()","v":263},"FAM",{"$nulls":3},"HEX","20HOR",{"$nulls":3},"20IPH",{"$f":"COUNTIF(lstMXReporter,A263)","v":1},"NFQ","","","","NFQ","JA",0,6,"","",0.2,0,"",0,0,"","",0,0,"",0,0,"","",0,0,"",0,0,"","",0,0,"",0,3,"","",0.33,0,"",true,0,0,0.64,0,0,0,0,0,0,0,0,0,0,0,0,0,0,0,0,"dRN","1663","1664","0826",0]
["08.026",{"$f":"ROW()","v":264},"FAM",{"$nulls":3},"HEX",80261,{"$nulls":3},"8026i",1,"NFQ","","","","NFQ","JA",0,8,"","",0.2,0,"",0,0,"","",0,0,"",0,0,"","",0,0,"",0,0,"","",0,0,"",-5,3,"","",0.33,0,"",false,0,0,0,0,0,0,0,0,0,0,0,0,0,0,0,0,0,0,0,"dRN","1832","1833",2602,0]
["08.027",{"$f":"ROW()","v":265},"FAM","HEX",null,null,"Cy5",80271,80272,null,null,"27IPC",1,"NFQ","NFQ","","","NFQ","JA",0,7,"","",0.2,0,"",0,7,"","",0.2,0,"",0,0,"","",0,0,"",0,0,"","",0,0,"",-3,3,"","",0.33,0,"",false,0,0,0,0,0,0,0,0,0,0,0,0,0,0,0,0,0,0,0,"dRN","1820","1821",2602,-5]
["08.028",{"$f":"ROW()","v":266},"FAM",{"$nulls":3},"HEX","8028a",{"$nulls":3},"8028i",1,"NFQ","","","","NFQ","JA",0,8,"","",0.2,0,"",0,0,"","",0,0,"",0,0,"","",0,0,"",0,0,"","",0,0,"",-3,3,"","",0.33,0,"",false,0,0,0,0,0,0,0,0,0,0,0,0,0,0,0,0,0,0,0,"dRN","1886","1869",2602,0]
["08.029",{"$f":"ROW()","v":267},"FAM",{"$nulls":3},"HEX","8029a",{"$nulls":3},"8029i",1,"NFQ","","","","NFQ","JA",0,8,"","",0.2,0,"",0,0,"","",0,0,"",0,0,"","",0,0,"",0,0,"","",0,0,"",-3,3,"","",0.33,0,"",false,0,0,0,0,0,0,0,0,0,0,0,0,0,0,0,0,0,0,0,"dRN","1863","1864",2602,0]
["08.030",{"$f":"ROW()","v":268},"FAM",{"$nulls":3},"HEX","8030a",{"$nulls":3},"8030i",1,"NFQ","","","","NFQ","JA",-5,8,"","",0.2,0,"",0,0,"","",0,0,"",0,0,"","",0,0,"",0,0,"","",0,0,"",-3,3,"","",0.33,0,"",false,0,0,0,0,0,0,0,0,0,0,0,0,0,0,0,0,0,0,0,"dRN","1868","1869",2602,0]
["08.031",{"$f":"ROW()","v":269},"FAM",{"$nulls":3},"HEX","8031a",{"$nulls":3},"8031i",1,"NFQ","","","","NFQ","JA",0,8,"","",0.2,0,"",0,0,"","",0,0,"",0,0,"","",0,0,"",0,0,"","",0,0,"",-3,3,"","",0.33,0,"",false,0,0,0,0,0,0,0,0,0,0,0,0,0,0,0,0,0,0,0,"dRN","1944","1945","0826",0]
["08.032",{"$f":"ROW()","v":270},"FAM",{"$nulls":3},"HEX","8032a",{"$nulls":3},"8032i",1,"NFQ","","","","NFQ","JA",0,8,"","",0.2,0,"",0,0,"","",0,0,"",0,0,"","",0,0,"",0,0,"","",0,0,"",-3,3,"","",0.33,0,"",false,0,0,0,0,0,0,0,0,0,0,0,0,0,0,0,0,0,0,0,"dRN","1894","1895",2602,0]
["08.033",{"$f":"ROW()","v":271},"FAM",{"$nulls":3},"HEX","8033a",{"$nulls":3},"8033i",1,"NFQ","","","","NFQ","JA",0,8,"","",0.2,0,"",0,0,"","",0,0,"",0,0,"","",0,0,"",0,0,"","",0,0,"",-3,3,"","",0.33,0,"",false,0,0,0,0,0,0,0,0,0,0,0,0,0,0,0,0,0,0,0,"dRN","1947","1948","0826",0]
["08.034",{"$f":"ROW()","v":272},"FAM",{"$nulls":3},"HEX","8034a",{"$nulls":3},"8034i",1,"NFQ",{"$nulls":3},"NFQ","JA",-10,6,"","",0,0,"",0,0,"","",0,0,"",0,0,"","",0,0,"",0,0,"","",0,0,"",-3,3,"","",0.33,0,"",false,0,0,0,false,0,0,0,false,0,0,0,false,0,0,0,true,false,false,false,"dRN","1928","1929","0826",0]
["08.035",{"$f":"ROW()","v":273},"FAM",{"$nulls":3},"HEX","8035a",{"$nulls":3},"8035i",1,"NFQ",{"$nulls":3},"NFQ","JA",-5,8,"","",0.2,0,"",0,0,"","",0,0,"",0,0,"","",0,0,"",0,0,"","",0,0,"",-3,3,"","",0.33,0,"",false,0,0,0,false,0,0,0,false,0,0,0,false,0,0,0,false,false,false,false,"dRN","1990","1869",0,0]
["08.036",{"$f":"ROW()","v":274},"FAM",{"$nulls":3},"HEX","8036a",{"$nulls":3},"8036i",1,"NFQ",{"$nulls":3},"NFQ","JA",0,10,"","",0.2,0,"",0,0,"","",0,0,"",0,0,"","",0,0,"",0,0,"","",0,0,"",-3,3,"","",0.33,0,"",false,0,0,0,false,0,0,0,false,0,0,0,false,0,0,0,false,false,false,false,"dRN",2799,"2069",2799,0]
["08.037",{"$f":"ROW()","v":275},"FAM",{"$nulls":3},"HEX","8037a",{"$nulls":3},"8037i",1,"NFQ",{"$nulls":3},"NFQ","JA",0,8,"","",0.2,0,"",0,0,"","",0,0,"",0,0,"","",0,0,"",0,0,"","",0,0,"",-3,3,"","",0.33,0,"",false,0,0,0,false,0,0,0,false,0,0,0,false,0,0,0,false,false,false,false,"dRN","2485","1945",2602,0]
["08.038",{"$f":"ROW()","v":276},"FAM",{"$nulls":3},"HEX","8038a",{"$nulls":3},"8038i",1,"NFQ",{"$nulls":3},"NFQ","JA",0,8,"","",0.2,0,"",0,0,"","",0,0,"",0,0,"","",0,0,"",0,0,"","",0,0,"",-5,3,"","",0.33,0,"",false,0,0,0,false,0,0,0,false,0,0,0,false,0,0,0,false,false,false,false,"dRN","2524","2525",2602,0]
["08.039",{"$f":"ROW()","v":277},"FAM",{"$nulls":3},"HEX","8039a",{"$nulls":3},"8039i",1,"NFQ",{"$nulls":3},"NFQ","JA",0,8,"","",0.2,0,"",0,0,"","",0,0,"",0,0,"","",0,0,"",0,0,"","",0,0,"",-3,3,"","",0.33,0,"",false,0,0,0,false,0,0,0,false,0,0,0,false,0,0,0,false,false,false,false,"dRN","2514","2516",2602,0]
["08.040",{"$f":"ROW()","v":278},"FAM",{"$nulls":3},"HEX","8040a",{"$nulls":3},"8040i",1,"NFQ",{"$nulls":3},"NFQ","JA",0,8,"","",0.2,0,"",0,0,"","",0,0,"",0,0,"","",0,0,"",0,0,"","",0,0,"",-3,3,"","",0.33,0,"",false,0,0,0,false,0,0,0,false,0,0,0,false,0,0,0,false,false,false,false,"dRN","2547","2546",2602,0]
["08.041",{"$f":"ROW()","v":279},"FAM",{"$nulls":3},"HEX","8041a",{"$nulls":3},"8041i",1,"NFQ",{"$nulls":3},"NFQ","JA",-5,8,"","",0.2,0,"",0,0,"","",0,0,"",0,0,"","",0,0,"",0,0,"","",0,0,"",-3,3,"","",0.33,0,"",false,0,0,0,false,0,0,0,false,0,0,0,false,0,0,0,false,false,false,false,"dRN","2615","1864","2602",0]
["08.042",{"$f":"ROW()","v":280},"FAM","HEX",null,null,"Cy5","8042a","8042b",null,null,"8042i",1,"NFQ","NFQ",null,null,"NFQ","JA",-10,7,"","",0.2,0,"",-10,7,"","",0.2,0,"",0,0,"","",0,0,"",0,0,"","",0,0,"",-3,3,"","",0.33,0,"",false,0,0,0,false,0,0,0,false,0,0,0,false,0,0,0,false,false,false,false,"dRN","2642","2673","2602",-5]
["08.043",{"$f":"ROW()","v":281},"FAM",{"$nulls":3},"HEX","8043a",{"$nulls":3},"8043i",1,"NFQ",{"$nulls":3},"NFQ","JA",-10,4.5,0,0,0,0,0,{"$nulls":21},-3,3,0,0,0.33,0,0,false,null,null,0,{"$nulls":12},true,{"$nulls":3},"dRN",2870,1869,2602,0,{"$nulls":6},false]
["09.006",{"$f":"ROW()","v":282},"FAM",{"$nulls":3},"HEX","06Bt",{"$nulls":3},"06IPC",1,"NFQ","","","","NFQ","JA",0,6,"","",0.2,0,"",0,0,"","",0,0,"",0,0,"","",0,0,"",0,0,"","",0,0,"",0,4,"","",0.5,0,"",0,0,0,0,0,0,0,0,0,0,0,0,0,0,0,0,0,0,0,0,"dRN","0209","0877","0826",0]
["09.015",{"$f":"ROW()","v":283},"FAM",{"$nulls":3},"HEX","15NK",{"$nulls":3},"15IPC",1,"NFQ","","","","NFQ","JA",0,6,"","",0.2,0,"",0,0,"","",0,0,"",0,0,"","",0,0,"",0,0,"","",0,0,"",0,4,"","",0.5,0,"",0,0,0,0,0,0,0,0,0,0,0,0,0,0,0,0,0,0,0,0,"dRN","0648","0647","0826",0]
["09.016",{"$f":"ROW()","v":284},"FAM",{"$nulls":3},"HEX","16MIR",{"$nulls":3},"16IPC",1,"NFQ","","","","NFQ","JA",0,6,"","",0.2,0,"",0,0,"","",0,0,"",0,0,"","",0,0,"",0,0,"","",0,0,"",0,4,"","",0.5,0,"",0,0,0,0,0,0,0,0,0,0,0,0,0,0,0,0,0,0,0,0,"dRN","0650","0651","0826",0]
["09.017",{"$f":"ROW()","v":285},"FAM","HEX",null,null,"Cy5","1735S","17nos",null,null,"17IPC",1,"NFQ","NFQ","","","NFQ","JA",0,6,"","",0.2,0,"",0,6,"","",0.2,0,"",0,0,"","",0,0,"",0,0,"","",0,0,"",0,4,"","",0.5,0,"",0,0,0,0,0,0,0,0,0,0,0,0,0,0,0,0,0,0,0,0,"dRN","0537","0571","0826",-2]
["09.019",{"$f":"ROW()","v":286},"FAM",{"$nulls":3},"HEX","19MON",{"$nulls":3},"19IPC",1,"NFQ","","","","NFQ","JA",0,6,"","",0.2,0,"",0,0,"","",0,0,"",0,0,"","",0,0,"",0,0,"","",0,0,"",0,4,"","",0.5,0,"",0,0,0,0,0,0,0,0,0,0,0,0,0,0,0,0,0,0,0,0,"dRN","0653","0654","0826",0]
["09.020",{"$f":"ROW()","v":287},"FAM",{"$nulls":3},"HEX","20HRW",{"$nulls":3},"20IPC",1,"NFQ","","","","NFQ","JA",0,6,"","",0.2,0,"",0,0,"","",0,0,"",0,0,"","",0,0,"",0,0,"","",0,0,"",0,4,"","",0.5,0,"",0,0,0,0,0,0,0,0,0,0,0,0,0,0,0,0,0,0,0,0,"dRN","0655","0656","0826",0]
["09.021",{"$f":"ROW()","v":288},"FAM",{"$nulls":3},"HEX","21SOY",{"$nulls":3},"21IPC",1,"NFQ","","","","NFQ","JA",0,6,"","",0.2,0,"",0,0,"","",0,0,"",0,0,"","",0,0,"",0,0,"","",0,0,"",0,4,"","",0.5,0,"",0,0,0,0,0,0,0,0,0,0,0,0,0,0,0,0,0,0,0,0,"dRN","0657","0658",0,0]
["09.022",{"$f":"ROW()","v":289},"HEX","ROX","FAM","Cy5","AT425","22NOS","22NPT","22PVG","22PAT","22IPC",1,"NFQ","NFQ","NFQ","NFQ","NFQ","JA",0,7,"","",0.2,0,"",0,8,"","",0.2,0,"",0,7,"","",0.2,0,"",0,7,"","",0.1,0,"",0,4,"","",0.33,0,"",0,0,0,0,0,0,0,0,0,0,0,0,0,0,0,0,0,0,0,0,"dR","0778","0779","0900",-2]
["09.027",{"$f":"ROW()","v":290},"FAM",{"$nulls":3},"HEX","27MON",{"$nulls":3},"27IPC",1,"NFQ","","","","NFQ","JA",0,6,"","",0.2,0,"",0,0,"","",0,0,"",0,0,"","",0,0,"",0,0,"","",0,0,"",0,4,"","",0.33,0,"",0,0,0,0,0,0,0,0,0,0,0,0,0,0,0,0,0,0,0,0,"dRN","0825","0824","0826",0]
["09.028",{"$f":"ROW()","v":291},"FAM",{"$nulls":3},"HEX","28SAM",{"$nulls":3},"28IPC",1,"NFQ","","","","NFQ","JA",0,6,"","",0.2,0,"",0,0,"","",0,0,"",0,0,"","",0,0,"",0,0,"","",0,0,"",0,4,"","",0.33,0,"",0,0,0,0,0,0,0,0,0,0,0,0,0,0,0,0,0,0,0,0,"dRN","0827","0828","0826",0]
["09.029",{"$f":"ROW()","v":292},"FAM",{"$nulls":3},"HEX","29LY",{"$nulls":3},"29IPC",1,"NFQ","","","","NFQ","JA",0,7,"","",0.1,0,"",0,0,"","",0,0,"",0,0,"","",0,0,"",0,0,"","",0,0,"",0,4,"","",0.33,0,"",0,0,0,0,0,0,0,0,0,0,0,0,0,0,0,0,0,0,0,0,"dRN","0855","0854","0826",0]
["09.030",{"$f":"ROW()","v":293},"FAM",{"$nulls":3},"HEX","30GA",{"$nulls":3},"30IPC",1,"NFQ","","","","NFQ","JA",0,6,"","",0.2,0,"",0,0,"","",0,0,"",0,0,"","",0,0,"",0,0,"","",0,0,"",0,4,"","",0.33,0,"",0,0,0,0,0,0,0,0,0,0,0,0,0,0,0,0,0,0,0,0,"dRN","0883","0884","0826",0]
["09.031",{"$f":"ROW()","v":294},"FAM",{"$nulls":3},"HEX","31HX1",{"$nulls":3},"31IPC",1,"NFQ","","","","NFQ","JA",0,6,"","",0.2,0,"",0,0,"","",0,0,"",0,0,"","",0,0,"",0,0,"","",0,0,"",0,4,"","",0.33,0,"",0,0,0,0,0,0,0,0,0,0,0,0,0,0,0,0,0,0,0,0,"dRN","0885","0886","0826",0]
["09.032",{"$f":"ROW()","v":295},"FAM","HEX","ROX","Cy5","Atto 425","3235S","32NOS","32FMV","32LyS","32IPC",{"$f":"COUNTIF(lstMXReporter,A295)","v":1},"NFQ","NFQ","NFQ","NFQ","NFQ","JA",0,8,"","",0.2,0,"",0,7,"","",0.2,0,"",0,7,"","",0.1,0.75,"",0,7,"","",0.15,0.667,"",0,3,"","",0.33,0,"",0,0,0,0,0,0,0,0,0,0,0,0,0,0,0,0,0,0,0,0,"dR","0887","0888","0892",-2]
["09.033",{"$f":"ROW()","v":296},"FAM",{"$nulls":3},"HEX","33RR2",{"$nulls":3},"33IPC",1,"NFQ","","","","NFQ","JA",0,6,"","",0.2,0.5,"",0,0,"","",0,0,"",0,0,"","",0,0,"",0,0,"","",0,0,"",0,4,"","",0.33,0,"",0,0,0,0,0,0,0,0,0,0,0,0,0,0,0,0,0,0,0,0,"dRN","0864","0866","0826",0]
["09.034",{"$f":"ROW()","v":297},"FAM",{"$nulls":3},"HEX","34RRS",{"$nulls":3},"34IPC",1,"NFQ","","","","NFQ","JA",0,6,"","",0.2,0,"",0,0,"","",0,0,"",0,0,"","",0,0,"",0,0,"","",0,0,"",0,4,"","",0.33,0,"",0,0,0,0,0,0,0,0,0,0,0,0,0,0,0,0,0,0,0,0,"dRN","0978","0901","0826",0]
["09.035",{"$f":"ROW()","v":298},"FAM",{"$nulls":3},"HEX","35FMV",{"$nulls":3},"35IPC",1,"NFQ","","","","NFQ","JA",0,6,"","",0.2,0,"",0,0,"","",0,0,"",0,0,"","",0,0,"",0,0,"","",0,0,"",0,4,"","",0.33,0,"",0,0,0,0,0,0,0,0,0,0,0,0,0,0,0,0,0,0,0,0,"dRN","0902","0904","0826",0]
["09.036",{"$f":"ROW()","v":299},"FAM",{"$nulls":3},"HEX","36NOS",{"$nulls":3},"36IPC",1,"NFQ","","","","NFQ","JA",0,7,"","",0.2,0,"",0,0,"","",0,0,"",0,0,"","",0,0,"",0,0,"","",0,0,"",0,4,"","",0.25,0,"",0,0,0,0,0,0,0,0,0,0,0,0,0,0,0,0,0,0,0,0,"dRN","0898","0758","0826",0]
["09.037",{"$f":"ROW()","v":300},"FAM",{"$nulls":3},"HEX","3735S",{"$nulls":3},"37IPC",1,"NFQ","","","","NFQ","JA",0,7,"","",0.2,0,"",0,0,"","",0,0,"",0,0,"","",0,0,"",0,0,"","",0,0,"",0,4,"","",0.25,0,"",0,0,0,0,0,0,0,0,0,0,0,0,0,0,0,0,0,0,0,0,"dRN","0899","0901","0826",0]
["09.038",{"$f":"ROW()","v":301},"FAM",{"$nulls":3},"HEX",38890,{"$nulls":3},"38IPC",1,"NFQ","","","","NFQ","JA",-5,6,"","",0.2,0,"",0,0,"","",0,0,"",0,0,"","",0,0,"",0,0,"","",0,0,"",-3,4,"","",0.33,0,"",0,0,0,0,0,0,0,0,0,0,0,0,0,0,0,0,0,0,0,0,"dRN","0971","0972","0826",0]
["09.039",{"$f":"ROW()","v":302},"FAM",{"$nulls":3},"HEX","39bar",{"$nulls":3},"39IPC",1,"NFQ","","","","NFQ","JA",0,6,"","",0.2,0,"",0,0,"","",0,0,"",0,0,"","",0,0,"",0,0,"","",0,0,"",0,3,"","",0.33,0,"",0,0,0,0,0,0,0,0,0,0,0,0,0,0,0,0,0,0,0,0,"dRN","1010","1012","0826",0]
["09.040",{"$f":"ROW()","v":303},"FAM",{"$nulls":3},"HEX",40880,{"$nulls":3},"40IPC",1,"NFQ","","","","NFQ","JA",0,6,"","",0.2,0,"",0,0,"","",0,0,"",0,0,"","",0,0,"",0,0,"","",0,0,"",0,4,"","",0.33,0,"",0,0,0,0,0,0,0,0,0,0,0,0,0,0,0,0,0,0,0,0,"dRN","1011","1013","0826",0]
["09.041",{"$f":"ROW()","v":304},"FAM",{"$nulls":3},"HEX",41327,{"$nulls":3},"41IPC",1,"NFQ","","","","NFQ","JA",0,6,"","",0.2,0,"",0,0,"","",0,0,"",0,0,"","",0,0,"",0,0,"","",0,0,"",0,4,"","",0.33,0,"",0,0,0,0,0,0,0,0,0,0,0,0,0,0,0,0,0,0,0,0,"dRN","1023","1025","0826",0]
["09.042",{"$f":"ROW()","v":305},"FAM",{"$nulls":3},"HEX","42SPE",{"$nulls":3},"42IPC",1,"NFQ","","","","NFQ","JA",{"$error":"#N/A"},{"$error":"#N/A"},"","",{"$error":"#N/A"},{"$error":"#N/A"},"",{"$error":"#N/A"},{"$error":"#N/A"},"","",{"$error":"#N/A"},{"$error":"#N/A"},"",{"$error":"#N/A"},{"$error":"#N/A"},"","",{"$error":"#N/A"},{"$error":"#N/A"},"",{"$error":"#N/A"},{"$error":"#N/A"},"","",{"$error":"#N/A"},{"$error":"#N/A"},"",{"$error":"#N/A"},{"$error":"#N/A"},"","",{"$error":"#N/A"},{"$error":"#N/A"},"",{"$error":"#N/A"},{"$error":"#N/A"},{"$error":"#N/A"},{"$error":"#N/A"},{"$error":"#N/A"},{"$error":"#N/A"},{"$error":"#N/A"},{"$error":"#N/A"},{"$error":"#N/A"},{"$error":"#N/A"},{"$error":"#N/A"},{"$error":"#N/A"},{"$error":"#N/A"},{"$error":"#N/A"},{"$error":"#N/A"},{"$error":"#N/A"},{"$error":"#N/A"},{"$error":"#N/A"},{"$error":"#N/A"},{"$error":"#N/A"},{"$error":"#N/A"},{"$error":"#N/A"},{"$error":"#N/A"},{"$error":"#N/A"},{"$error":"#N/A"}]
["09.043",{"$f":"ROW()","v":306},"FAM",{"$nulls":3},"HEX","43-H7",{"$nulls":3},"43IPC",1,"NFQ","","","","NFQ","JA",0,6,"","",0.2,0,"",0,0,"","",0,0,"",0,0,"","",0,0,"",0,0,"","",0,0,"",0,4,"","",0.33,0,"",0,0,0,0,0,0,0,0,0,0,0,0,0,0,0,0,0,0,0,0,"dRN","1071","1069","0826",0]
["09.044",{"$f":"ROW()","v":307},"FAM",{"$nulls":3},"HEX","44DP3",{"$nulls":3},"44IPC",1,"NFQ","","","","NFQ","JA",0,6,"","",0.2,0,"",0,0,"","",0,0,"",0,0,"","",0,0,"",0,0,"","",0,0,"",0,4,"","",0.33,0,"",0,0,0,0,0,0,0,0,false,0,0,0,true,0,0,0,0,0,0,0,"dRN","1084","1086","0826",0]
["09.045",{"$f":"ROW()","v":308},"FAM",{"$nulls":3},"HEX","45noD",{"$nulls":3},"45IPC",1,"NFQ","","","","NFQ","JA",0,6,"","",0.2,0,"",0,0,"","",0,0,"",0,0,"","",0,0,"",0,0,"","",0,0,"",0,4,"","",0.33,0,"",0,0,0,0,0,0,0,0,false,0,0,0,true,0,0,0,0,0,0,0,"dRN","1063","1041","0826",0]
["09.046",{"$f":"ROW()","v":309},"FAM",{"$nulls":3},"HEX","46nia",{"$nulls":3},"46IPC",1,"NFQ","","","","NFQ","JA",0,7,"","",0.2,0,"",0,0,"","",0,0,"",0,0,"","",0,0,"",0,0,"","",0,0,"",0,4,"","",0.33,0,"",0,0,0,0,0,0,0,0,false,0,0,0,true,0,0,0,0,0,0,0,"dRN","1091","1093","0826",0]
["09.047",{"$f":"ROW()","v":310},"FAM",{"$nulls":3},"HEX","9047a",{"$nulls":3},"9047i",1,"NFQ","","","","NFQ","JA",-3,7,"","",0.2,0,"",0,0,"","",0,0,"",0,0,"","",0,0,"",0,0,"","",0,0,"",-3,4,"","",0.33,0,"",false,0,0,0,0,0,0,0,false,0,0,0,true,0,0,0,0,0,0,0,"dRN","1925","1926","0826",0]
["09.048",{"$f":"ROW()","v":311},"FAM",{"$nulls":3},"HEX","48T45",{"$nulls":3},"48IPC",1,"NFQ","","","","NFQ","JA",0,7,"","",0.15,0,"",0,0,"","",0,0,"",0,0,"","",0,0,"",0,0,"","",0,0,"",0,3,"","",0.33,0,"",0,0,0,0,0,0,0,0,false,0,0,0,true,0,0,0,0,0,0,0,"dRN","1131","1133","0826",0]
["09.050",{"$f":"ROW()","v":312},"FAM","HEX",null,null,"Cy5","5035S","50NOS",null,null,"50IPC",1,"NFQ","NFQ","","","NFQ","JA",-10,7,"","",0.2,0,"",-10,7,"","",0.2,0,"",0,0,"","",0,0,"",0,0,"","",0,0,"",-2,4,"","",0.33,0,"",0,0,0,0,0,0,0,0,0,0,0,0,0,0,0,0,0,0,0,0,"dRN","1121","1122","0826",0]
["09.052",{"$f":"ROW()","v":313},"FAM",{"$nulls":3},"HEX","52vip",{"$nulls":3},"52IPC",1,"NFQ","","","","NFQ","JA",0,7,"","",0.2,0,"",0,0,"","",0,0,"",0,0,"","",0,0,"",0,0,"","",0,0,"",0,5,"","",0.33,0,"",0,0,0,0,false,0,0,0,false,0,0,0,true,0,0,0,0,0,0,0,"dRN","1157","1158","0826",0]
["09.053",{"$f":"ROW()","v":314},"FAM",{"$nulls":3},"HEX",53981,{"$nulls":3},"53IPC",1,"NFQ","","","","NFQ","JA",0,6,"","",0.2,0,"",0,0,"","",0,0,"",0,0,"","",0,0,"",0,0,"","",0,0,"",0,4,"","",0.33,0,"",0,0,0,0,false,0,0,0,false,0,0,0,true,0,0,0,0,0,0,0,"dRN","1161","1163","0826",0]
["09.055",{"$f":"ROW()","v":315},"FAM",{"$nulls":3},"HEX","55KMD",{"$nulls":3},"55IPC",1,"NFQ","","","","NFQ","JA",0,6,"","",0.2,0,"",0,0,"","",0,0,"",0,0,"","",0,0,"",0,0,"","",0,0,"",0,3,"","",0.33,0,"",0,0,0,0,false,0,0,0,false,0,0,0,true,0,0,0,0,0,0,0,"dRN","1352","1354","0826",0]
["09.061",{"$f":"ROW()","v":316},"FAM","HEX","ROX",null,"Cy5","6135S","61NOS","61FMV",null,"61IPC",1,"NFQ","NFQ","NFQ",null,"NFQ","JA",-10,8,"","",0.2,0,"",-10,8,"","",0.2,0,"",-10,9,"","",0.2,0,"",0,0,"","",0,0,"",-2,3,"","",0.2,0,"",0,0,0,0,0,0,0,0,0,0,0,0,0,0,0,0,0,0,0,0,"dR","1221","1223","0892",-4]
["09.063",{"$f":"ROW()","v":317},"FAM",{"$nulls":3},"HEX",63127,{"$nulls":3},"63IPC",1,"NFQ","","","","NFQ","JA",0,8,"","",0.2,0,"",0,0,"","",0,0,"",0,0,"","",0,0,"",0,0,"","",0,0,"",0,3,"","",0.33,0,"",0,0,0,0,false,0,0,0,false,0,0,0,true,0,0,0,0,0,0,0,"dRN","1216","1219","0826",0]
["09.064",{"$f":"ROW()","v":318},"FAM","HEX","Cy5","ROX","Atto 425","64HX1","64T25",64810,"64HRW","64IPC",1,"NFQ","NFQ","NFQ","NFQ","NFQ","JA",0,7,"","",0.2,0,"",0,7,"","",0.15,0,"",0,7,"","",0.2,0,"",0,7,"","",0.1,0,"",0,4,"","",0.33,0,"",0,0,0,0,false,0,0,0,false,0,0,0,true,0,0,0,0,0,0,0,"dR","1542","1543","0892",-4]
["09.068",{"$f":"ROW()","v":319},"FAM",{"$nulls":3},"HEX","68T25",{"$nulls":3},"68IPC",1,"NFQ",{"$nulls":3},"NFQ","JA",0,6,"","",0.2,0,"",0,0,"","",0,0,"",0,0,"","",0,0,"",0,0,"","",0,0,"",0,4,"","",0.25,0,"",false,0,0,0,false,0,0,0,false,0,0,0,false,0,0,0,false,false,false,false,"dRN","1247","1248","0826",0]
["09.076",{"$f":"ROW()","v":320},"HEX","ROX","FAM","Cy5","Atto 425","76nos","76npt","76PVG","76pat","76IPC",1,"NFQ","NFQ","NFQ","NFQ","NFQ","JA",0,7,"","",0.2,0,"",0,8,"","",0.2,0,"",0,7,"","",0.2,0,"",0,7,"","",0.2,0,"",0,3,"","",0.33,0,"",false,0,0,0,false,0,0,0,false,0,0,0,false,0,0,0,false,false,false,false,"dR","2614","1487","2602",-8]
["09.076 V02",{"$f":"ROW()","v":321},"HEX","ROX","FAM","Cy5","Atto 425","76NOS","76npt","76PVG","76PAT","76IPC",1,"NFQ","NFQ","NFQ","NFQ","NFQ","JA",0,7,"","",0.2,0,"",0,8,"","",0.2,0,"",0,7,"","",0.2,0,"",0,7,"","",0.2,0,"",0,3,"","",0.33,0,"",false,0,0,0,false,0,0,0,false,0,0,0,false,0,0,0,false,false,false,false,"dR","2614","1487","2602",-8]
["09.083",{"$f":"ROW()","v":322},"FAM","HEX",null,null,"Cy5","83BAR","83PAT",null,null,"83IPC",1,"NFQ","NFQ","","","NFQ","JA",0,6,"","",0.2,0,"",0,7,"","",0.15,0,"",0,0,"","",0,0,"",0,0,"","",0,0,"",-3,3,"","",0.33,0,"",0,0,0,0,0,0,0,0,0,0,0,0,0,0,0,0,0,0,0,0,"dRN","1572","1573","0826",0]
["09.085",{"$f":"ROW()","v":323},"FAM",{"$nulls":3},"HEX","85lec",{"$nulls":3},"85IPC",1,"TAMRA","","","","NFQ","JA",0,8,"","",0.2,0,"",0,0,"","",0,0,"",0,0,"","",0,0,"",0,0,"","",0,0,"",0,3,"","",0.33,0,"",0,0,0,0,false,0,0,0,false,0,0,0,true,0,0,0,0,0,0,0,"dRN","1610","0901",0,0]
["09.088",{"$f":"ROW()","v":324},"FAM","HEX",null,null,"Cy5",90881,90882,null,null,"9088i",1,"NFQ","NFQ","","","NFQ","JA",0,6,"","",0.2,0,"",0,7,"","",0.2,0,"",0,0,"","",0,0,"",0,0,"","",0,0,"",0,3,"","",0.33,0,"",false,0,0,0,false,0,0,0,false,0,0,0,true,0,0,0,0,0,0,0,"dRN","1756","1757","0826",-10]
["09.091",{"$f":"ROW()","v":325},"FAM",{"$nulls":3},"HEX",91874,{"$nulls":3},"91IPC",1,"NFQ","","","","NFQ","JA",0,5,"","",0.2,0,"",0,0,"","",0,0,"",0,0,"","",0,0,"",0,0,"","",0,0,"",0,4,"","",0.33,0,"",false,0,0,0,false,0,0,0,false,0,0,0,true,0,0,0,0,0,0,0,"dRN","1825","1827","0826",0]
["09.092",{"$f":"ROW()","v":326},"HEX","FAM",null,null,"Cy5","9092a","9092b",null,null,"9092i",1,"NFQ","NFQ","","","NFQ","JA",-11,5,"","",0.2,0,"",-11,5,"","",0.2,0,"",0,0,"","",0,0,"",0,0,"","",0,0,"",-3,3,"","",0.7,0,"",false,0,0,0,0,0,0,0,0,0,0,0,0,0,0,0,0,0,0,0,"dRN","1876","1877","0826",-11]
["09.095",{"$f":"ROW()","v":327},"FAM",{"$nulls":3},"HEX","9095a",{"$nulls":3},"9095i",{"$f":"COUNTIF(lstMXReporter,A327)","v":1},"NFQ","","","","NFQ","JA",0,5,"","",0.2,0,"",0,0,"","",0,0,"",0,0,"","",0,0,"",0,0,"","",0,0,"",0,3,"","",0.33,0,"",false,0,0,0,0,0,0,0,0,0,0,0,0,0,0,0,0,0,0,0,"dRN","1859","1860","0826",0]
["09.099",{"$f":"ROW()","v":328},"FAM",{"$nulls":3},"HEX","9099a",{"$nulls":3},"9099i",1,"NFQ",{"$nulls":3},"NFQ","JA",-3,6,"","",0.2,0,"",0,0,"","",0,0,"",0,0,"","",0,0,"",0,0,"","",0,0,"",-3,4,"","",0.33,0,"",false,0,0,0,false,0,0,0,false,0,0,0,false,0,0,0,false,false,false,false,"dRN","1964","1354","0826",0]
["09.102",{"$f":"ROW()","v":329},"FAM",{"$nulls":3},"HEX","9102a",{"$nulls":3},"9102i",1,"NFQ",{"$nulls":3},"NFQ","JA",0,6,"","",0.2,0,"",0,0,"","",0,0,"",0,0,"","",0,0,"",0,0,"","",0,0,"",-3,3,"","",0.33,0,"",false,0,0,0,false,0,0,0,false,0,0,0,false,0,0,0,false,false,false,false,"dRN","2607","2608","2602",0]
["09.103",{"$f":"ROW()","v":330},"FAM",{"$nulls":3},"HEX","9103a",{"$nulls":3},"9103i",1,"NFQ",{"$nulls":3},"NFQ","JA",0,6,"","",0.2,0,"",0,0,"","",0,0,"",0,0,"","",0,0,"",0,0,"","",0,0,"",-3,4,"","",0.33,0,"",false,0,0,0,false,0,0,0,false,0,0,0,false,0,0,0,false,false,false,false,"dRN","1938","1939","0826",0]
["09.106",{"$f":"ROW()","v":331},"FAM",{"$nulls":3},"HEX","9106a",{"$nulls":3},"9106i",1,"NFQ",{"$nulls":3},"NFQ","JA",0,6,"","",0.2,0,"",0,0,"","",0,0,"",0,0,"","",0,0,"",0,0,"","",0,0,"",-3,4,"","",0.33,0,"",false,0,0,0,false,0,0,0,false,0,0,0,false,0,0,0,false,false,false,false,"dRN","2019","2020","0826",0]
["09.107",{"$f":"ROW()","v":332},"FAM",{"$nulls":3},"HEX","9107a",{"$nulls":3},"9107i",1,"NFQ",{"$nulls":3},"NFQ","JA",0,6,"","",0.2,0,"",0,0,"","",0,0,"",0,0,"","",0,0,"",0,0,"","",0,0,"",-3,4,"","",0.33,0,"",false,0,0,0,false,0,0,0,false,0,0,0,false,0,0,0,false,false,false,false,"dRN","1994","1995","0826",0]
["09.110",{"$f":"ROW()","v":333},"FAM",{"$nulls":3},"HEX","9110a",{"$nulls":3},"9110i",1,"NFQ",{"$nulls":3},"NFQ","JA",-5,8,"","",0.2,0,"",0,0,"","",0,0,"",0,0,"","",0,0,"",0,0,"","",0,0,"",-3,3,"","",0.33,0,"",false,0,0,0,false,0,0,0,false,0,0,0,false,0,0,0,false,false,false,false,"dRN","2032","2033","0826",0]
["09.111",{"$f":"ROW()","v":334},"FAM",{"$nulls":3},"HEX","9111a",{"$nulls":3},"9111i",1,"NFQ",{"$nulls":3},"NFQ","JA",0,6,"","",0.15,0,"",0,0,"","",0,0,"",0,0,"","",0,0,"",0,0,"","",0,0,"",-3,4,"","",0.33,0,"",false,0,0,0,false,0,0,0,false,0,0,0,false,0,0,0,false,false,false,false,"dRN","1998","2000","0826",0]
["09.115",{"$f":"ROW()","v":335},"FAM",{"$nulls":3},"HEX","9115a",{"$nulls":3},"9115i",1,"NFQ",{"$nulls":3},"NFQ","JA",0,6,"","",0.2,0,"",0,0,"","",0,0,"",0,0,"","",0,0,"",0,0,"","",0,0,"",-3,4,"","",0.33,0,"",false,0,0,0,false,0,0,0,false,0,0,0,false,0,0,0,false,false,false,false,"dRN","2035",2602,"0658",0]
["09.116",{"$f":"ROW()","v":336},"FAM",{"$nulls":3},"HEX","9116a",{"$nulls":3},"9116i",1,"NFQ",{"$nulls":3},"NFQ","JA",0,9,"","",0.15,0,"",0,0,"","",0,0,"",0,0,"","",0,0,"",0,0,"","",0,0,"",-3,3,"","",0.33,0,"",false,0,0,0,false,0,0,0,false,0,0,0,false,0,0,0,false,false,false,false,"dRN","2532","2533",2602,0]
["09.117",{"$f":"ROW()","v":337},"FAM",{"$nulls":3},"HEX","9117a",{"$nulls":3},"9117i",1,"NFQ",{"$nulls":3},"NFQ","JA",0,9,"","",0.15,0,"",0,0,"","",0,0,"",0,0,"","",0,0,"",0,0,"","",0,0,"",-3,3,"","",0.33,0,"",false,0,0,0,false,0,0,0,false,0,0,0,false,0,0,0,false,false,false,false,"dRN","2531","0654",2602,0]
["09.118",{"$f":"ROW()","v":338},"FAM","Cy5",null,null,"HEX","9118a","9118b",null,null,"9118i",1,"NFQ","NFQ",null,null,"NFQ","JA",-11,5,"","",0.2,0,"",-11,5,"","",0.2,0,"",0,0,"","",0,0,"",0,0,"","",0,0,"",-3,3,"","",0.33,0,"",false,0,0,0,false,0,0,0,false,0,0,0,false,0,0,0,false,false,false,false,"dRN","2075","2076",2602,11]
["09.119",{"$f":"ROW()","v":339},"FAM",{"$nulls":3},"HEX","9119a",{"$nulls":3},"9119i",1,"NFQ",{"$nulls":3},"NFQ","JA",0,6,"","",0.15,0,"",0,0,"","",0,0,"",0,0,"","",0,0,"",0,0,"","",0,0,"",-3,3,"","",0.33,0,"",false,0,0,0,false,0,0,0,false,0,0,0,false,0,0,0,false,false,false,false,"dRN","2484","2065",2602,0]
["09.120",{"$f":"ROW()","v":340},"FAM",{"$nulls":3},"HEX","9120a",{"$nulls":3},"9120i",1,"NFQ",{"$nulls":3},"NFQ","JA",-5,6,"","",0.2,0,"",0,0,"","",0,0,"",0,0,"","",0,0,"",0,0,"","",0,0,"",-3,3,"","",0.33,0,"",false,0,0,0,false,0,0,0,false,0,0,0,false,0,0,0,false,false,false,false,"dRN","2076","2077",2602,0]
["09.121",{"$f":"ROW()","v":341},"FAM","HEX","ROX",null,"Cy5","9121a","9121b","9121c",null,"9121i",1,"NFQ","NFQ","NFQ",null,"NFQ","JA",-10,6,"","",0.2,0,"",-10,6,"","",0.2,0,"",-10,6,"","",0.2,0,"",0,0,"","",0,0,"",-2,3,"","",0.33,0,"",false,0,0,0,false,0,0,0,false,0,0,0,false,0,0,0,false,false,false,false,"dR","2692","2694","2602",10]
["09.124",{"$f":"ROW()","v":342},"FAM",{"$nulls":3},"HEX","9124a",{"$nulls":3},"9124i",1,"NFQ",{"$nulls":3},"NFQ","JA",-10,8,0,0,0.2,0,0,0,{"$nulls":6},0,{"$nulls":6},0,{"$nulls":6},-3,3,0,0,0.33,0,0,false,null,null,0,{"$nulls":12},false,{"$nulls":3},"dRN",2718,2602,2602,0]
["09.125",{"$f":"ROW()","v":343},"FAM",{"$nulls":3},"HEX","9125a",{"$nulls":3},"9125i",1,"NFQ",{"$nulls":3},"NFQ","JA",-10,8,0,0,0.2,0,0,0,{"$nulls":6},0,{"$nulls":6},0,{"$nulls":6},-3,3,0,0,0.33,0,0,false,null,null,0,{"$nulls":12},false,{"$nulls":3},"dRN",2746,2747,2602,0]
["09.126",{"$f":"ROW()","v":344},"FAM","HEX","ROX",null,"Cy5","9126a","9126b","9126c",null,"9126i",1,"NFQ","NFQ","NFQ",null,"NFQ","JA",-10,8,0,0,0.2,0,0,-10,8,0,0,0.2,0,0,-10,9,0,0,0.2,0,0,0,{"$nulls":6},-3,3,0,0,0.33,0,0,false,null,null,0,false,null,null,0,false,null,null,0,{"$nulls":4},false,false,false,null,"dR",2737,2742,2602,10]
["09.127",{"$f":"ROW()","v":345},"FAM",{"$nulls":3},"HEX","9127a",{"$nulls":3},"9127i",1,"NFQ",{"$nulls":3},"NFQ","JA",-10,8,0,0,0.2,0,0,0,{"$nulls":6},0,{"$nulls":6},0,{"$nulls":6},-3,3,0,0,0.33,0,0,false,null,null,0,{"$nulls":12},false,{"$nulls":3},"dRN",2752,2753,2602,0]
["09.131",{"$f":"ROW()","v":346},"FAM","HEX",null,null,"Cy5","9131a","9131b",null,null,"9131i",1,"NFQ","NFQ",null,null,"NFQ","JA",-10,7,0,0,0.2,0,0,-10,7,0,0,0.2,0,0,0,{"$nulls":6},0,{"$nulls":6},-3,3,0,0,0.33,0,0,false,null,null,0,false,null,null,0,{"$nulls":8},false,false,null,null,"dRN",2807,2808,2602,12]
["09.133",{"$f":"ROW()","v":347},"FAM",{"$nulls":3},"HEX","9133a",{"$nulls":3},"9133i",1,"NFQ",{"$nulls":3},"NFQ","JA",-10,8,0,0,0.2,0,0,0,{"$nulls":6},0,{"$nulls":6},0,{"$nulls":6},-3,3,0,0,0.33,0,0,false,null,null,0,{"$nulls":12},false,{"$nulls":3},"dRN",2765,2766,2602,0]
["09.135",{"$f":"ROW()","v":348},"FAM","HEX","ROX",null,"Cy5","9135a","9135b","9135c",null,"9135i",1,"NFQ","NFQ","NFQ",null,"NFQ","JA",-10,8,0,0,0.2,0,0,-10,8,0,0,0.2,0,0,-10,8,0,0,0.2,0,0,0,{"$nulls":6},-3,3,0,0,0.33,0,0,false,null,null,0,false,null,null,0,false,null,null,0,{"$nulls":4},false,false,false,null,"dR",2778,2780,2602,12]
["09.136",{"$f":"ROW()","v":349},"FAM","HEX","ROX",null,"Cy5","9136a","9136b","9136c",null,"9136i",1,"NFQ","NFQ","NFQ",null,"NFQ","JA",-10,8,0,0,0.2,0,0,-10,8,0,0,0.2,0,0,-10,9,0,0,0.2,0,0,0,{"$nulls":6},-3,3,0,0,0,0,0,false,null,null,0,false,null,null,0,false,null,null,0,{"$nulls":4},false,false,false,null,"dR",2842,2844,2602,10,{"$nulls":6},true]
["09.138",{"$f":"ROW()","v":350},"FAM",{"$nulls":3},"HEX","9138a",{"$nulls":3},"9138i",1,"NFQ",{"$nulls":3},"NFQ","JA",-10,8,0,0,0.2,0,0,0,{"$nulls":6},0,{"$nulls":6},0,{"$nulls":6},-3,3,0,0,0.33,0,0,false,null,null,0,{"$nulls":12},false,{"$nulls":3},"dR",2856,2753,2602,0,{"$nulls":6},false]
["09.139",{"$f":"ROW()","v":351},"FAM","HEX","ROX",null,"Cy5","9139a","9139b","9139c",null,"9139i",1,"NFQ","NFQ","NFQ",null,"NFQ","JA",-10,8,0,0,0.2,0,0,-10,8,0,0,0.2,0,0,-10,8,0,0,0.2,0,0,0,{"$nulls":6},-3,3,0,0,0.33,0,0,false,null,null,0,false,null,null,0,false,null,null,0,{"$nulls":4},false,false,false,null,"dR",2860,2861,2602,12,{"$nulls":6},false]
["09.140",{"$f":"ROW()","v":352},"FAM",{"$nulls":3},"HEX","9140a",{"$nulls":3},"9140i",1,"NFQ",{"$nulls":3},"NFQ","JA",-10,8,0,0,0.2,0,0,{"$nulls":21},-3,3,0,0,0.2,0,0,false,null,null,0,{"$nulls":12},false,{"$nulls":3},"dRN",2883,2602,901,0,{"$nulls":6},false]
["09.141",{"$f":"ROW()","v":353},"FAM",{"$nulls":3},"HEX","9141a",{"$nulls":3},"9141i",1,"NFQ",{"$nulls":3},"NFQ","JA",-10,8,0,0,0.2,0,0,{"$nulls":21},-3,3,0,0,0.33,0,0,false,null,null,0,{"$nulls":12},false,{"$nulls":3},"dRN",2985,2986,2602,0,{"$nulls":6},false]
["09.142",{"$f":"ROW()","v":354},"FAM",{"$nulls":3},"HEX","9142a",{"$nulls":3},"9142i",1,"NFQ",{"$nulls":3},"NFQ","JA",-10,8,0,0,0.2,0,0,{"$nulls":21},-3,3,0,0,0.33,0,0,false,null,null,0,{"$nulls":12},false,{"$nulls":3},"dRN",2971,901,2602,0,{"$nulls":6},false]
["09.143",{"$f":"ROW()","v":355},"FAM",{"$nulls":3},"HEX","9143a",{"$nulls":3},"9143i",1,"NFQ",{"$nulls":3},"NFQ","JA",-10,7,0,0,0.2,0,0,{"$nulls":21},-3,3,0,0,0.33,0,0,false,null,null,0,{"$nulls":12},false,{"$nulls":3},"dRN",2953,2954,2602,0,{"$nulls":6},false]
["09.144",{"$f":"ROW()","v":356},"FAM",{"$nulls":3},"HEX","9144a",{"$nulls":3},"9144i",1,"NFQ",{"$nulls":3},"NFQ","JA",-10,8,0,0,0.2,0,0,{"$nulls":21},-3,3,0,0,0.33,0,0,false,null,null,0,{"$nulls":12},false,{"$nulls":3},"dRN",2946,2948,2602,0,{"$nulls":6},false]
["09.145",{"$f":"ROW()","v":357},"FAM","HEX","ROX",null,"Cy5","9145a","9145b","9145c",null,"9145i",1,"NFQ","NFQ","NFQ",null,"NFQ","JA",-10,8,0,0,0.2,0,0,-10,8,0,0,0.2,0,0,-10,8,0,0,0.2,0,0,{"$nulls":7},-3,3,0,0,0.33,0,0,false,null,null,0,false,null,null,0,false,null,null,0,{"$nulls":4},false,false,false,null,"dR",2974,2975,3043,7,{"$nulls":6},false]
["09.146",{"$f":"ROW()","v":358},"FAM",{"$nulls":3},"HEX","9146a",{"$nulls":3},"9146i",1,"NFQ",{"$nulls":3},"NFQ","JA",-10,8,0,0,0.2,0,0,{"$nulls":21},-3,3,0,0,0.33,0,0,false,null,null,0,{"$nulls":12},false,{"$nulls":3},"dRN",2965,2966,2602,0,{"$nulls":6},false]
["09.147",{"$f":"ROW()","v":359},"FAM",{"$nulls":3},"HEX","9147a",{"$nulls":3},"9147i",{"$f":"COUNTIF(lstMXReporter,A359)","v":1},"NFQ",{"$nulls":3},"NFQ","JA",-10,8,0,0,0.2,0,0,{"$nulls":21},-3,3,0,0,0.33,0,0,false,null,null,0,{"$nulls":12},false,{"$nulls":3},"dRN",3036,3037,2602,0,{"$nulls":6},false]
["09.148",{"$f":"ROW()","v":360},"FAM","HEX","ROX",null,"Cy5","9148a","9148b","9148c",null,"9148i",1,"NFQ","NFQ","NFQ",null,"NFQ","JA",-10,8,0,0,0.2,0,0,-10,8,0,0,0.2,0,0,-10,8,0,0,0.15,0,0,{"$nulls":7},-3,3,0,0,0.33,0,0,false,null,null,0,false,null,null,0,false,null,null,0,{"$nulls":4},false,false,false,null,"dR",3117,3118,3043,8,{"$nulls":6},false]
["09.152",{"$f":"ROW()","v":361},"FAM",{"$nulls":3},"HEX","9152a",{"$nulls":3},"9152i",1,"NFQ",{"$nulls":3},"NFQ","JA",-10,8,0,0,0.2,0,0,{"$nulls":21},-3,3,0,0,0.33,0,0,false,null,null,0,{"$nulls":12},false,{"$nulls":3},"dRN",3049,1219,2602,0,{"$nulls":6},false]
["09.154",{"$f":"ROW()","v":362},"FAM",{"$nulls":3},"HEX","9154a",{"$nulls":3},"9154i",1,"NFQ",{"$nulls":3},"NFQ","JA",-10,8,0,0,0.2,0,0,{"$nulls":21},-3,3,0,0,0.33,0,0,false,null,null,0,{"$nulls":12},false,{"$nulls":3},"dRN",3178,854,2602,0,{"$nulls":6},false]
["09.155",{"$f":"ROW()","v":363},"FAM",{"$nulls":3},"HEX","9155a",{"$nulls":3},"9155i",1,"NFQ",{"$nulls":3},"NFQ","JA",-10,8,0,0,0.2,0,0,{"$nulls":21},-3,3,0,0,0.33,0,0,false,null,null,0,{"$nulls":12},false,{"$nulls":3},"dRN",3078,3079,2602,0,{"$nulls":6},false]
["09.156",{"$f":"ROW()","v":364},"FAM",{"$nulls":3},"HEX","9156a",{"$nulls":3},"9156i",1,"NFQ",{"$nulls":3},"NFQ","JA",-10,8,0,0,0.2,0,0,{"$nulls":21},-3,3,0,0,0.33,0,0,false,null,null,0,{"$nulls":12},false,{"$nulls":3},"dRN",3053,1086,2602,0,{"$nulls":6},false]
["09.158",{"$f":"ROW()","v":365},"FAM",{"$nulls":3},"HEX","9158a",{"$nulls":3},"9158i",1,"NFQ",{"$nulls":3},"NFQ","JA",-11,8,0,0,0.2,0,0,{"$nulls":21},-3,3,0,0,0.33,0,0,false,null,null,0,{"$nulls":12},false,{"$nulls":3},"dRN",3088,3089,2602,0,{"$nulls":6},false]
["09.159",{"$f":"ROW()","v":366},"FAM",{"$nulls":3},"HEX","9159a",{"$nulls":3},"9159i",1,"NFQ",{"$nulls":3},"NFQ","JA",-10,8,0,0,0.2,0,0,{"$nulls":21},-3,3,0,0,0.33,0,0,false,null,null,0,{"$nulls":12},false,{"$nulls":3},"dRN",3135,2076,2602,0,{"$nulls":6},false]
["09.161",{"$f":"ROW()","v":367},"FAM",{"$nulls":3},"HEX","9161a",{"$nulls":3},"9161i",1,"NFQ",{"$nulls":3},"NFQ","JA",-10,8,0,0,0.2,0,0,{"$nulls":21},-3,3,0,0,0.33,0,0,false,null,null,0,{"$nulls":12},false,{"$nulls":3},"dRN",3153,1012,2602,0,{"$nulls":6},false]
["09.162",{"$f":"ROW()","v":368},"FAM",{"$nulls":3},"HEX","9162a",{"$nulls":3},"9162i",1,"NFQ",{"$nulls":3},"NFQ","JA",-10,8,0,0,0.2,0,0,{"$nulls":21},-3,3,0,0,0.33,0,0,false,null,null,0,{"$nulls":12},false,{"$nulls":3},"dRN",3147,3089,2602,0,{"$nulls":6},false]
["09.163",{"$f":"ROW()","v":369},"FAM",{"$nulls":3},"HEX","9163a",{"$nulls":3},"9163i",1,"NFQ",{"$nulls":3},"NFQ","JA",-10,8,0,0,0.2,0,0,{"$nulls":21},-3,3,0,0,0.33,0,0,false,null,null,0,{"$nulls":12},false,{"$nulls":3},"dRN",3141,2076,2602,0,{"$nulls":6},false]
["09.164",{"$f":"ROW()","v":370},"FAM",{"$nulls":3},"HEX","9164a",{"$nulls":3},"9164i",1,"NFQ",{"$nulls":3},"NFQ","JA",-10,8,0,0,0.2,0,0,{"$nulls":21},-3,3,0,0,0.33,0,0,false,null,null,0,{"$nulls":12},false,{"$nulls":3},"dRN",3158,866,2602,0,{"$nulls":6},false]
["11.001",{"$f":"ROW()","v":371},"FAM",{"$nulls":3},"HEX","1101a",{"$nulls":3},"1101i",1,"NFQ",{"$nulls":3},"NFQ","JA",-10,8,0,0,0.2,0,0,0,{"$nulls":6},0,{"$nulls":6},0,{"$nulls":6},-3,3,0,0,0.33,0,0,false,null,null,0,{"$nulls":12},false,{"$nulls":3},"dRN",2802,2602,2803,0]
[]
[]
["tabCFXReporter",{"$nulls":16},{"$f":"COLUMN()","v":18},{"$f":"COLUMN()","v":19},{"$f":"COLUMN()","v":20},{"$f":"COLUMN()","v":21},{"$f":"COLUMN()","v":22},{"$f":"COLUMN()","v":23},{"$f":"COLUMN()","v":24},{"$f":"COLUMN()","v":25},{"$f":"COLUMN()","v":26},{"$f":"COLUMN()","v":27},{"$f":"COLUMN()","v":28},{"$f":"COLUMN()","v":29},{"$f":"COLUMN()","v":30},{"$f":"COLUMN()","v":31},{"$f":"COLUMN()","v":32},{"$f":"COLUMN()","v":33},{"$f":"COLUMN()","v":34},{"$f":"COLUMN()","v":35},{"$f":"COLUMN()","v":36},{"$f":"COLUMN()","v":37},{"$f":"COLUMN()","v":38},{"$f":"COLUMN()","v":39},{"$f":"COLUMN()","v":40},{"$f":"COLUMN()","v":41},{"$f":"COLUMN()","v":42},{"$f":"COLUMN()","v":43},{"$f":"COLUMN()","v":44},{"$f":"COLUMN()","v":45},{"$f":"COLUMN()","v":46},{"$f":"COLUMN()","v":47},{"$f":"COLUMN()","v":48},{"$f":"COLUMN()","v":49},{"$f":"COLUMN()","v":50},{"$f":"COLUMN()","v":51},{"$f":"COLUMN()","v":52},{"$f":"COLUMN()","v":53},{"$f":"COLUMN()","v":54},{"$f":"COLUMN()","v":55},{"$f":"COLUMN()","v":56},{"$f":"COLUMN()","v":57},{"$f":"COLUMN()","v":58},{"$f":"COLUMN()","v":59},{"$f":"COLUMN()","v":60},{"$f":"COLUMN()","v":61},{"$f":"COLUMN()","v":62},{"$f":"COLUMN()","v":63},{"$f":"COLUMN()","v":64},{"$f":"COLUMN()","v":65},{"$f":"COLUMN()","v":66},{"$f":"COLUMN()","v":67},{"$f":"COLUMN()","v":68},{"$f":"COLUMN()","v":69},{"$f":"COLUMN()","v":70},{"$f":"COLUMN()","v":71},{"$f":"COLUMN()","v":72},{"$f":"COLUMN()","v":73},{"$f":"COLUMN()","v":74},{"$f":"COLUMN()","v":75},{"$f":"COLUMN()","v":76},{"$f":"COLUMN()","v":77},{"$f":"COLUMN()","v":78},{"$f":"COLUMN()","v":79},{"$f":"COLUMN()","v":80},{"$f":"COLUMN()","v":81},{"$f":"COLUMN()","v":82},{"$f":"COLUMN()","v":83},{"$f":"COLUMN()","v":84},{"$f":"COLUMN()","v":85},{"$f":"COLUMN()","v":86},{"$f":"COLUMN()","v":87},{"$f":"COLUMN()","v":88},{"$f":"COLUMN()","v":89},{"$f":"COLUMN()","v":90},{"$f":"COLUMN()","v":91},{"$f":"COLUMN()","v":92},{"$f":"COLUMN()","v":93},{"$f":"COLUMN()","v":94},{"$f":"COLUMN()","v":95},{"$f":"COLUMN()","v":96},{"$f":"COLUMN()","v":97},{"$f":"COLUMN()","v":98},{"$f":"COLUMN()","v":99},{"$f":"COLUMN()","v":100},{"$f":"COLUMN()","v":101},{"$f":"COLUMN()","v":102},{"$f":"COLUMN()","v":103},{"$f":"COLUMN()","v":104}]
[null,null,"Reporter Dye",{"$nulls":4},"Name Detektor",{"$nulls":5},"Quencher",{"$nulls":5},"System1",{"$nulls":6},"System2",{"$nulls":6},"System3",{"$nulls":6},"System4",{"$nulls":6},"System5",{"$nulls":6},"Cutoff Sensitivitätsergebnis System1",{"$nulls":3},"Cutoff Sensitivitätsergebnis System2",{"$nulls":3},"Cutoff Sensitivitätsergebnis System3",{"$nulls":3},"Cutoff Sensitivitätsergebnis System4",{"$nulls":3},"Nur CutOff-Auswertung (siehe 08.34)",{"$nulls":3},"ROX","Identifier",null,null,"Delta Cq-",{"$nulls":6},"IPC"]
["Modul","Zeile",1,2,3,4,"IPC",1,2,3,4,"IPC","Anzahl Modul in Liste",1,2,3,4,"IPC","Validiert für 7500","CqCutOff1","CqCutOff2","CqCutOff3","CqCutOff4","RNLImit1","RNLImit2","RNLImit3","CqCutOff1","CqCutOff2","CqCutOff3","CqCutOff4","RNLImit1","RNLImit2","RNLImit3","CqCutOff1","CqCutOff2","CqCutOff3","CqCutOff4","RNLImit1","RNLImit2","RNLImit3","CqCutOff1","CqCutOff2","CqCutOff3","CqCutOff4","RNLImit1","RNLImit2","RNLImit3","CqCutOff1","CqCutOff2","CqCutOff3","CqCutOff4","RNLImit1","RNLImit2","RNLImit3","Vorhanden",null,null,"StdDev ","Vorhanden","K+ (Kopien/Rxn)","Cutoff (Kopien/Rxn)","Faktor","Vorhanden","K+ (Kopien/Rxn)","Cutoff (Kopien/Rxn)","Faktor","Vorhanden","K+ (Kopien/Rxn)","Cutoff (Kopien/Rxn)","Faktor","System1","System 2","System3","System 4","Normalisierung","MM","K+","BM","Asymmetrie",{"$nulls":6},"Nur CutOff"]
["08.020",{"$f":"ROW()","v":377},"FAM",{"$nulls":3},"HEX","20HOR",{"$nulls":3},"20IPH",{"$f":"COUNTIF(lstCFXReporter,A377)","v":1},"NFQ","","","","NFQ","JA",0,6,"","",0.2,0,"",0,0,"","",0,0,"",0,0,"","",0,0,"",0,0,"","",0,0,"",0,3,"","",0.33,0,"",true,0,0,0.64,0,0,0,0,0,0,0,0,0,0,0,0,0,0,0,0,"dRN","1663","1664","0826",0]
["08.026",{"$f":"ROW()","v":378},"FAM",{"$nulls":3},"HEX",80261,{"$nulls":3},"8026i",1,"NFQ","","","","NFQ","NEIN",0,8,"","",0.2,0,"",0,0,"","",0,0,"",0,0,"","",0,0,"",0,0,"","",0,0,"",-5,3,"","",0.33,0,"",false,0,0,0,0,0,0,0,0,0,0,0,0,0,0,0,0,0,0,0,"dRN","1832","1833",2602,0]
["08.027",{"$f":"ROW()","v":379},"FAM","HEX",null,null,"Cy5",80271,80272,null,null,"27IPC",1,"NFQ","NFQ","","","NFQ","NEIN",0,7,"","",0.2,0,"",0,7,"","",0.2,0,"",0,0,"","",0,0,"",0,0,"","",0,0,"",-3,3,"","",0.33,0,"",false,0,0,0,0,0,0,0,0,0,0,0,0,0,0,0,0,0,0,0,"dRN","1820","1821",2602,-5]
["08.028",{"$f":"ROW()","v":380},"FAM",{"$nulls":3},"VIC","8028a",{"$nulls":3},"8028i",1,"NFQ","","","","NFQ","JA",0,8,"","",0.2,0,"",0,0,"","",0,0,"",0,0,"","",0,0,"",0,0,"","",0,0,"",-3,3,"","",0.33,0,"",false,0,0,0,0,0,0,0,0,0,0,0,0,0,0,0,0,0,0,0,"dRN","1886","1869",2602,0]
["08.029",{"$f":"ROW()","v":381},"FAM",{"$nulls":3},"HEX","8029a",{"$nulls":3},"8029i",1,"NFQ","","","","NFQ","NEIN",0,8,"","",0.2,0,"",0,0,"","",0,0,"",0,0,"","",0,0,"",0,0,"","",0,0,"",-3,3,"","",0.33,0,"",false,0,0,0,0,0,0,0,0,0,0,0,0,0,0,0,0,0,0,0,"dRN","1863","1864",2602,0]
["08.030",{"$f":"ROW()","v":382},"FAM",{"$nulls":3},"HEX","8030a",{"$nulls":3},"8030i",1,"NFQ","","","","NFQ","JA",-5,8,"","",0.2,0,"",0,0,"","",0,0,"",0,0,"","",0,0,"",0,0,"","",0,0,"",-3,3,"","",0.33,0,"",false,0,0,0,0,0,0,0,0,0,0,0,0,0,0,0,0,0,0,0,"dRN","1868","1869",2602,0]
["08.031",{"$f":"ROW()","v":383},"FAM",{"$nulls":3},"HEX","8031a",{"$nulls":3},"8031i",1,"NFQ","","","","NFQ","NEIN",0,8,"","",0.2,0,"",0,0,"","",0,0,"",0,0,"","",0,0,"",0,0,"","",0,0,"",-3,3,"","",0.33,0,"",false,0,0,0,0,0,0,0,0,0,0,0,0,0,0,0,0,0,0,0,"dRN","1944","1945","0826",0]
["08.032",{"$f":"ROW()","v":384},"FAM",{"$nulls":3},"HEX","8032a",{"$nulls":3},"8032i",1,"NFQ","","","","NFQ","NEIN",0,8,"","",0.2,0,"",0,0,"","",0,0,"",0,0,"","",0,0,"",0,0,"","",0,0,"",-3,3,"","",0.33,0,"",false,0,0,0,0,0,0,0,0,0,0,0,0,0,0,0,0,0,0,0,"dRN","1894","1895",2602,0]
["08.033",{"$f":"ROW()","v":385},"FAM",{"$nulls":3},"HEX","8033a",{"$nulls":3},"8033i",1,"NFQ","","","","NFQ","NEIN",0,8,"","",0.2,0,"",0,0,"","",0,0,"",0,0,"","",0,0,"",0,0,"","",0,0,"",-3,3,"","",0.33,0,"",false,0,0,0,0,0,0,0,0,0,0,0,0,0,0,0,0,0,0,0,"dRN","1947","1948","0826",0]
["08.034",{"$f":"ROW()","v":386},"FAM",{"$nulls":3},"HEX","8034a",{"$nulls":3},"8034i",1,"NFQ",{"$nulls":3},"NFQ","NEIN",-10,6,"","",0,0,"",0,0,"","",0,0,"",0,0,"","",0,0,"",0,0,"","",0,0,"",-3,3,"","",0.33,0,"",false,0,0,0,false,0,0,0,false,0,0,0,false,0,0,0,true,false,false,false,"dRN","1928","1929","0826",0]
["08.035",{"$f":"ROW()","v":387},"FAM",{"$nulls":3},"HEX","8035a",{"$nulls":3},"8035i",1,"NFQ",{"$nulls":3},"NFQ","JA",-5,8,"","",0.2,0,"",0,0,"","",0,0,"",0,0,"","",0,0,"",0,0,"","",0,0,"",-3,3,"","",0.33,0,"",false,0,0,0,false,0,0,0,false,0,0,0,false,0,0,0,false,false,false,false,"dRN","1990","1869",0,0]
["08.036",{"$f":"ROW()","v":388},"FAM",{"$nulls":3},"HEX","8036a",{"$nulls":3},"8036i",1,"NFQ",{"$nulls":3},"NFQ","Nein",0,10,"","",0.2,0,"",0,0,"","",0,0,"",0,0,"","",0,0,"",0,0,"","",0,0,"",-3,3,"","",0.33,0,"",false,0,0,0,false,0,0,0,false,0,0,0,false,0,0,0,false,false,false,false,"dRN",2799,"2069",2799,0]
["08.037",{"$f":"ROW()","v":389},"FAM",{"$nulls":3},"HEX","8037a",{"$nulls":3},"8037i",1,"NFQ",{"$nulls":3},"NFQ","Nein",0,8,"","",0.2,0,"",0,0,"","",0,0,"",0,0,"","",0,0,"",0,0,"","",0,0,"",-3,3,"","",0.33,0,"",false,0,0,0,false,0,0,0,false,0,0,0,false,0,0,0,false,false,false,false,"dRN","2485","1945",2602,0]
["08.038",{"$f":"ROW()","v":390},"FAM",{"$nulls":3},"HEX","8038a",{"$nulls":3},"8038i",1,"NFQ",{"$nulls":3},"NFQ","Nein",0,8,"","",0.2,0,"",0,0,"","",0,0,"",0,0,"","",0,0,"",0,0,"","",0,0,"",-5,3,"","",0.33,0,"",false,0,0,0,false,0,0,0,false,0,0,0,false,0,0,0,false,false,false,false,"dRN","2524","2525",2602,0]
["08.039",{"$f":"ROW()","v":391},"FAM",{"$nulls":3},"HEX","8039a",{"$nulls":3},"8039i",1,"NFQ",{"$nulls":3},"NFQ","Nein",0,8,"","",0.2,0,"",0,0,"","",0,0,"",0,0,"","",0,0,"",0,0,"","",0,0,"",-3,3,"","",0.33,0,"",false,0,0,0,false,0,0,0,false,0,0,0,false,0,0,0,false,false,false,false,"dRN","2514","2516",2602,0]
["08.040",{"$f":"ROW()","v":392},"FAM",{"$nulls":3},"VIC","8040a",{"$nulls":3},"8040i",1,"NFQ",{"$nulls":3},"NFQ","JA",0,8,"","",0.2,0,"",0,0,"","",0,0,"",0,0,"","",0,0,"",0,0,"","",0,0,"",-3,3,"","",0.33,0,"",false,0,0,0,false,0,0,0,false,0,0,0,false,0,0,0,false,false,false,false,"dRN","2547","2546",2602,0]
["08.041",{"$f":"ROW()","v":393},"FAM",{"$nulls":3},"VIC","8041a",{"$nulls":3},"8041i",1,"NFQ",{"$nulls":3},"NFQ","JA",-5,8,"","",0.2,0,"",0,0,"","",0,0,"",0,0,"","",0,0,"",0,0,"","",0,0,"",-3,3,"","",0.33,0,"",false,0,0,0,false,0,0,0,false,0,0,0,false,0,0,0,false,false,false,false,"dRN","2615","1864","2602",0]
["08.042",{"$f":"ROW()","v":394},"FAM","VIC",null,null,"Cy5","8042a","8042b",null,null,"8042i",1,"NFQ","NFQ",null,null,"NFQ","JA",-10,7,"","",0.2,0,"",-10,7,"","",0.2,0,"",0,0,"","",0,0,"",0,0,"","",0,0,"",-3,3,"","",0.33,0,"",false,0,0,0,false,0,0,0,false,0,0,0,false,0,0,0,false,false,false,false,"dRN","2642","2673","2602",-5]
["09.006",{"$f":"ROW()","v":395},"FAM",{"$nulls":3},"HEX","06Bt",{"$nulls":3},"06IPC",1,"NFQ","","","","NFQ","NEIN",0,6,"","",0.2,0,"",0,0,"","",0,0,"",0,0,"","",0,0,"",0,0,"","",0,0,"",0,4,"","",0.5,0,"",0,0,0,0,0,0,0,0,0,0,0,0,0,0,0,0,0,0,0,0,"dRN","0209","0877","0826",0]
["09.015",{"$f":"ROW()","v":396},"FAM",{"$nulls":3},"HEX","15NK",{"$nulls":3},"15IPC",1,"NFQ","","","","NFQ","NEIN",0,6,"","",0.2,0,"",0,0,"","",0,0,"",0,0,"","",0,0,"",0,0,"","",0,0,"",0,4,"","",0.5,0,"",0,0,0,0,0,0,0,0,0,0,0,0,0,0,0,0,0,0,0,0,"dRN","0648","0647","0826",0]
["09.016",{"$f":"ROW()","v":397},"FAM",{"$nulls":3},"HEX","16MIR",{"$nulls":3},"16IPC",1,"NFQ","","","","NFQ","NEIN",0,6,"","",0.2,0,"",0,0,"","",0,0,"",0,0,"","",0,0,"",0,0,"","",0,0,"",0,4,"","",0.5,0,"",0,0,0,0,0,0,0,0,0,0,0,0,0,0,0,0,0,0,0,0,"dRN","0650","0651","0826",0]
["09.017",{"$f":"ROW()","v":398},"FAM","HEX",null,null,"Cy5","1735S","17nos",null,null,"17IPC",1,"NFQ","NFQ","","","NFQ","NEIN",0,6,"","",0.2,0,"",0,6,"","",0.2,0,"",0,0,"","",0,0,"",0,0,"","",0,0,"",0,4,"","",0.5,0,"",0,0,0,0,0,0,0,0,0,0,0,0,0,0,0,0,0,0,0,0,"dRN","0537","0571","0826",-2]
["09.019",{"$f":"ROW()","v":399},"FAM",{"$nulls":3},"HEX","19MON",{"$nulls":3},"19IPC",1,"NFQ","","","","NFQ","NEIN",0,6,"","",0.2,0,"",0,0,"","",0,0,"",0,0,"","",0,0,"",0,0,"","",0,0,"",0,4,"","",0.5,0,"",0,0,0,0,0,0,0,0,0,0,0,0,0,0,0,0,0,0,0,0,"dRN","0653","0654","0826",0]
["09.020",{"$f":"ROW()","v":400},"FAM",{"$nulls":3},"HEX","20HRW",{"$nulls":3},"20IPC",1,"NFQ","","","","NFQ","NEIN",0,6,"","",0.2,0,"",0,0,"","",0,0,"",0,0,"","",0,0,"",0,0,"","",0,0,"",0,4,"","",0.5,0,"",0,0,0,0,0,0,0,0,0,0,0,0,0,0,0,0,0,0,0,0,"dRN","0655","0656","0826",0]
["09.021",{"$f":"ROW()","v":401},"FAM",{"$nulls":3},"HEX","21SOY",{"$nulls":3},"21IPC",1,"NFQ","","","","NFQ","NEIN",0,6,"","",0.2,0,"",0,0,"","",0,0,"",0,0,"","",0,0,"",0,0,"","",0,0,"",0,4,"","",0.5,0,"",0,0,0,0,0,0,0,0,0,0,0,0,0,0,0,0,0,0,0,0,"dRN","0657","0658",0,0]
["09.027",{"$f":"ROW()","v":402},"FAM",{"$nulls":3},"HEX","27MON",{"$nulls":3},"27IPC",1,"NFQ","","","","NFQ","NEIN",0,6,"","",0.2,0,"",0,0,"","",0,0,"",0,0,"","",0,0,"",0,0,"","",0,0,"",0,4,"","",0.33,0,"",0,0,0,0,0,0,0,0,0,0,0,0,0,0,0,0,0,0,0,0,"dRN","0825","0824","0826",0]
["09.028",{"$f":"ROW()","v":403},"FAM",{"$nulls":3},"HEX","28SAM",{"$nulls":3},"28IPC",1,"NFQ","","","","NFQ","NEIN",0,6,"","",0.2,0,"",0,0,"","",0,0,"",0,0,"","",0,0,"",0,0,"","",0,0,"",0,4,"","",0.33,0,"",0,0,0,0,0,0,0,0,0,0,0,0,0,0,0,0,0,0,0,0,"dRN","0827","0828","0826",0]
["09.029",{"$f":"ROW()","v":404},"FAM",{"$nulls":3},"HEX","29LY",{"$nulls":3},"29IPC",1,"NFQ","","","","NFQ","NEIN",0,7,"","",0.1,0,"",0,0,"","",0,0,"",0,0,"","",0,0,"",0,0,"","",0,0,"",0,4,"","",0.33,0,"",0,0,0,0,0,0,0,0,0,0,0,0,0,0,0,0,0,0,0,0,"dRN","0855","0854","0826",0]
["09.030",{"$f":"ROW()","v":405},"FAM",{"$nulls":3},"HEX","30GA",{"$nulls":3},"30IPC",1,"NFQ","","","","NFQ","NEIN",0,6,"","",0.2,0,"",0,0,"","",0,0,"",0,0,"","",0,0,"",0,0,"","",0,0,"",0,4,"","",0.33,0,"",0,0,0,0,0,0,0,0,0,0,0,0,0,0,0,0,0,0,0,0,"dRN","0883","0884","0826",0]
["09.031",{"$f":"ROW()","v":406},"FAM",{"$nulls":3},"HEX","31HX1",{"$nulls":3},"31IPC",1,"NFQ","","","","NFQ","NEIN",0,6,"","",0.2,0,"",0,0,"","",0,0,"",0,0,"","",0,0,"",0,0,"","",0,0,"",0,4,"","",0.33,0,"",0,0,0,0,0,0,0,0,0,0,0,0,0,0,0,0,0,0,0,0,"dRN","0885","0886","0826",0]
["09.033",{"$f":"ROW()","v":407},"FAM",{"$nulls":3},"HEX","33RR2",{"$nulls":3},"33IPC",1,"NFQ","","","","NFQ","NEIN",0,6,"","",0.2,0.5,"",0,0,"","",0,0,"",0,0,"","",0,0,"",0,0,"","",0,0,"",0,4,"","",0.33,0,"",0,0,0,0,0,0,0,0,0,0,0,0,0,0,0,0,0,0,0,0,"dRN","0864","0866","0826",0]
["09.034",{"$f":"ROW()","v":408},"FAM",{"$nulls":3},"HEX","34RRS",{"$nulls":3},"34IPC",1,"NFQ","","","","NFQ","NEIN",0,6,"","",0.2,0,"",0,0,"","",0,0,"",0,0,"","",0,0,"",0,0,"","",0,0,"",0,4,"","",0.33,0,"",0,0,0,0,0,0,0,0,0,0,0,0,0,0,0,0,0,0,0,0,"dRN","0978","0901","0826",0]
["09.035",{"$f":"ROW()","v":409},"FAM",{"$nulls":3},"HEX","35FMV",{"$nulls":3},"35IPC",{"$f":"COUNTIF(lstCFXReporter,A409)","v":1},"NFQ","","","","NFQ","NEIN",0,6,"","",0.2,0,"",0,0,"","",0,0,"",0,0,"","",0,0,"",0,0,"","",0,0,"",0,4,"","",0.33,0,"",0,0,0,0,0,0,0,0,0,0,0,0,0,0,0,0,0,0,0,0,"dRN","0902","0904","0826",0]
["09.036",{"$f":"ROW()","v":410},"FAM",{"$nulls":3},"HEX","36NOS",{"$nulls":3},"36IPC",1,"NFQ","","","","NFQ","NEIN",0,7,"","",0.2,0,"",0,0,"","",0,0,"",0,0,"","",0,0,"",0,0,"","",0,0,"",0,4,"","",0.25,0,"",0,0,0,0,0,0,0,0,0,0,0,0,0,0,0,0,0,0,0,0,"dRN","0898","0758","0826",0]
["09.037",{"$f":"ROW()","v":411},"FAM",{"$nulls":3},"HEX","3735S",{"$nulls":3},"37IPC",1,"NFQ","","","","NFQ","NEIN",0,7,"","",0.2,0,"",0,0,"","",0,0,"",0,0,"","",0,0,"",0,0,"","",0,0,"",0,4,"","",0.25,0,"",0,0,0,0,0,0,0,0,0,0,0,0,0,0,0,0,0,0,0,0,"dRN","0899","0901","0826",0]
["09.038",{"$f":"ROW()","v":412},"FAM",{"$nulls":3},"HEX",38890,{"$nulls":3},"38IPC",1,"NFQ","","","","NFQ","NEIN",-5,6,"","",0.2,0,"",0,0,"","",0,0,"",0,0,"","",0,0,"",0,0,"","",0,0,"",-3,4,"","",0.33,0,"",0,0,0,0,0,0,0,0,0,0,0,0,0,0,0,0,0,0,0,0,"dRN","0971","0972","0826",0]
["09.039",{"$f":"ROW()","v":413},"FAM",{"$nulls":3},"HEX","39bar",{"$nulls":3},"39IPC",1,"NFQ","","","","NFQ","NEIN",0,6,"","",0.2,0,"",0,0,"","",0,0,"",0,0,"","",0,0,"",0,0,"","",0,0,"",0,3,"","",0.33,0,"",0,0,0,0,0,0,0,0,0,0,0,0,0,0,0,0,0,0,0,0,"dRN","1010","1012","0826",0]
["09.040",{"$f":"ROW()","v":414},"FAM",{"$nulls":3},"HEX",40880,{"$nulls":3},"40IPC",1,"NFQ","","","","NFQ","NEIN",0,6,"","",0.2,0,"",0,0,"","",0,0,"",0,0,"","",0,0,"",0,0,"","",0,0,"",0,4,"","",0.33,0,"",0,0,0,0,0,0,0,0,0,0,0,0,0,0,0,0,0,0,0,0,"dRN","1011","1013","0826",0]
["09.041",{"$f":"ROW()","v":415},"FAM",{"$nulls":3},"HEX",41327,{"$nulls":3},"41IPC",1,"NFQ","","","","NFQ","NEIN",0,6,"","",0.2,0,"",0,0,"","",0,0,"",0,0,"","",0,0,"",0,0,"","",0,0,"",0,4,"","",0.33,0,"",0,0,0,0,0,0,0,0,0,0,0,0,0,0,0,0,0,0,0,0,"dRN","1023","1025","0826",0]
["09.042",{"$f":"ROW()","v":416},"FAM",{"$nulls":3},"HEX","42SPE",{"$nulls":3},"42IPC",1,"NFQ","","","","NFQ","NEIN",{"$error":"#N/A"},{"$error":"#N/A"},"","",{"$error":"#N/A"},{"$error":"#N/A"},"",{"$error":"#N/A"},{"$error":"#N/A"},"","",{"$error":"#N/A"},{"$error":"#N/A"},"",{"$error":"#N/A"},{"$error":"#N/A"},"","",{"$error":"#N/A"},{"$error":"#N/A"},"",{"$error":"#N/A"},{"$error":"#N/A"},"","",{"$error":"#N/A"},{"$error":"#N/A"},"",{"$error":"#N/A"},{"$error":"#N/A"},"","",{"$error":"#N/A"},{"$error":"#N/A"},"",{"$error":"#N/A"},{"$error":"#N/A"},{"$error":"#N/A"},{"$error":"#N/A"},{"$error":"#N/A"},{"$error":"#N/A"},{"$error":"#N/A"},{"$error":"#N/A"},{"$error":"#N/A"},{"$error":"#N/A"},{"$error":"#N/A"},{"$error":"#N/A"},{"$error":"#N/A"},{"$error":"#N/A"},{"$error":"#N/A"},{"$error":"#N/A"},{"$error":"#N/A"},{"$error":"#N/A"},{"$error":"#N/A"},{"$error":"#N/A"},{"$error":"#N/A"},{"$error":"#N/A"},{"$error":"#N/A"},{"$error":"#N/A"},{"$error":"#N/A"}]
["09.043",{"$f":"ROW()","v":417},"FAM",{"$nulls":3},"HEX","43-H7",{"$nulls":3},"43IPC",1,"NFQ","","","","NFQ","NEIN",0,6,"","",0.2,0,"",0,0,"","",0,0,"",0,0,"","",0,0,"",0,0,"","",0,0,"",0,4,"","",0.33,0,"",0,0,0,0,0,0,0,0,0,0,0,0,0,0,0,0,0,0,0,0,"dRN","1071","1069","0826",0]
["09.044",{"$f":"ROW()","v":418},"FAM",{"$nulls":3},"HEX","44DP3",{"$nulls":3},"44IPC",1,"NFQ","","","","NFQ","NEIN",0,6,"","",0.2,0,"",0,0,"","",0,0,"",0,0,"","",0,0,"",0,0,"","",0,0,"",0,4,"","",0.33,0,"",0,0,0,0,0,0,0,0,false,0,0,0,true,0,0,0,0,0,0,0,"dRN","1084","1086","0826",0]
["09.045",{"$f":"ROW()","v":419},"FAM",{"$nulls":3},"HEX","45noD",{"$nulls":3},"45IPC",1,"NFQ","","","","NFQ","NEIN",0,6,"","",0.2,0,"",0,0,"","",0,0,"",0,0,"","",0,0,"",0,0,"","",0,0,"",0,4,"","",0.33,0,"",0,0,0,0,0,0,0,0,false,0,0,0,true,0,0,0,0,0,0,0,"dRN","1063","1041","0826",0]
["09.046",{"$f":"ROW()","v":420},"FAM",{"$nulls":3},"HEX","46nia",{"$nulls":3},"46IPC",1,"NFQ","","","","NFQ","NEIN",0,7,"","",0.2,0,"",0,0,"","",0,0,"",0,0,"","",0,0,"",0,0,"","",0,0,"",0,4,"","",0.33,0,"",0,0,0,0,0,0,0,0,false,0,0,0,true,0,0,0,0,0,0,0,"dRN","1091","1093","0826",0]
["09.047",{"$f":"ROW()","v":421},"FAM",{"$nulls":3},"HEX","9047a",{"$nulls":3},"9047i",1,"NFQ","","","","NFQ","NEIN",-3,7,"","",0.2,0,"",0,0,"","",0,0,"",0,0,"","",0,0,"",0,0,"","",0,0,"",-3,4,"","",0.33,0,"",false,0,0,0,0,0,0,0,false,0,0,0,true,0,0,0,0,0,0,0,"dRN","1925","1926","0826",0]
["09.048",{"$f":"ROW()","v":422},"FAM",{"$nulls":3},"HEX","48T45",{"$nulls":3},"48IPC",1,"NFQ","","","","NFQ","NEIN",0,7,"","",0.15,0,"",0,0,"","",0,0,"",0,0,"","",0,0,"",0,0,"","",0,0,"",0,3,"","",0.33,0,"",0,0,0,0,0,0,0,0,false,0,0,0,true,0,0,0,0,0,0,0,"dRN","1131","1133","0826",0]
["09.050",{"$f":"ROW()","v":423},"FAM","HEX",null,null,"Cy5","5035S","50NOS",null,null,"50IPC",1,"NFQ","NFQ","","","NFQ","NEIN",-10,7,"","",0.2,0,"",-10,7,"","",0.2,0,"",0,0,"","",0,0,"",0,0,"","",0,0,"",-2,4,"","",0.33,0,"",0,0,0,0,0,0,0,0,0,0,0,0,0,0,0,0,0,0,0,0,"dRN","1121","1122","0826",0]
["09.052",{"$f":"ROW()","v":424},"FAM",{"$nulls":3},"HEX","52vip",{"$nulls":3},"52IPC",1,"NFQ","","","","NFQ","NEIN",0,7,"","",0.2,0,"",0,0,"","",0,0,"",0,0,"","",0,0,"",0,0,"","",0,0,"",0,5,"","",0.33,0,"",0,0,0,0,false,0,0,0,false,0,0,0,true,0,0,0,0,0,0,0,"dRN","1157","1158","0826",0]
["09.053",{"$f":"ROW()","v":425},"FAM",{"$nulls":3},"HEX",53981,{"$nulls":3},"53IPC",1,"NFQ","","","","NFQ","NEIN",0,6,"","",0.2,0,"",0,0,"","",0,0,"",0,0,"","",0,0,"",0,0,"","",0,0,"",0,4,"","",0.33,0,"",0,0,0,0,false,0,0,0,false,0,0,0,true,0,0,0,0,0,0,0,"dRN","1161","1163","0826",0]
["09.055",{"$f":"ROW()","v":426},"FAM",{"$nulls":3},"HEX","55KMD",{"$nulls":3},"55IPC",1,"NFQ","","","","NFQ","NEIN",0,6,"","",0.2,0,"",0,0,"","",0,0,"",0,0,"","",0,0,"",0,0,"","",0,0,"",0,3,"","",0.33,0,"",0,0,0,0,false,0,0,0,false,0,0,0,true,0,0,0,0,0,0,0,"dRN","1352","1354","0826",0]
["09.061",{"$f":"ROW()","v":427},"FAM","HEX","ROX",null,"Cy5","6135S","61NOS","61FMV",null,"61IPC",1,"NFQ","NFQ","NFQ",null,"NFQ","JA",-10,8,"","",0.2,0,"",-10,8,"","",0.2,0,"",-10,9,"","",0.2,0,"",0,0,"","",0,0,"",-2,3,"","",0.2,0,"",0,0,0,0,0,0,0,0,0,0,0,0,0,0,0,0,0,0,0,0,"dR","1221","1223","0892",-4]
["09.063",{"$f":"ROW()","v":428},"FAM",{"$nulls":3},"HEX",63127,{"$nulls":3},"63IPC",1,"NFQ","","","","NFQ","NEIN",0,8,"","",0.2,0,"",0,0,"","",0,0,"",0,0,"","",0,0,"",0,0,"","",0,0,"",0,3,"","",0.33,0,"",0,0,0,0,false,0,0,0,false,0,0,0,true,0,0,0,0,0,0,0,"dRN","1216","1219","0826",0]
["09.068",{"$f":"ROW()","v":429},"FAM",{"$nulls":3},"HEX","68T25",{"$nulls":3},"68IPC",1,"NFQ",{"$nulls":3},"NFQ","NEIN",0,6,"","",0.2,0,"",0,0,"","",0,0,"",0,0,"","",0,0,"",0,0,"","",0,0,"",0,4,"","",0.25,0,"",false,0,0,0,false,0,0,0,false,0,0,0,false,0,0,0,false,false,false,false,"dRN","1247","1248","0826",0]
["09.083",{"$f":"ROW()","v":430},"FAM","HEX",null,null,"Cy5","83BAR","83PAT",null,null,"83IPC",1,"NFQ","NFQ","","","NFQ","NEIN",0,6,"","",0.2,0,"",0,7,"","",0.15,0,"",0,0,"","",0,0,"",0,0,"","",0,0,"",-3,3,"","",0.33,0,"",0,0,0,0,0,0,0,0,0,0,0,0,0,0,0,0,0,0,0,0,"dRN","1572","1573","0826",0]
["09.085",{"$f":"ROW()","v":431},"FAM",{"$nulls":3},"HEX","85lec",{"$nulls":3},"85IPC",1,"TAMRA","","","","NFQ","NEIN",0,8,"","",0.2,0,"",0,0,"","",0,0,"",0,0,"","",0,0,"",0,0,"","",0,0,"",0,3,"","",0.33,0,"",0,0,0,0,false,0,0,0,false,0,0,0,true,0,0,0,0,0,0,0,"dRN","1610","0901",0,0]
["09.088",{"$f":"ROW()","v":432},"FAM","HEX",null,null,"Cy5",90881,90882,null,null,"9088i",1,"NFQ","NFQ","","","NFQ","NEIN",0,6,"","",0.2,0,"",0,7,"","",0.2,0,"",0,0,"","",0,0,"",0,0,"","",0,0,"",0,3,"","",0.33,0,"",false,0,0,0,false,0,0,0,false,0,0,0,true,0,0,0,0,0,0,0,"dRN","1756","1757","0826",-10]
["09.091",{"$f":"ROW()","v":433},"FAM",{"$nulls":3},"HEX",91874,{"$nulls":3},"91IPC",1,"NFQ","","","","NFQ","NEIN",0,5,"","",0.2,0,"",0,0,"","",0,0,"",0,0,"","",0,0,"",0,0,"","",0,0,"",0,4,"","",0.33,0,"",false,0,0,0,false,0,0,0,false,0,0,0,true,0,0,0,0,0,0,0,"dRN","1825","1827","0826",0]
["09.092",{"$f":"ROW()","v":434},"HEX","FAM",null,null,"Cy5","9092a","9092b",null,null,"9092i",1,"NFQ","NFQ","","","NFQ","NEIN",-11,5,"","",0.2,0,"",-11,5,"","",0.2,0,"",0,0,"","",0,0,"",0,0,"","",0,0,"",-3,3,"","",0.7,0,"",false,0,0,0,0,0,0,0,0,0,0,0,0,0,0,0,0,0,0,0,"dRN","1876","1877","0826",-11]
["09.095",{"$f":"ROW()","v":435},"FAM",{"$nulls":3},"HEX","9095a",{"$nulls":3},"9095i",1,"NFQ","","","","NFQ","NEIN",0,5,"","",0.2,0,"",0,0,"","",0,0,"",0,0,"","",0,0,"",0,0,"","",0,0,"",0,3,"","",0.33,0,"",false,0,0,0,0,0,0,0,0,0,0,0,0,0,0,0,0,0,0,0,"dRN","1859","1860","0826",0]
["09.099",{"$f":"ROW()","v":436},"FAM",{"$nulls":3},"HEX","9099a",{"$nulls":3},"9099i",1,"NFQ",{"$nulls":3},"NFQ","NEIN",-3,6,"","",0.2,0,"",0,0,"","",0,0,"",0,0,"","",0,0,"",0,0,"","",0,0,"",-3,4,"","",0.33,0,"",false,0,0,0,false,0,0,0,false,0,0,0,false,0,0,0,false,false,false,false,"dRN","1964","1354","0826",0]
["09.102",{"$f":"ROW()","v":437},"FAM",{"$nulls":3},"VIC","9102a",{"$nulls":3},"9102i",1,"NFQ",{"$nulls":3},"NFQ","Nein",0,6,"","",0.2,0,"",0,0,"","",0,0,"",0,0,"","",0,0,"",0,0,"","",0,0,"",-3,3,"","",0.33,0,"",false,0,0,0,false,0,0,0,false,0,0,0,false,0,0,0,false,false,false,false,"dRN","2607","2608","2602",0]
["09.103",{"$f":"ROW()","v":438},"FAM",{"$nulls":3},"HEX","9103a",{"$nulls":3},"9103i",1,"NFQ",{"$nulls":3},"NFQ","JA",0,6,"","",0.2,0,"",0,0,"","",0,0,"",0,0,"","",0,0,"",0,0,"","",0,0,"",-3,4,"","",0.33,0,"",false,0,0,0,false,0,0,0,false,0,0,0,false,0,0,0,false,false,false,false,"dRN","1938","1939","0826",0]
["09.106",{"$f":"ROW()","v":439},"FAM",{"$nulls":3},"HEX","9106a",{"$nulls":3},"9106i",1,"NFQ",{"$nulls":3},"NFQ","Nein",0,6,"","",0.2,0,"",0,0,"","",0,0,"",0,0,"","",0,0,"",0,0,"","",0,0,"",-3,4,"","",0.33,0,"",false,0,0,0,false,0,0,0,false,0,0,0,false,0,0,0,false,false,false,false,"dRN","2019","2020","0826",0]
["09.107",{"$f":"ROW()","v":440},"FAM",{"$nulls":3},"HEX","9107a",{"$nulls":3},"9107i",1,"NFQ",{"$nulls":3},"NFQ","Nein",0,6,"","",0.2,0,"",0,0,"","",0,0,"",0,0,"","",0,0,"",0,0,"","",0,0,"",-3,4,"","",0.33,0,"",false,0,0,0,false,0,0,0,false,0,0,0,false,0,0,0,false,false,false,false,"dRN","1994","1995","0826",0]
["09.110",{"$f":"ROW()","v":441},"FAM",{"$nulls":3},"HEX","9110a",{"$nulls":3},"9110i",{"$f":"COUNTIF(lstCFXReporter,A441)","v":1},"NFQ",{"$nulls":3},"NFQ","JA",-5,8,"","",0.2,0,"",0,0,"","",0,0,"",0,0,"","",0,0,"",0,0,"","",0,0,"",-3,3,"","",0.33,0,"",false,0,0,0,false,0,0,0,false,0,0,0,false,0,0,0,false,false,false,false,"dRN","2032","2033","0826",0]
["09.111",{"$f":"ROW()","v":442},"FAM",{"$nulls":3},"HEX","9111a",{"$nulls":3},"9111i",1,"NFQ",{"$nulls":3},"NFQ","JA",0,6,"","",0.15,0,"",0,0,"","",0,0,"",0,0,"","",0,0,"",0,0,"","",0,0,"",-3,4,"","",0.33,0,"",false,0,0,0,false,0,0,0,false,0,0,0,false,0,0,0,false,false,false,false,"dRN","1998","2000","0826",0]
["09.115",{"$f":"ROW()","v":443},"FAM",{"$nulls":3},"HEX","9115a",{"$nulls":3},"9115i",1,"NFQ",{"$nulls":3},"NFQ","Nein",0,6,"","",0.2,0,"",0,0,"","",0,0,"",0,0,"","",0,0,"",0,0,"","",0,0,"",-3,4,"","",0.33,0,"",false,0,0,0,false,0,0,0,false,0,0,0,false,0,0,0,false,false,false,false,"dRN","2035",2602,"0658",0]
["09.116",{"$f":"ROW()","v":444},"FAM",{"$nulls":3},"HEX","9116a",{"$nulls":3},"9116i",1,"NFQ",{"$nulls":3},"NFQ","Nein",0,9,"","",0.15,0,"",0,0,"","",0,0,"",0,0,"","",0,0,"",0,0,"","",0,0,"",-3,3,"","",0.33,0,"",false,0,0,0,false,0,0,0,false,0,0,0,false,0,0,0,false,false,false,false,"dRN","2532","2533",2602,0]
["09.117",{"$f":"ROW()","v":445},"FAM",{"$nulls":3},"HEX","9117a",{"$nulls":3},"9117i",1,"NFQ",{"$nulls":3},"NFQ","Nein",0,9,"","",0.15,0,"",0,0,"","",0,0,"",0,0,"","",0,0,"",0,0,"","",0,0,"",-3,3,"","",0.33,0,"",false,0,0,0,false,0,0,0,false,0,0,0,false,0,0,0,false,false,false,false,"dRN","2531","0654",2602,0]
["09.118",{"$f":"ROW()","v":446},"FAM","Cy5",null,null,"HEX","9118a","9118b",null,null,"9118i",1,"NFQ","NFQ",null,null,"NFQ","Nein",-11,5,"","",0.2,0,"",-11,5,"","",0.2,0,"",0,0,"","",0,0,"",0,0,"","",0,0,"",-3,3,"","",0.33,0,"",false,0,0,0,false,0,0,0,false,0,0,0,false,0,0,0,false,false,false,false,"dRN","2075","2076",2602,11]
["09.119",{"$f":"ROW()","v":447},"FAM",{"$nulls":3},"HEX","9119a",{"$nulls":3},"9119i",1,"NFQ",{"$nulls":3},"NFQ","JA",0,6,"","",0.15,0,"",0,0,"","",0,0,"",0,0,"","",0,0,"",0,0,"","",0,0,"",-3,3,"","",0.33,0,"",false,0,0,0,false,0,0,0,false,0,0,0,false,0,0,0,false,false,false,false,"dRN","2484","2065",2602,0]
["09.120",{"$f":"ROW()","v":448},"FAM",{"$nulls":3},"VIC","9120a",{"$nulls":3},"9120i",1,"NFQ",{"$nulls":3},"NFQ","JA",-5,6,"","",0.2,0,"",0,0,"","",0,0,"",0,0,"","",0,0,"",0,0,"","",0,0,"",-3,3,"","",0.33,0,"",false,0,0,0,false,0,0,0,false,0,0,0,false,0,0,0,false,false,false,false,"dRN","2076","2077",2602,0]
["09.121",{"$f":"ROW()","v":449},"FAM","VIC","ROX",null,"Cy5","9121a","9121b","9121c",null,"9121i",1,"NFQ","NFQ","NFQ",null,"NFQ","JA",-10,6,"","",0.2,0,"",-10,6,"","",0.2,0,"",-10,6,"","",0.2,0,"",0,0,"","",0,0,"",-2,3,"","",0.33,0,"",false,0,0,0,false,0,0,0,false,0,0,0,false,0,0,0,false,false,false,false,"dR","2692","2694","2602",10]
["09.124",{"$f":"ROW()","v":450},"FAM",{"$nulls":3},"VIC","9124a",{"$nulls":3},"9124i",1,"NFQ",{"$nulls":3},"NFQ","JA",-10,8,0,0,0.2,0,0,0,{"$nulls":6},0,{"$nulls":6},0,{"$nulls":6},-3,3,0,0,0.33,0,0,false,null,null,0,{"$nulls":12},false,{"$nulls":3},"dRN",2718,2602,2602,0]
["09.125",{"$f":"ROW()","v":451},"FAM",{"$nulls":3},"VIC","9125a",{"$nulls":3},"9125i",1,"NFQ",{"$nulls":3},"NFQ","JA",-10,8,0,0,0.2,0,0,0,{"$nulls":6},0,{"$nulls":6},0,{"$nulls":6},-3,3,0,0,0.33,0,0,false,null,null,0,{"$nulls":12},false,{"$nulls":3},"dRN",2746,2747,2602,0]
["09.126",{"$f":"ROW()","v":452},"FAM","VIC","ROX",null,"CY5","9126a","9126b","9126c",null,"9126i",1,"NFQ","NFQ","NFQ",null,"NFQ","JA",-10,8,0,0,0.2,0,0,-10,8,0,0,0.2,0,0,-10,9,0,0,0.2,0,0,0,{"$nulls":6},-3,3,0,0,0.33,0,0,false,null,null,0,false,null,null,0,false,null,null,0,{"$nulls":4},false,false,false,null,"dR",2737,2742,2602,10]
["09.127",{"$f":"ROW()","v":453},"FAM",{"$nulls":3},"VIC","9127a",{"$nulls":3},"9127i",1,"NFQ",{"$nulls":3},"NFQ","JA",-10,8,0,0,0.2,0,0,0,{"$nulls":6},0,{"$nulls":6},0,{"$nulls":6},-3,3,0,0,0.33,0,0,false,null,null,0,{"$nulls":12},false,{"$nulls":3},"dRN",2752,2753,2602,0]
["09.131",{"$f":"ROW()","v":454},"FAM","VIC",null,null,"CY5","9131a","9131b",null,null,"9131i",1,"NFQ","NFQ",null,null,"NFQ","JA",-10,7,0,0,0.2,0,0,-10,7,0,0,0.2,0,0,0,{"$nulls":6},0,{"$nulls":6},-10,7,0,0,0.2,0,0,false,null,null,0,false,null,null,0,{"$nulls":8},false,false,null,null,"dRN",2807,2808,2602,12]
["09.133",{"$f":"ROW()","v":455},"FAM",{"$nulls":3},"VIC","9133a",{"$nulls":3},"9133i",1,"NFQ",{"$nulls":3},"NFQ","JA",-10,8,0,0,0.2,0,0,0,{"$nulls":6},0,{"$nulls":6},0,{"$nulls":6},-3,3,0,0,0.33,0,0,false,null,null,0,{"$nulls":12},false,{"$nulls":3},"dRN",2765,2766,2602,0]
["09.135",{"$f":"ROW()","v":456},"FAM","VIC","ROX",null,"CY5","9135a","9135b","9135c",null,"9135i",1,"NFQ","NFQ","NFQ",null,"NFQ","JA",-10,8,0,0,0.2,0,0,-10,8,0,0,0.2,0,0,-10,8,0,0,0.2,0,0,0,{"$nulls":6},-3,3,0,0,0.33,0,0,false,null,null,0,false,null,null,0,false,null,null,0,{"$nulls":4},false,false,false,null,"dR",2778,2780,2602,12]
["09.136",{"$f":"ROW()","v":457},"FAM","VIC","ROX",null,"CY5","9136a","9136b","9136c",null,"9136i",1,"NFQ","NFQ","NFQ",null,"NFQ","JA",-10,8,0,0,0.2,0,0,-10,8,0,0,0.2,0,0,-10,9,0,0,0.2,0,0,0,{"$nulls":6},-3,3,0,0,0,0,0,false,null,null,0,false,null,null,0,false,null,null,0,{"$nulls":4},false,false,false,null,"dR",2842,2844,2602,10,{"$nulls":6},true]
["09.138",{"$f":"ROW()","v":458},"FAM",{"$nulls":3},"VIC","9138a",{"$nulls":3},"9138i",1,"NFQ",{"$nulls":3},"NFQ","JA",-10,8,0,0,0.2,0,0,0,{"$nulls":6},0,{"$nulls":6},0,{"$nulls":6},-3,3,0,0,0.33,0,0,false,null,null,0,{"$nulls":12},false,{"$nulls":3},"dR",2856,2753,2602,0,{"$nulls":6},false]
["09.139",{"$f":"ROW()","v":459},"FAM","VIC","ROX",null,"CY5","9139a","9139b","9139c",null,"9139i",1,"NFQ","NFQ","NFQ",null,"NFQ","JA",-10,8,0,0,0.2,0,0,-10,8,0,0,0.2,0,0,-10,8,0,0,0.2,0,0,0,{"$nulls":6},-3,3,0,0,0.33,0,0,false,null,null,0,false,null,null,0,false,null,null,0,{"$nulls":4},false,false,false,null,"dR",2860,2861,2602,12,{"$nulls":6},false]
["11.001",{"$f":"ROW()","v":460},"FAM",{"$nulls":3},"VIC","1101a",{"$nulls":3},"1101i",1,"NFQ",{"$nulls":3},"NFQ","JA",-10,8,0,0,0.2,0,0,0,{"$nulls":6},0,{"$nulls":6},0,{"$nulls":6},-3,3,0,0,0.33,0,0,false,null,null,0,{"$nulls":12},false,{"$nulls":3},"dRN",2802,2602,2803,0]
["09.144",{"$f":"ROW()","v":461},"FAM",{"$nulls":3},"HEX","9144a",{"$nulls":3},"9144i",{"$f":"COUNTIF(lstCFXReporter,A461)","v":1},"NFQ",{"$nulls":3},"NFQ","JA",-10,8,0,0,0.2,0,0,{"$nulls":21},-3,3,0,0,0.33,0,0,false,null,null,0,{"$nulls":12},false,{"$nulls":3},"dRN",2946,2948,2602,0,{"$nulls":6},false]
["09.143",{"$f":"ROW()","v":462},"FAM",{"$nulls":3},"HEX","9143a",{"$nulls":3},"9143i",1,"NFQ",{"$nulls":3},"NFQ","JA",-10,7,0,0,0.2,0,0,{"$nulls":21},-3,3,0,0,0.33,0,0,false,null,null,0,{"$nulls":12},false,{"$nulls":3},"dRN",2953,2954,2602,0,{"$nulls":6},false]
["09.141",{"$f":"ROW()","v":463},"FAM",{"$nulls":3},"HEX","9141a",{"$nulls":3},"9141i",1,"NFQ",{"$nulls":3},"NFQ","JA",-10,8,0,0,0.2,0,0,{"$nulls":21},-3,3,0,0,0.33,0,0,false,null,null,0,{"$nulls":12},false,{"$nulls":3},"dRN",2985,2986,2602,0,{"$nulls":6},false]
["09.142",{"$f":"ROW()","v":464},"FAM",{"$nulls":3},"VIC","9142a",{"$nulls":3},"9142i",1,"NFQ",{"$nulls":3},"NFQ","JA",-10,8,0,0,0.2,0,0,{"$nulls":21},-3,3,0,0,0.33,0,0,false,null,null,0,{"$nulls":12},false,{"$nulls":3},"dRN",2971,901,2602,0,{"$nulls":6},false]
["09.146",{"$f":"ROW()","v":465},"FAM",{"$nulls":3},"VIC","9146a",{"$nulls":3},"9146i",1,"NFQ",{"$nulls":3},"NFQ","JA",-10,8,0,0,0.2,0,0,{"$nulls":21},-3,3,0,0,0.33,0,0,false,null,null,0,{"$nulls":12},false,{"$nulls":3},"dRN",2965,2966,2602,0,{"$nulls":6},false]
["09.147",{"$f":"ROW()","v":466},"FAM",{"$nulls":3},"VIC","9147a",{"$nulls":3},"9147i",{"$f":"COUNTIF(lstCFXReporter,A466)","v":1},"NFQ",{"$nulls":3},"NFQ","JA",-10,8,0,0,0.2,0,0,{"$nulls":21},-3,3,0,0,0.33,0,0,false,null,null,0,{"$nulls":12},false,{"$nulls":3},"dRN",3036,3037,2602,0,{"$nulls":6},false]
["09.152",{"$f":"ROW()","v":467},"FAM",{"$nulls":3},"VIC","9152a",{"$nulls":3},"9152i",1,"NFQ",{"$nulls":3},"NFQ","JA",-10,8,0,0,0.2,0,0,{"$nulls":21},-3,3,0,0,0.33,0,0,false,null,null,0,{"$nulls":12},false,{"$nulls":3},"dRN",3049,1219,2602,0,{"$nulls":6},false]
["09.156",{"$f":"ROW()","v":468},"FAM",{"$nulls":3},"VIC","9156a",{"$nulls":3},"9156i",1,"NFQ",{"$nulls":3},"NFQ","JA",-10,8,0,0,0.2,0,0,{"$nulls":21},-3,3,0,0,0.33,0,0,false,null,null,0,{"$nulls":12},false,{"$nulls":3},"dRN",3053,1086,2602,0,{"$nulls":6},false]
["09.155",{"$f":"ROW()","v":469},"FAM",{"$nulls":3},"VIC","9155a",{"$nulls":3},"9155i",1,"NFQ",{"$nulls":3},"NFQ","JA",-10,8,0,0,0.2,0,0,{"$nulls":21},-3,3,0,0,0.33,0,0,false,null,null,0,{"$nulls":12},false,{"$nulls":3},"dRN",3078,3079,2602,0,{"$nulls":6},false]
["09.145",{"$f":"ROW()","v":470},"FAM","VIC","ROX",null,"CY5","9145a","9145b","9145c",null,"9145i",1,"NFQ","NFQ","NFQ",null,"NFQ","JA",-10,8,0,0,0.2,0,0,-10,8,0,0,0.2,0,0,-10,8,0,0,0.2,0,0,{"$nulls":7},-3,3,0,0,0.33,0,0,false,null,null,0,false,null,null,0,false,null,null,0,{"$nulls":4},false,false,false,null,"dR",2974,2975,3043,7,{"$nulls":6},false]
["09.148",{"$f":"ROW()","v":471},"FAM","VIC","ROX",null,"CY5","9148a","9148b","9148c",null,"9148i",1,"NFQ","NFQ","NFQ",null,"NFQ","JA",-10,8,0,0,0.2,0,0,-10,8,0,0,0.2,0,0,-10,8,0,0,0.15,0,0,{"$nulls":7},-3,3,0,0,0.33,0,0,false,null,null,0,false,null,null,0,false,null,null,0,{"$nulls":4},false,false,false,null,"dR",3117,3118,3043,8,{"$nulls":6},false]
["09.158",{"$f":"ROW()","v":472},"FAM",{"$nulls":3},"VIC","9158a",{"$nulls":3},"9158i",{"$f":"COUNTIF(lstCFXReporter,A472)","v":1},"NFQ",{"$nulls":3},"NFQ","JA",-11,8,0,0,0.2,0,0,{"$nulls":21},-3,3,0,0,0.33,0,0,false,null,null,0,{"$nulls":12},false,{"$nulls":3},"dRN",3088,3089,2602,0,{"$nulls":6},false]
["08.043",{"$f":"ROW()","v":473},"FAM",{"$nulls":3},"VIC","8043a",{"$nulls":3},"8043i",1,"NFQ",{"$nulls":3},"NFQ","JA",-10,4.5,0,0,0,0,0,{"$nulls":21},-3,3,0,0,0.33,0,0,false,null,null,0,{"$nulls":12},true,{"$nulls":3},"dRN",2870,1869,2602,0,{"$nulls":6},false]
["09.159",{"$f":"ROW()","v":474},"FAM",{"$nulls":3},"VIC","9159a",{"$nulls":3},"9159i",1,"NFQ",{"$nulls":3},"NFQ","JA",-10,8,0,0,0.2,0,0,{"$nulls":21},-3,3,0,0,0.33,0,0,false,null,null,0,{"$nulls":12},false,{"$nulls":3},"dRN",3135,2076,2602,0,{"$nulls":6},false]
["09.154",{"$f":"ROW()","v":475},"FAM",{"$nulls":3},"VIC","9154a",{"$nulls":3},"9154i",1,"NFQ",{"$nulls":3},"NFQ","JA",-10,8,0,0,0.2,0,0,{"$nulls":21},-3,3,0,0,0.33,0,0,false,null,null,0,{"$nulls":12},false,{"$nulls":3},"dRN",3178,854,2602,0,{"$nulls":6},false]
["09.161",{"$f":"ROW()","v":476},"FAM",{"$nulls":3},"VIC","9161a",{"$nulls":3},"9161i",1,"NFQ",{"$nulls":3},"NFQ","JA",-10,8,0,0,0.2,0,0,{"$nulls":21},-3,3,0,0,0.33,0,0,false,null,null,0,{"$nulls":12},false,{"$nulls":3},"dRN",3153,1012,2602,0,{"$nulls":6},false]
["09.162",{"$f":"ROW()","v":477},"FAM",{"$nulls":3},"VIC","9162a",{"$nulls":3},"9162i",1,"NFQ",{"$nulls":3},"NFQ","JA",-10,8,0,0,0.2,0,0,{"$nulls":21},-3,3,0,0,0.33,0,0,false,null,null,0,{"$nulls":12},false,{"$nulls":3},"dRN",3147,3089,2602,0,{"$nulls":6},false]
["09.163",{"$f":"ROW()","v":478},"FAM",{"$nulls":3},"VIC","9163a",{"$nulls":3},"9163i",{"$f":"COUNTIF(lstCFXReporter,A478)","v":1},"NFQ",{"$nulls":3},"NFQ","JA",-10,8,0,0,0.2,0,0,{"$nulls":21},-3,3,0,0,0.33,0,0,false,null,null,0,{"$nulls":12},false,{"$nulls":3},"dRN",3141,2076,2602,0,{"$nulls":6},false]
["09.164",{"$f":"ROW()","v":479},"FAM",{"$nulls":3},"VIC","9164a",{"$nulls":3},"9164i",{"$f":"COUNTIF(lstCFXReporter,A479)","v":1},"NFQ",{"$nulls":3},"NFQ","JA",-10,8,0,0,0.2,0,0,{"$nulls":21},-3,3,0,0,0.33,0,0,false,null,null,0,{"$nulls":12},false,{"$nulls":3},"dRN",3158,866,2602,0,{"$nulls":6},false]
["09.140",{"$f":"ROW()","v":480},"FAM",{"$nulls":3},"VIC","9140a",{"$nulls":3},"9140i",1,"NFQ",{"$nulls":3},"NFQ","JA",-10,8,0,0,0.2,0,0,{"$nulls":21},-3,3,0,0,0.2,0,0,false,null,null,0,{"$nulls":12},false,{"$nulls":3},"dRN",2883,2602,901,0,{"$nulls":6},false]
[]
["tabAriaMXReporter",{"$nulls":16},{"$f":"COLUMN()","v":18},{"$f":"COLUMN()","v":19},{"$f":"COLUMN()","v":20},{"$f":"COLUMN()","v":21},{"$f":"COLUMN()","v":22},{"$f":"COLUMN()","v":23},{"$f":"COLUMN()","v":24},{"$f":"COLUMN()","v":25},{"$f":"COLUMN()","v":26},{"$f":"COLUMN()","v":27},{"$f":"COLUMN()","v":28},{"$f":"COLUMN()","v":29},{"$f":"COLUMN()","v":30},{"$f":"COLUMN()","v":31},{"$f":"COLUMN()","v":32},{"$f":"COLUMN()","v":33},{"$f":"COLUMN()","v":34},{"$f":"COLUMN()","v":35},{"$f":"COLUMN()","v":36},{"$f":"COLUMN()","v":37},{"$f":"COLUMN()","v":38},{"$f":"COLUMN()","v":39},{"$f":"COLUMN()","v":40},{"$f":"COLUMN()","v":41},{"$f":"COLUMN()","v":42},{"$f":"COLUMN()","v":43},{"$f":"COLUMN()","v":44},{"$f":"COLUMN()","v":45},{"$f":"COLUMN()","v":46},{"$f":"COLUMN()","v":47},{"$f":"COLUMN()","v":48},{"$f":"COLUMN()","v":49},{"$f":"COLUMN()","v":50},{"$f":"COLUMN()","v":51},{"$f":"COLUMN()","v":52},{"$f":"COLUMN()","v":53},{"$f":"COLUMN()","v":54},{"$f":"COLUMN()","v":55},{"$f":"COLUMN()","v":56},{"$f":"COLUMN()","v":57},{"$f":"COLUMN()","v":58},{"$f":"COLUMN()","v":59},{"$f":"COLUMN()","v":60},{"$f":"COLUMN()","v":61},{"$f":"COLUMN()","v":62},{"$f":"COLUMN()","v":63},{"$f":"COLUMN()","v":64},{"$f":"COLUMN()","v":65},{"$f":"COLUMN()","v":66},{"$f":"COLUMN()","v":67},{"$f":"COLUMN()","v":68},{"$f":"COLUMN()","v":69},{"$f":"COLUMN()","v":70},{"$f":"COLUMN()","v":71},{"$f":"COLUMN()","v":72},{"$f":"COLUMN()","v":73},{"$f":"COLUMN()","v":74},{"$f":"COLUMN()","v":75},{"$f":"COLUMN()","v":76},{"$f":"COLUMN()","v":77},{"$f":"COLUMN()","v":78},{"$f":"COLUMN()","v":79},{"$f":"COLUMN()","v":80},{"$f":"COLUMN()","v":81},{"$f":"COLUMN()","v":82},{"$f":"COLUMN()","v":83},{"$f":"COLUMN()","v":84},{"$f":"COLUMN()","v":85},{"$f":"COLUMN()","v":86},{"$f":"COLUMN()","v":87},{"$f":"COLUMN()","v":88},{"$f":"COLUMN()","v":89},{"$f":"COLUMN()","v":90},{"$f":"COLUMN()","v":91},{"$f":"COLUMN()","v":92},{"$f":"COLUMN()","v":93},{"$f":"COLUMN()","v":94},{"$f":"COLUMN()","v":95},{"$f":"COLUMN()","v":96},{"$f":"COLUMN()","v":97},{"$f":"COLUMN()","v":98},{"$f":"COLUMN()","v":99},{"$f":"COLUMN()","v":100},{"$f":"COLUMN()","v":101},{"$f":"COLUMN()","v":102},{"$f":"COLUMN()","v":103},{"$f":"COLUMN()","v":104}]
[null,null,"Reporter Dye",{"$nulls":4},"Name Detektor",{"$nulls":5},"Quencher",{"$nulls":5},"System1",{"$nulls":6},"System2",{"$nulls":6},"System3",{"$nulls":6},"System4",{"$nulls":6},"System5",{"$nulls":6},"Cutoff Sensitivitätsergebnis System1",{"$nulls":3},"Cutoff Sensitivitätsergebnis System2",{"$nulls":3},"Cutoff Sensitivitätsergebnis System3",{"$nulls":3},"Cutoff Sensitivitätsergebnis System4",{"$nulls":3},"Nur CutOff-Auswertung (siehe 08.34)",{"$nulls":3},"ROX","Identifier",null,null,"Delta Cq-",{"$nulls":6},"IPC"]
["Modul","Zeile",1,2,3,4,"IPC",1,2,3,4,"IPC","Anzahl Modul in Liste",1,2,3,4,"IPC","Validiert für 7500","CqCutOff1","CqCutOff2","CqCutOff3","CqCutOff4","RNLImit1","RNLImit2","RNLImit3","CqCutOff1","CqCutOff2","CqCutOff3","CqCutOff4","RNLImit1","RNLImit2","RNLImit3","CqCutOff1","CqCutOff2","CqCutOff3","CqCutOff4","RNLImit1","RNLImit2","RNLImit3","CqCutOff1","CqCutOff2","CqCutOff3","CqCutOff4","RNLImit1","RNLImit2","RNLImit3","CqCutOff1","CqCutOff2","CqCutOff3","CqCutOff4","RNLImit1","RNLImit2","RNLImit3","Vorhanden",null,null,"StdDev ","Vorhanden","K+ (Kopien/Rxn)","Cutoff (Kopien/Rxn)","Faktor","Vorhanden","K+ (Kopien/Rxn)","Cutoff (Kopien/Rxn)","Faktor","Vorhanden","K+ (Kopien/Rxn)","Cutoff (Kopien/Rxn)","Faktor","System1","System 2","System3","System 4","Normalisierung","MM","K+","BM","Asymmetrie",{"$nulls":6},"Nur CutOff"]
["08.020",{"$f":"ROW()","v":485},"FAM",{"$nulls":3},"HEX","20HOR",{"$nulls":3},"20IPH",{"$f":"COUNTIF(lstAriaMXReporter,A485)","v":1},"NFQ","","","","NFQ","JA",0,6,"","",0.2,0,"",0,0,"","",0,0,"",0,0,"","",0,0,"",0,0,"","",0,0,"",0,3,"","",0.33,0,"",true,0,0,0.64,0,0,0,0,0,0,0,0,0,0,0,0,0,0,0,0,"dRN","1663","1664","0826",0]
["08.026",{"$f":"ROW()","v":486},"FAM",{"$nulls":3},"HEX",80261,{"$nulls":3},"8026i",1,"NFQ","","","","NFQ","NEIN",0,8,"","",0.2,0,"",0,0,"","",0,0,"",0,0,"","",0,0,"",0,0,"","",0,0,"",-5,3,"","",0.33,0,"",false,0,0,0,0,0,0,0,0,0,0,0,0,0,0,0,0,0,0,0,"dRN","1832","1833",2602,0]
["08.027",{"$f":"ROW()","v":487},"FAM","HEX",null,null,"Cy5",80271,80272,null,null,"27IPC",1,"NFQ","NFQ","","","NFQ","NEIN",0,7,"","",0.2,0,"",0,7,"","",0.2,0,"",0,0,"","",0,0,"",0,0,"","",0,0,"",-3,3,"","",0.33,0,"",false,0,0,0,0,0,0,0,0,0,0,0,0,0,0,0,0,0,0,0,"dRN","1820","1821",2602,-5]
["08.028",{"$f":"ROW()","v":488},"FAM",{"$nulls":3},"HEX","8028a",{"$nulls":3},"8028i",1,"NFQ","","","","NFQ","JA",0,8,"","",0.2,0,"",0,0,"","",0,0,"",0,0,"","",0,0,"",0,0,"","",0,0,"",-3,3,"","",0.33,0,"",false,0,0,0,0,0,0,0,0,0,0,0,0,0,0,0,0,0,0,0,"dRN","1886","1869",2602,0]
["08.029",{"$f":"ROW()","v":489},"FAM",{"$nulls":3},"HEX","8029a",{"$nulls":3},"8029i",1,"NFQ","","","","NFQ","NEIN",0,8,"","",0.2,0,"",0,0,"","",0,0,"",0,0,"","",0,0,"",0,0,"","",0,0,"",-3,3,"","",0.33,0,"",false,0,0,0,0,0,0,0,0,0,0,0,0,0,0,0,0,0,0,0,"dRN","1863","1864",2602,0]
["08.030",{"$f":"ROW()","v":490},"FAM",{"$nulls":3},"HEX","8030a",{"$nulls":3},"8030i",1,"NFQ","","","","NFQ","JA",-5,8,"","",0.2,0,"",0,0,"","",0,0,"",0,0,"","",0,0,"",0,0,"","",0,0,"",-3,3,"","",0.33,0,"",false,0,0,0,0,0,0,0,0,0,0,0,0,0,0,0,0,0,0,0,"dRN","1868","1869",2602,0]
["08.031",{"$f":"ROW()","v":491},"FAM",{"$nulls":3},"HEX","8031a",{"$nulls":3},"8031i",1,"NFQ","","","","NFQ","NEIN",0,8,"","",0.2,0,"",0,0,"","",0,0,"",0,0,"","",0,0,"",0,0,"","",0,0,"",-3,3,"","",0.33,0,"",false,0,0,0,0,0,0,0,0,0,0,0,0,0,0,0,0,0,0,0,"dRN","1944","1945","0826",0]
["08.032",{"$f":"ROW()","v":492},"FAM",{"$nulls":3},"HEX","8032a",{"$nulls":3},"8032i",1,"NFQ","","","","NFQ","NEIN",0,8,"","",0.2,0,"",0,0,"","",0,0,"",0,0,"","",0,0,"",0,0,"","",0,0,"",-3,3,"","",0.33,0,"",false,0,0,0,0,0,0,0,0,0,0,0,0,0,0,0,0,0,0,0,"dRN","1894","1895",2602,0]
["08.033",{"$f":"ROW()","v":493},"FAM",{"$nulls":3},"HEX","8033a",{"$nulls":3},"8033i",1,"NFQ","","","","NFQ","NEIN",0,8,"","",0.2,0,"",0,0,"","",0,0,"",0,0,"","",0,0,"",0,0,"","",0,0,"",-3,3,"","",0.33,0,"",false,0,0,0,0,0,0,0,0,0,0,0,0,0,0,0,0,0,0,0,"dRN","1947","1948","0826",0]
["08.034",{"$f":"ROW()","v":494},"FAM",{"$nulls":3},"HEX","8034a",{"$nulls":3},"8034i",1,"NFQ",{"$nulls":3},"NFQ","NEIN",-10,6,"","",0,0,"",0,0,"","",0,0,"",0,0,"","",0,0,"",0,0,"","",0,0,"",-3,3,"","",0.33,0,"",false,0,0,0,false,0,0,0,false,0,0,0,false,0,0,0,true,false,false,false,"dRN","1928","1929","0826",0]
["08.035",{"$f":"ROW()","v":495},"FAM",{"$nulls":3},"HEX","8035a",{"$nulls":3},"8035i",1,"NFQ",{"$nulls":3},"NFQ","JA",-5,8,"","",0.2,0,"",0,0,"","",0,0,"",0,0,"","",0,0,"",0,0,"","",0,0,"",-3,3,"","",0.33,0,"",false,0,0,0,false,0,0,0,false,0,0,0,false,0,0,0,false,false,false,false,"dRN","1990","1869",0,0]
["08.036",{"$f":"ROW()","v":496},"FAM",{"$nulls":3},"HEX","8036a",{"$nulls":3},"8036i",1,"NFQ",{"$nulls":3},"NFQ","JA",0,10,"","",0.2,0,"",0,0,"","",0,0,"",0,0,"","",0,0,"",0,0,"","",0,0,"",-3,3,"","",0.33,0,"",false,0,0,0,false,0,0,0,false,0,0,0,false,0,0,0,false,false,false,false,"dRN",2799,"2069",2799,0]
["08.037",{"$f":"ROW()","v":497},"FAM",{"$nulls":3},"HEX","8037a",{"$nulls":3},"8037i",1,"NFQ",{"$nulls":3},"NFQ","Nein",0,8,"","",0.2,0,"",0,0,"","",0,0,"",0,0,"","",0,0,"",0,0,"","",0,0,"",-3,3,"","",0.33,0,"",false,0,0,0,false,0,0,0,false,0,0,0,false,0,0,0,false,false,false,false,"dRN","2485","1945",2602,0]
["08.038",{"$f":"ROW()","v":498},"FAM",{"$nulls":3},"HEX","8038a",{"$nulls":3},"8038i",1,"NFQ",{"$nulls":3},"NFQ","Nein",0,8,"","",0.2,0,"",0,0,"","",0,0,"",0,0,"","",0,0,"",0,0,"","",0,0,"",-5,3,"","",0.33,0,"",false,0,0,0,false,0,0,0,false,0,0,0,false,0,0,0,false,false,false,false,"dRN","2524","2525",2602,0]
["08.039",{"$f":"ROW()","v":499},"FAM",{"$nulls":3},"HEX","8039a",{"$nulls":3},"8039i",1,"NFQ",{"$nulls":3},"NFQ","Nein",0,8,"","",0.2,0,"",0,0,"","",0,0,"",0,0,"","",0,0,"",0,0,"","",0,0,"",-3,3,"","",0.33,0,"",false,0,0,0,false,0,0,0,false,0,0,0,false,0,0,0,false,false,false,false,"dRN","2514","2516",2602,0]
["08.040",{"$f":"ROW()","v":500},"FAM",{"$nulls":3},"HEX","8040a",{"$nulls":3},"8040i",1,"NFQ",{"$nulls":3},"NFQ","JA",0,8,"","",0.2,0,"",0,0,"","",0,0,"",0,0,"","",0,0,"",0,0,"","",0,0,"",-3,3,"","",0.33,0,"",false,0,0,0,false,0,0,0,false,0,0,0,false,0,0,0,false,false,false,false,"dRN","2547","2546",2602,0]
["08.041",{"$f":"ROW()","v":501},"FAM",{"$nulls":3},"HEX","8041a",{"$nulls":3},"8041i",1,"NFQ",{"$nulls":3},"NFQ","JA",-5,8,"","",0.2,0,"",0,0,"","",0,0,"",0,0,"","",0,0,"",0,0,"","",0,0,"",-3,3,"","",0.33,0,"",false,0,0,0,false,0,0,0,false,0,0,0,false,0,0,0,false,false,false,false,"dRN","2615","1864","2602",0]
["08.042",{"$f":"ROW()","v":502},"FAM","HEX",null,null,"Cy5","8042a","8042b",null,null,"8042i",1,"NFQ","NFQ",null,null,"NFQ","JA",-10,7,"","",0.2,0,"",-10,7,"","",0.2,0,"",0,0,"","",0,0,"",0,0,"","",0,0,"",-3,3,"","",0.33,0,"",false,0,0,0,false,0,0,0,false,0,0,0,false,0,0,0,false,false,false,false,"dRN","2642","2673","2602",-5]
["09.006",{"$f":"ROW()","v":503},"FAM",{"$nulls":3},"HEX","06Bt",{"$nulls":3},"06IPC",1,"NFQ","","","","NFQ","NEIN",0,6,"","",0.2,0,"",0,0,"","",0,0,"",0,0,"","",0,0,"",0,0,"","",0,0,"",0,4,"","",0.5,0,"",0,0,0,0,0,0,0,0,0,0,0,0,0,0,0,0,0,0,0,0,"dRN","0209","0877","0826",0]
["09.015",{"$f":"ROW()","v":504},"FAM",{"$nulls":3},"HEX","15NK",{"$nulls":3},"15IPC",1,"NFQ","","","","NFQ","NEIN",0,6,"","",0.2,0,"",0,0,"","",0,0,"",0,0,"","",0,0,"",0,0,"","",0,0,"",0,4,"","",0.5,0,"",0,0,0,0,0,0,0,0,0,0,0,0,0,0,0,0,0,0,0,0,"dRN","0648","0647","0826",0]
["09.016",{"$f":"ROW()","v":505},"FAM",{"$nulls":3},"HEX","16MIR",{"$nulls":3},"16IPC",1,"NFQ","","","","NFQ","NEIN",0,6,"","",0.2,0,"",0,0,"","",0,0,"",0,0,"","",0,0,"",0,0,"","",0,0,"",0,4,"","",0.5,0,"",0,0,0,0,0,0,0,0,0,0,0,0,0,0,0,0,0,0,0,0,"dRN","0650","0651","0826",0]
["09.017",{"$f":"ROW()","v":506},"FAM","HEX",null,null,"Cy5","1735S","17nos",null,null,"17IPC",1,"NFQ","NFQ","","","NFQ","NEIN",0,6,"","",0.2,0,"",0,6,"","",0.2,0,"",0,0,"","",0,0,"",0,0,"","",0,0,"",0,4,"","",0.5,0,"",0,0,0,0,0,0,0,0,0,0,0,0,0,0,0,0,0,0,0,0,"dRN","0537","0571","0826",-2]
["09.019",{"$f":"ROW()","v":507},"FAM",{"$nulls":3},"HEX","19MON",{"$nulls":3},"19IPC",1,"NFQ","","","","NFQ","NEIN",0,6,"","",0.2,0,"",0,0,"","",0,0,"",0,0,"","",0,0,"",0,0,"","",0,0,"",0,4,"","",0.5,0,"",0,0,0,0,0,0,0,0,0,0,0,0,0,0,0,0,0,0,0,0,"dRN","0653","0654","0826",0]
["09.020",{"$f":"ROW()","v":508},"FAM",{"$nulls":3},"HEX","20HRW",{"$nulls":3},"20IPC",1,"NFQ","","","","NFQ","NEIN",0,6,"","",0.2,0,"",0,0,"","",0,0,"",0,0,"","",0,0,"",0,0,"","",0,0,"",0,4,"","",0.5,0,"",0,0,0,0,0,0,0,0,0,0,0,0,0,0,0,0,0,0,0,0,"dRN","0655","0656","0826",0]
["09.021",{"$f":"ROW()","v":509},"FAM",{"$nulls":3},"HEX","21SOY",{"$nulls":3},"21IPC",1,"NFQ","","","","NFQ","NEIN",0,6,"","",0.2,0,"",0,0,"","",0,0,"",0,0,"","",0,0,"",0,0,"","",0,0,"",0,4,"","",0.5,0,"",0,0,0,0,0,0,0,0,0,0,0,0,0,0,0,0,0,0,0,0,"dRN","0657","0658",0,0]
["09.027",{"$f":"ROW()","v":510},"FAM",{"$nulls":3},"HEX","27MON",{"$nulls":3},"27IPC",1,"NFQ","","","","NFQ","NEIN",0,6,"","",0.2,0,"",0,0,"","",0,0,"",0,0,"","",0,0,"",0,0,"","",0,0,"",0,4,"","",0.33,0,"",0,0,0,0,0,0,0,0,0,0,0,0,0,0,0,0,0,0,0,0,"dRN","0825","0824","0826",0]
["09.028",{"$f":"ROW()","v":511},"FAM",{"$nulls":3},"HEX","28SAM",{"$nulls":3},"28IPC",1,"NFQ","","","","NFQ","NEIN",0,6,"","",0.2,0,"",0,0,"","",0,0,"",0,0,"","",0,0,"",0,0,"","",0,0,"",0,4,"","",0.33,0,"",0,0,0,0,0,0,0,0,0,0,0,0,0,0,0,0,0,0,0,0,"dRN","0827","0828","0826",0]
["09.029",{"$f":"ROW()","v":512},"FAM",{"$nulls":3},"HEX","29LY",{"$nulls":3},"29IPC",1,"NFQ","","","","NFQ","NEIN",0,7,"","",0.1,0,"",0,0,"","",0,0,"",0,0,"","",0,0,"",0,0,"","",0,0,"",0,4,"","",0.33,0,"",0,0,0,0,0,0,0,0,0,0,0,0,0,0,0,0,0,0,0,0,"dRN","0855","0854","0826",0]
["09.030",{"$f":"ROW()","v":513},"FAM",{"$nulls":3},"HEX","30GA",{"$nulls":3},"30IPC",1,"NFQ","","","","NFQ","NEIN",0,6,"","",0.2,0,"",0,0,"","",0,0,"",0,0,"","",0,0,"",0,0,"","",0,0,"",0,4,"","",0.33,0,"",0,0,0,0,0,0,0,0,0,0,0,0,0,0,0,0,0,0,0,0,"dRN","0883","0884","0826",0]
["09.031",{"$f":"ROW()","v":514},"FAM",{"$nulls":3},"HEX","31HX1",{"$nulls":3},"31IPC",1,"NFQ","","","","NFQ","NEIN",0,6,"","",0.2,0,"",0,0,"","",0,0,"",0,0,"","",0,0,"",0,0,"","",0,0,"",0,4,"","",0.33,0,"",0,0,0,0,0,0,0,0,0,0,0,0,0,0,0,0,0,0,0,0,"dRN","0885","0886","0826",0]
["09.033",{"$f":"ROW()","v":515},"FAM",{"$nulls":3},"HEX","33RR2",{"$nulls":3},"33IPC",1,"NFQ","","","","NFQ","NEIN",0,6,"","",0.2,0.5,"",0,0,"","",0,0,"",0,0,"","",0,0,"",0,0,"","",0,0,"",0,4,"","",0.33,0,"",0,0,0,0,0,0,0,0,0,0,0,0,0,0,0,0,0,0,0,0,"dRN","0864","0866","0826",0]
["09.034",{"$f":"ROW()","v":516},"FAM",{"$nulls":3},"HEX","34RRS",{"$nulls":3},"34IPC",1,"NFQ","","","","NFQ","NEIN",0,6,"","",0.2,0,"",0,0,"","",0,0,"",0,0,"","",0,0,"",0,0,"","",0,0,"",0,4,"","",0.33,0,"",0,0,0,0,0,0,0,0,0,0,0,0,0,0,0,0,0,0,0,0,"dRN","0978","0901","0826",0]
["09.035",{"$f":"ROW()","v":517},"FAM",{"$nulls":3},"HEX","35FMV",{"$nulls":3},"35IPC",{"$f":"COUNTIF(lstAriaMXReporter,A517)","v":1},"NFQ","","","","NFQ","NEIN",0,6,"","",0.2,0,"",0,0,"","",0,0,"",0,0,"","",0,0,"",0,0,"","",0,0,"",0,4,"","",0.33,0,"",0,0,0,0,0,0,0,0,0,0,0,0,0,0,0,0,0,0,0,0,"dRN","0902","0904","0826",0]
["09.036",{"$f":"ROW()","v":518},"FAM",{"$nulls":3},"HEX","36NOS",{"$nulls":3},"36IPC",1,"NFQ","","","","NFQ","NEIN",0,7,"","",0.2,0,"",0,0,"","",0,0,"",0,0,"","",0,0,"",0,0,"","",0,0,"",0,4,"","",0.25,0,"",0,0,0,0,0,0,0,0,0,0,0,0,0,0,0,0,0,0,0,0,"dRN","0898","0758","0826",0]
["09.037",{"$f":"ROW()","v":519},"FAM",{"$nulls":3},"HEX","3735S",{"$nulls":3},"37IPC",1,"NFQ","","","","NFQ","NEIN",0,7,"","",0.2,0,"",0,0,"","",0,0,"",0,0,"","",0,0,"",0,0,"","",0,0,"",0,4,"","",0.25,0,"",0,0,0,0,0,0,0,0,0,0,0,0,0,0,0,0,0,0,0,0,"dRN","0899","0901","0826",0]
["09.038",{"$f":"ROW()","v":520},"FAM",{"$nulls":3},"HEX",38890,{"$nulls":3},"38IPC",1,"NFQ","","","","NFQ","NEIN",-5,6,"","",0.2,0,"",0,0,"","",0,0,"",0,0,"","",0,0,"",0,0,"","",0,0,"",-3,4,"","",0.33,0,"",0,0,0,0,0,0,0,0,0,0,0,0,0,0,0,0,0,0,0,0,"dRN","0971","0972","0826",0]
["09.039",{"$f":"ROW()","v":521},"FAM",{"$nulls":3},"HEX","39bar",{"$nulls":3},"39IPC",1,"NFQ","","","","NFQ","NEIN",0,6,"","",0.2,0,"",0,0,"","",0,0,"",0,0,"","",0,0,"",0,0,"","",0,0,"",0,3,"","",0.33,0,"",0,0,0,0,0,0,0,0,0,0,0,0,0,0,0,0,0,0,0,0,"dRN","1010","1012","0826",0]
["09.040",{"$f":"ROW()","v":522},"FAM",{"$nulls":3},"HEX",40880,{"$nulls":3},"40IPC",1,"NFQ","","","","NFQ","NEIN",0,6,"","",0.2,0,"",0,0,"","",0,0,"",0,0,"","",0,0,"",0,0,"","",0,0,"",0,4,"","",0.33,0,"",0,0,0,0,0,0,0,0,0,0,0,0,0,0,0,0,0,0,0,0,"dRN","1011","1013","0826",0]
["09.041",{"$f":"ROW()","v":523},"FAM",{"$nulls":3},"HEX",41327,{"$nulls":3},"41IPC",1,"NFQ","","","","NFQ","NEIN",0,6,"","",0.2,0,"",0,0,"","",0,0,"",0,0,"","",0,0,"",0,0,"","",0,0,"",0,4,"","",0.33,0,"",0,0,0,0,0,0,0,0,0,0,0,0,0,0,0,0,0,0,0,0,"dRN","1023","1025","0826",0]
["09.042",{"$f":"ROW()","v":524},"FAM",{"$nulls":3},"HEX","42SPE",{"$nulls":3},"42IPC",1,"NFQ","","","","NFQ","NEIN",{"$error":"#N/A"},{"$error":"#N/A"},"","",{"$error":"#N/A"},{"$error":"#N/A"},"",{"$error":"#N/A"},{"$error":"#N/A"},"","",{"$error":"#N/A"},{"$error":"#N/A"},"",{"$error":"#N/A"},{"$error":"#N/A"},"","",{"$error":"#N/A"},{"$error":"#N/A"},"",{"$error":"#N/A"},{"$error":"#N/A"},"","",{"$error":"#N/A"},{"$error":"#N/A"},"",{"$error":"#N/A"},{"$error":"#N/A"},"","",{"$error":"#N/A"},{"$error":"#N/A"},"",{"$error":"#N/A"},{"$error":"#N/A"},{"$error":"#N/A"},{"$error":"#N/A"},{"$error":"#N/A"},{"$error":"#N/A"},{"$error":"#N/A"},{"$error":"#N/A"},{"$error":"#N/A"},{"$error":"#N/A"},{"$error":"#N/A"},{"$error":"#N/A"},{"$error":"#N/A"},{"$error":"#N/A"},{"$error":"#N/A"},{"$error":"#N/A"},{"$error":"#N/A"},{"$error":"#N/A"},{"$error":"#N/A"},{"$error":"#N/A"},{"$error":"#N/A"},{"$error":"#N/A"},{"$error":"#N/A"},{"$error":"#N/A"},{"$error":"#N/A"}]
["09.043",{"$f":"ROW()","v":525},"FAM",{"$nulls":3},"HEX","43-H7",{"$nulls":3},"43IPC",1,"NFQ","","","","NFQ","NEIN",0,6,"","",0.2,0,"",0,0,"","",0,0,"",0,0,"","",0,0,"",0,0,"","",0,0,"",0,4,"","",0.33,0,"",0,0,0,0,0,0,0,0,0,0,0,0,0,0,0,0,0,0,0,0,"dRN","1071","1069","0826",0]
["09.044",{"$f":"ROW()","v":526},"FAM",{"$nulls":3},"HEX","44DP3",{"$nulls":3},"44IPC",1,"NFQ","","","","NFQ","NEIN",0,6,"","",0.2,0,"",0,0,"","",0,0,"",0,0,"","",0,0,"",0,0,"","",0,0,"",0,4,"","",0.33,0,"",0,0,0,0,0,0,0,0,false,0,0,0,true,0,0,0,0,0,0,0,"dRN","1084","1086","0826",0]
["09.045",{"$f":"ROW()","v":527},"FAM",{"$nulls":3},"HEX","45noD",{"$nulls":3},"45IPC",1,"NFQ","","","","NFQ","NEIN",0,6,"","",0.2,0,"",0,0,"","",0,0,"",0,0,"","",0,0,"",0,0,"","",0,0,"",0,4,"","",0.33,0,"",0,0,0,0,0,0,0,0,false,0,0,0,true,0,0,0,0,0,0,0,"dRN","1063","1041","0826",0]
["09.046",{"$f":"ROW()","v":528},"FAM",{"$nulls":3},"HEX","46nia",{"$nulls":3},"46IPC",1,"NFQ","","","","NFQ","NEIN",0,7,"","",0.2,0,"",0,0,"","",0,0,"",0,0,"","",0,0,"",0,0,"","",0,0,"",0,4,"","",0.33,0,"",0,0,0,0,0,0,0,0,false,0,0,0,true,0,0,0,0,0,0,0,"dRN","1091","1093","0826",0]
["09.047",{"$f":"ROW()","v":529},"FAM",{"$nulls":3},"HEX","9047a",{"$nulls":3},"9047i",1,"NFQ","","","","NFQ","NEIN",-3,7,"","",0.2,0,"",0,0,"","",0,0,"",0,0,"","",0,0,"",0,0,"","",0,0,"",-3,4,"","",0.33,0,"",false,0,0,0,0,0,0,0,false,0,0,0,true,0,0,0,0,0,0,0,"dRN","1925","1926","0826",0]
["09.048",{"$f":"ROW()","v":530},"FAM",{"$nulls":3},"HEX","48T45",{"$nulls":3},"48IPC",1,"NFQ","","","","NFQ","NEIN",0,7,"","",0.15,0,"",0,0,"","",0,0,"",0,0,"","",0,0,"",0,0,"","",0,0,"",0,3,"","",0.33,0,"",0,0,0,0,0,0,0,0,false,0,0,0,true,0,0,0,0,0,0,0,"dRN","1131","1133","0826",0]
["09.050",{"$f":"ROW()","v":531},"FAM","HEX",null,null,"Cy5","5035S","50NOS",null,null,"50IPC",1,"NFQ","NFQ","","","NFQ","NEIN",-10,7,"","",0.2,0,"",-10,7,"","",0.2,0,"",0,0,"","",0,0,"",0,0,"","",0,0,"",-2,4,"","",0.33,0,"",0,0,0,0,0,0,0,0,0,0,0,0,0,0,0,0,0,0,0,0,"dRN","1121","1122","0826",0]
["09.052",{"$f":"ROW()","v":532},"FAM",{"$nulls":3},"HEX","52vip",{"$nulls":3},"52IPC",1,"NFQ","","","","NFQ","NEIN",0,7,"","",0.2,0,"",0,0,"","",0,0,"",0,0,"","",0,0,"",0,0,"","",0,0,"",0,5,"","",0.33,0,"",0,0,0,0,false,0,0,0,false,0,0,0,true,0,0,0,0,0,0,0,"dRN","1157","1158","0826",0]
["09.053",{"$f":"ROW()","v":533},"FAM",{"$nulls":3},"HEX",53981,{"$nulls":3},"53IPC",1,"NFQ","","","","NFQ","NEIN",0,6,"","",0.2,0,"",0,0,"","",0,0,"",0,0,"","",0,0,"",0,0,"","",0,0,"",0,4,"","",0.33,0,"",0,0,0,0,false,0,0,0,false,0,0,0,true,0,0,0,0,0,0,0,"dRN","1161","1163","0826",0]
["09.055",{"$f":"ROW()","v":534},"FAM",{"$nulls":3},"HEX","55KMD",{"$nulls":3},"55IPC",1,"NFQ","","","","NFQ","NEIN",0,6,"","",0.2,0,"",0,0,"","",0,0,"",0,0,"","",0,0,"",0,0,"","",0,0,"",0,3,"","",0.33,0,"",0,0,0,0,false,0,0,0,false,0,0,0,true,0,0,0,0,0,0,0,"dRN","1352","1354","0826",0]
["09.061",{"$f":"ROW()","v":535},"FAM","HEX","ROX",null,"Cy5","6135S","61NOS","61FMV",null,"61IPC",1,"NFQ","NFQ","NFQ",null,"NFQ","JA",-10,8,"","",0.2,0,"",-10,8,"","",0.2,0,"",-10,9,"","",0.2,0,"",0,0,"","",0,0,"",-2,3,"","",0.33,0,"",0,0,0,0,0,0,0,0,0,0,0,0,0,0,0,0,0,0,0,0,"dR","1221","1223","0892",-4]
["09.063",{"$f":"ROW()","v":536},"FAM",{"$nulls":3},"HEX",63127,{"$nulls":3},"63IPC",1,"NFQ","","","","NFQ","NEIN",0,8,"","",0.2,0,"",0,0,"","",0,0,"",0,0,"","",0,0,"",0,0,"","",0,0,"",0,3,"","",0.33,0,"",0,0,0,0,false,0,0,0,false,0,0,0,true,0,0,0,0,0,0,0,"dRN","1216","1219","0826",0]
["09.068",{"$f":"ROW()","v":537},"FAM",{"$nulls":3},"HEX","68T25",{"$nulls":3},"68IPC",1,"NFQ",{"$nulls":3},"NFQ","NEIN",0,6,"","",0.2,0,"",0,0,"","",0,0,"",0,0,"","",0,0,"",0,0,"","",0,0,"",0,4,"","",0.25,0,"",false,0,0,0,false,0,0,0,false,0,0,0,false,0,0,0,false,false,false,false,"dRN","1247","1248","0826",0]
["09.083",{"$f":"ROW()","v":538},"FAM","HEX",null,null,"Cy5","83BAR","83PAT",null,null,"83IPC",1,"NFQ","NFQ","","","NFQ","NEIN",0,6,"","",0.2,0,"",0,7,"","",0.15,0,"",0,0,"","",0,0,"",0,0,"","",0,0,"",-3,3,"","",0.33,0,"",0,0,0,0,0,0,0,0,0,0,0,0,0,0,0,0,0,0,0,0,"dRN","1572","1573","0826",0]
["09.085",{"$f":"ROW()","v":539},"FAM",{"$nulls":3},"HEX","85lec",{"$nulls":3},"85IPC",1,"TAMRA","","","","NFQ","NEIN",0,8,"","",0.2,0,"",0,0,"","",0,0,"",0,0,"","",0,0,"",0,0,"","",0,0,"",0,3,"","",0.33,0,"",0,0,0,0,false,0,0,0,false,0,0,0,true,0,0,0,0,0,0,0,"dRN","1610","0901",0,0]
["09.088",{"$f":"ROW()","v":540},"FAM","HEX",null,null,"Cy5",90881,90882,null,null,"9088i",1,"NFQ","NFQ","","","NFQ","NEIN",0,6,"","",0.2,0,"",0,7,"","",0.2,0,"",0,0,"","",0,0,"",0,0,"","",0,0,"",0,3,"","",0.33,0,"",false,0,0,0,false,0,0,0,false,0,0,0,true,0,0,0,0,0,0,0,"dRN","1756","1757","0826",-10]
["09.091",{"$f":"ROW()","v":541},"FAM",{"$nulls":3},"HEX",91874,{"$nulls":3},"91IPC",1,"NFQ","","","","NFQ","NEIN",0,5,"","",0.2,0,"",0,0,"","",0,0,"",0,0,"","",0,0,"",0,0,"","",0,0,"",0,4,"","",0.33,0,"",false,0,0,0,false,0,0,0,false,0,0,0,true,0,0,0,0,0,0,0,"dRN","1825","1827","0826",0]
["09.092",{"$f":"ROW()","v":542},"HEX","FAM",null,null,"Cy5","9092a","9092b",null,null,"9092i",1,"NFQ","NFQ","","","NFQ","NEIN",-11,5,"","",0.2,0,"",-11,5,"","",0.2,0,"",0,0,"","",0,0,"",0,0,"","",0,0,"",-3,3,"","",0.7,0,"",false,0,0,0,0,0,0,0,0,0,0,0,0,0,0,0,0,0,0,0,"dRN","1876","1877","0826",-11]
["09.095",{"$f":"ROW()","v":543},"FAM",{"$nulls":3},"HEX","9095a",{"$nulls":3},"9095i",1,"NFQ","","","","NFQ","NEIN",0,5,"","",0.2,0,"",0,0,"","",0,0,"",0,0,"","",0,0,"",0,0,"","",0,0,"",0,3,"","",0.33,0,"",false,0,0,0,0,0,0,0,0,0,0,0,0,0,0,0,0,0,0,0,"dRN","1859","1860","0826",0]
["09.099",{"$f":"ROW()","v":544},"FAM",{"$nulls":3},"HEX","9099a",{"$nulls":3},"9099i",1,"NFQ",{"$nulls":3},"NFQ","NEIN",-3,6,"","",0.2,0,"",0,0,"","",0,0,"",0,0,"","",0,0,"",0,0,"","",0,0,"",-3,4,"","",0.33,0,"",false,0,0,0,false,0,0,0,false,0,0,0,false,0,0,0,false,false,false,false,"dRN","1964","1354","0826",0]
["09.102",{"$f":"ROW()","v":545},"FAM",{"$nulls":3},"HEX","9102a",{"$nulls":3},"9102i",1,"NFQ",{"$nulls":3},"NFQ","Nein",0,6,"","",0.2,0,"",0,0,"","",0,0,"",0,0,"","",0,0,"",0,0,"","",0,0,"",-3,3,"","",0.33,0,"",false,0,0,0,false,0,0,0,false,0,0,0,false,0,0,0,false,false,false,false,"dRN","2607","2608","2602",0]
["09.103",{"$f":"ROW()","v":546},"FAM",{"$nulls":3},"HEX","9103a",{"$nulls":3},"9103i",1,"NFQ",{"$nulls":3},"NFQ","JA",0,6,"","",0.2,0,"",0,0,"","",0,0,"",0,0,"","",0,0,"",0,0,"","",0,0,"",-3,4,"","",0.33,0,"",false,0,0,0,false,0,0,0,false,0,0,0,false,0,0,0,false,false,false,false,"dRN","1938","1939","0826",0]
["09.106",{"$f":"ROW()","v":547},"FAM",{"$nulls":3},"HEX","9106a",{"$nulls":3},"9106i",1,"NFQ",{"$nulls":3},"NFQ","Nein",0,6,"","",0.2,0,"",0,0,"","",0,0,"",0,0,"","",0,0,"",0,0,"","",0,0,"",-3,4,"","",0.33,0,"",false,0,0,0,false,0,0,0,false,0,0,0,false,0,0,0,false,false,false,false,"dRN","2019","2020","0826",0]
["09.107",{"$f":"ROW()","v":548},"FAM",{"$nulls":3},"HEX","9107a",{"$nulls":3},"9107i",1,"NFQ",{"$nulls":3},"NFQ","Nein",0,6,"","",0.2,0,"",0,0,"","",0,0,"",0,0,"","",0,0,"",0,0,"","",0,0,"",-3,4,"","",0.33,0,"",false,0,0,0,false,0,0,0,false,0,0,0,false,0,0,0,false,false,false,false,"dRN","1994","1995","0826",0]
["09.110",{"$f":"ROW()","v":549},"FAM",{"$nulls":3},"HEX","9110a",{"$nulls":3},"9110i",{"$f":"COUNTIF(lstAriaMXReporter,A549)","v":1},"NFQ",{"$nulls":3},"NFQ","Nein",-5,8,"","",0.2,0,"",0,0,"","",0,0,"",0,0,"","",0,0,"",0,0,"","",0,0,"",-3,3,"","",0.33,0,"",false,0,0,0,false,0,0,0,false,0,0,0,false,0,0,0,false,false,false,false,"dRN","2032","2033","0826",0]
["09.111",{"$f":"ROW()","v":550},"FAM",{"$nulls":3},"HEX","9111a",{"$nulls":3},"9111i",1,"NFQ",{"$nulls":3},"NFQ","JA",0,6,"","",0.15,0,"",0,0,"","",0,0,"",0,0,"","",0,0,"",0,0,"","",0,0,"",-3,4,"","",0.33,0,"",false,0,0,0,false,0,0,0,false,0,0,0,false,0,0,0,false,false,false,false,"dRN","1998","2000","0826",0]
["09.115",{"$f":"ROW()","v":551},"FAM",{"$nulls":3},"HEX","9115a",{"$nulls":3},"9115i",1,"NFQ",{"$nulls":3},"NFQ","Nein",0,6,"","",0.2,0,"",0,0,"","",0,0,"",0,0,"","",0,0,"",0,0,"","",0,0,"",-3,4,"","",0.33,0,"",false,0,0,0,false,0,0,0,false,0,0,0,false,0,0,0,false,false,false,false,"dRN","2035",2602,"0658",0]
["09.116",{"$f":"ROW()","v":552},"FAM",{"$nulls":3},"HEX","9116a",{"$nulls":3},"9116i",1,"NFQ",{"$nulls":3},"NFQ","Nein",0,9,"","",0.15,0,"",0,0,"","",0,0,"",0,0,"","",0,0,"",0,0,"","",0,0,"",-3,3,"","",0.33,0,"",false,0,0,0,false,0,0,0,false,0,0,0,false,0,0,0,false,false,false,false,"dRN","2532","2533",2602,0]
["09.117",{"$f":"ROW()","v":553},"FAM",{"$nulls":3},"HEX","9117a",{"$nulls":3},"9117i",1,"NFQ",{"$nulls":3},"NFQ","Nein",0,9,"","",0.15,0,"",0,0,"","",0,0,"",0,0,"","",0,0,"",0,0,"","",0,0,"",-3,3,"","",0.33,0,"",false,0,0,0,false,0,0,0,false,0,0,0,false,0,0,0,false,false,false,false,"dRN","2531","0654",2602,0]
["09.118",{"$f":"ROW()","v":554},"FAM","Cy5",null,null,"HEX","9118a","9118b",null,null,"9118i",1,"NFQ","NFQ",null,null,"NFQ","JA",-11,5,"","",0.2,0,"",-11,5,"","",0.2,0,"",0,0,"","",0,0,"",0,0,"","",0,0,"",-3,3,"","",0.33,0,"",false,0,0,0,false,0,0,0,false,0,0,0,false,0,0,0,false,false,false,false,"dRN","2075","2076",2602,11]
["09.119",{"$f":"ROW()","v":555},"FAM",{"$nulls":3},"HEX","9119a",{"$nulls":3},"9119i",1,"NFQ",{"$nulls":3},"NFQ","JA",0,6,"","",0.15,0,"",0,0,"","",0,0,"",0,0,"","",0,0,"",0,0,"","",0,0,"",-3,3,"","",0.33,0,"",false,0,0,0,false,0,0,0,false,0,0,0,false,0,0,0,false,false,false,false,"dRN","2484","2065",2602,0]
["09.120",{"$f":"ROW()","v":556},"FAM",{"$nulls":3},"HEX","9120a",{"$nulls":3},"9120i",1,"NFQ",{"$nulls":3},"NFQ","JA",-5,6,"","",0.2,0,"",0,0,"","",0,0,"",0,0,"","",0,0,"",0,0,"","",0,0,"",-3,3,"","",0.33,0,"",false,0,0,0,false,0,0,0,false,0,0,0,false,0,0,0,false,false,false,false,"dRN","2076","2077",2602,0]
["09.121",{"$f":"ROW()","v":557},"FAM","HEX","ROX",null,"Cy5","9121a","9121b","9121c",null,"9121i",1,"NFQ","NFQ","NFQ",null,"NFQ","JA",-10,6,"","",0.2,0,"",-10,6,"","",0.2,0,"",-10,6,"","",0.2,0,"",0,0,"","",0,0,"",-2,3,"","",0.33,0,"",false,0,0,0,false,0,0,0,false,0,0,0,false,0,0,0,false,false,false,false,"dR","2692","2694","2602",10]
["09.124",{"$f":"ROW()","v":558},{"$nulls":10},1,"NFQ",{"$nulls":4},"Nein",0,{"$nulls":6},0,{"$nulls":6},0,{"$nulls":6},0,{"$nulls":6},0,{"$nulls":4},0,0,false,null,null,0,false,null,null,0,false,null,null,0,{"$nulls":4},false,false,false,null,"dR",2737,2742,2602,10]
["09.125",{"$f":"ROW()","v":559},"FAM",{"$nulls":3},"HEX","9125a",{"$nulls":3},"9125i",1,"NFQ",{"$nulls":3},"NFQ","JA",-10,8,0,0,0.2,0,0,0,{"$nulls":6},0,{"$nulls":6},0,{"$nulls":6},-3,3,0,0,0.33,0,0,false,null,null,0,{"$nulls":12},false,{"$nulls":3},"dRN",2752,2753,2602,0]
["09.126",{"$f":"ROW()","v":560},"FAM","HEX","ROX",null,"CY5","9126a","9126b","9126c",null,"9126i",1,"NFQ","NFQ","NFQ",null,"NFQ","JA",-10,8,0,0,0.2,0,0,-10,8,0,0,0.2,0,0,-10,9,0,0,0.2,0,0,0,{"$nulls":6},-3,3,0,0,0.33,0,0,false,null,null,0,{"$nulls":12},false,{"$nulls":3},"dRN",2746,2747,2602,0]
["09.127",{"$f":"ROW()","v":561},"FAM",{"$nulls":3},"HEX","9127a",{"$nulls":3},"9127i",1,"NFQ",{"$nulls":3},"NFQ","JA",-10,8,0,0,0.2,0,0,0,{"$nulls":6},0,{"$nulls":6},0,{"$nulls":6},-3,3,0,0,0.33,{"$nulls":22},"dRN",2765,2766,2602,0]
["09.131",{"$f":"ROW()","v":562},"FAM","HEX",null,null,"CY5","9131a","9131b",null,null,"9131i",1,"NFQ","NFQ",null,null,"NFQ","JA",-10,7,0,0,0.2,0,0,-10,7,0,0,0.2,0,0,0,{"$nulls":6},0,{"$nulls":6},-3,3,0,0,0.33,{"$nulls":22},"dR",2778,2780,2602,0]
["09.133",{"$f":"ROW()","v":563},{"$nulls":10},1,{"$nulls":5},"Nein",0,{"$nulls":6},0,{"$nulls":6},0,{"$nulls":6},0,{"$nulls":6},0,{"$nulls":26},"dRN",2802,2602,2803,0]
["09.135",{"$f":"ROW()","v":564},{"$nulls":10},1,{"$nulls":5},"Nein",0,{"$nulls":6},0,{"$nulls":6},0,{"$nulls":6},0,{"$nulls":6},0,{"$nulls":4},0,0,false,null,null,0,false,null,null,0,{"$nulls":8},false,false,null,null,"dRN",2807,2808,2602,12]
["09.136",{"$f":"ROW()","v":565},"FAM","HEX","ROX",null,"CY5","9136a","9136b","9136c",null,"9136i",1,"NFQ","NFQ","NFQ",null,"NFQ","JA",-10,8,0,0,0.2,0,0,-10,8,0,0,0.2,0,0,-10,9,0,0,0.2,0,0,0,{"$nulls":6},-3,3,0,0,0,{"$nulls":22},"dRN",2826,2803,2602,10,{"$nulls":6},true]
["09.138",{"$f":"ROW()","v":566},"FAM",{"$nulls":3},"HEX","9138a",{"$nulls":3},"9138i",1,"NFQ",{"$nulls":3},"NFQ","JA",-10,8,0,0,0.2,0,0,0,{"$nulls":6},0,{"$nulls":6},0,{"$nulls":6},-3,3,0,0,0.33,0,0,false,null,null,0,false,null,null,0,false,null,null,0,{"$nulls":4},false,false,false,null,"dR",2842,2844,2602,10,{"$nulls":6},false]
["09.139",{"$f":"ROW()","v":567},{"$nulls":10},1,{"$nulls":5},"Nein",0,{"$nulls":6},0,{"$nulls":6},0,{"$nulls":6},0,{"$nulls":6},0,{"$nulls":4},0,0,false,null,null,0,{"$nulls":12},false,{"$nulls":3},"dR",2856,2753,2602,0,{"$nulls":6},false]
["11.001",{"$f":"ROW()","v":568},{"$nulls":10},1,{"$nulls":5},"Nein",0,{"$nulls":6},0,{"$nulls":6},0,{"$nulls":6},0,{"$nulls":6},0,{"$nulls":26},"dR",2860,2861,2602,0,{"$nulls":6},false]
["09.144",{"$f":"ROW()","v":569},"FAM",{"$nulls":3},"HEX","9144a",{"$nulls":3},"9144i",{"$f":"COUNTIF(lstAriaMXReporter,A569)","v":1},"NFQ",{"$nulls":3},"NFQ","JA",-10,8,0,0,0.2,0,0,{"$nulls":21},-3,3,0,0,0.33,0,0,false,null,null,0,{"$nulls":12},false,{"$nulls":3},"dRN",2946,2948,2602,0,{"$nulls":6},false]
["09.143",{"$f":"ROW()","v":570},"FAM",{"$nulls":3},"HEX","9143a",{"$nulls":3},"9143i",1,"NFQ",{"$nulls":3},"NFQ","JA",-10,7,0,0,0.2,0,0,{"$nulls":21},-3,3,0,0,0.33,0,0,false,null,null,0,{"$nulls":12},false,{"$nulls":3},"dRN",2953,2954,2602,0,{"$nulls":6},false]
["09.141",{"$f":"ROW()","v":571},{"$nulls":10},1,{"$nulls":5},"Nein",{"$nulls":55},"dRN",2985,2986,2602,0]
["09.142",{"$f":"ROW()","v":572},"FAM",{"$nulls":3},"HEX","9142a",{"$nulls":3},"9142i",1,"NFQ",{"$nulls":3},"NFQ","JA",-10,8,0,0,0.2,0,0,{"$nulls":21},-3,3,0,0,0.33,0,0,false,null,null,0,{"$nulls":12},false,{"$nulls":3},"dRN",2971,901,2602,0,{"$nulls":6},false]
["09.146",{"$f":"ROW()","v":573},"FAM",{"$nulls":3},"HEX","9146a",{"$nulls":3},"9146i",1,"NFQ",{"$nulls":3},"NFQ","JA",-10,8,0,0,0.2,0,0,{"$nulls":21},-3,3,0,0,0.33,0,0,false,null,null,0,{"$nulls":12},false,{"$nulls":3},"dRN",2965,2966,2602,0,{"$nulls":6},false]
["09.147",{"$f":"ROW()","v":574},"FAM",{"$nulls":3},"HEX","9147a",{"$nulls":3},"9147i",{"$f":"COUNTIF(lstAriaMXReporter,A574)","v":1},"NFQ",{"$nulls":3},"NFQ","JA",-10,8,0,0,0.2,0,0,{"$nulls":21},-3,3,0,0,0.33,0,0,false,null,null,0,{"$nulls":12},false,{"$nulls":3},"dRN",3036,3037,2602,0,{"$nulls":6},false]
["09.152",{"$f":"ROW()","v":575},"FAM",{"$nulls":3},"HEX","9152a",{"$nulls":3},"9152i",1,"NFQ",{"$nulls":3},"NFQ","JA",-10,8,0,0,0.2,0,0,{"$nulls":21},-3,3,0,0,0.33,0,0,false,null,null,0,{"$nulls":12},false,{"$nulls":3},"dRN",3049,1219,2602,0,{"$nulls":6},false]
["09.156",{"$f":"ROW()","v":576},"FAM",{"$nulls":3},"HEX","9156a",{"$nulls":3},"9156i",1,"NFQ",{"$nulls":3},"NFQ","JA",-10,8,0,0,0.2,0,0,{"$nulls":21},-3,3,0,0,0.33,0,0,false,null,null,0,{"$nulls":12},false,{"$nulls":3},"dRN",3053,1086,2602,0,{"$nulls":6},false]
["09.155",{"$f":"ROW()","v":577},"FAM",{"$nulls":3},"HEX","9155a",{"$nulls":3},"9155i",1,"NFQ",{"$nulls":3},"NFQ","JA",-10,8,0,0,0.2,0,0,{"$nulls":21},-3,3,0,0,0.33,0,0,false,null,null,0,{"$nulls":12},false,{"$nulls":3},"dRN",3078,3079,2602,0,{"$nulls":6},false]
["09.145",{"$f":"ROW()","v":578},{"$nulls":10},1,{"$nulls":5},"Nein",{"$nulls":55},"dR",2974,2975,3043,0]
["09.148",{"$f":"ROW()","v":579},{"$nulls":10},1,{"$nulls":5},"Nein",{"$nulls":55},"dR",3117,3118,3043,0]
["09.158",{"$f":"ROW()","v":580},"FAM",{"$nulls":3},"HEX","9158a",{"$nulls":3},"9158i",{"$f":"COUNTIF(lstAriaMXReporter,A580)","v":1},"NFQ",{"$nulls":3},"NFQ","JA",-11,8,0,0,0.2,0,0,{"$nulls":21},-3,3,0,0,0.33,0,0,false,null,null,0,{"$nulls":12},false,{"$nulls":3},"dRN",3088,3089,2602,0,{"$nulls":6},false]
["08.043",{"$f":"ROW()","v":581},"FAM",{"$nulls":3},"HEX","8043a",{"$nulls":3},"8043i",1,"NFQ",{"$nulls":3},"NFQ","JA",-10,4.5,0,0,0,0,0,{"$nulls":21},-3,3,0,0,0.33,0,0,false,null,null,0,{"$nulls":12},true,{"$nulls":3},"dRN",2870,1869,2602,0,{"$nulls":6},false]
["09.159",{"$f":"ROW()","v":582},"FAM",{"$nulls":3},"HEX","9159a",{"$nulls":3},"9159i",1,"NFQ",{"$nulls":3},"NFQ","JA",-10,8,0,0,0.2,0,0,{"$nulls":21},-3,3,0,0,0.33,0,0,false,null,null,0,{"$nulls":12},false,{"$nulls":3},"dRN",3135,2076,2602,0,{"$nulls":6},false]
["09.154",{"$f":"ROW()","v":583},"FAM",{"$nulls":3},"HEX","9154a",{"$nulls":3},"9154i",1,"NFQ",{"$nulls":3},"NFQ","JA",-10,8,0,0,0.2,0,0,{"$nulls":21},-3,3,0,0,0.33,0,0,false,null,null,0,{"$nulls":12},false,{"$nulls":3},"dRN",3178,854,2602,0,{"$nulls":6},false]
["09.161",{"$f":"ROW()","v":584},"FAM",{"$nulls":3},"HEX","9161a",{"$nulls":3},"9161i",1,"NFQ",{"$nulls":3},"NFQ","JA",-10,8,0,0,0.2,0,0,{"$nulls":21},-3,3,0,0,0.33,0,0,false,null,null,0,{"$nulls":12},false,{"$nulls":3},"dRN",3153,1012,2602,0,{"$nulls":6},false]
["09.162",{"$f":"ROW()","v":585},"FAM",{"$nulls":3},"HEX","9162a",{"$nulls":3},"9162i",1,"NFQ",{"$nulls":3},"NFQ","JA",-10,8,0,0,0.2,0,0,{"$nulls":21},-3,3,0,0,0.33,0,0,false,null,null,0,{"$nulls":12},false,{"$nulls":3},"dRN",3147,3089,2602,0,{"$nulls":6},false]
["09.163",{"$f":"ROW()","v":586},"FAM",{"$nulls":3},"HEX","9163a",{"$nulls":3},"9163i",{"$f":"COUNTIF(lstAriaMXReporter,A586)","v":1},"NFQ",{"$nulls":3},"NFQ","JA",-10,8,0,0,0.2,0,0,{"$nulls":21},-3,3,0,0,0.33,0,0,false,null,null,0,{"$nulls":12},false,{"$nulls":3},"dRN",3141,2076,2602,0,{"$nulls":6},false]
["09.164",{"$f":"ROW()","v":587},"FAM",{"$nulls":3},"HEX","9164a",{"$nulls":3},"9164i",{"$f":"COUNTIF(lstAriaMXReporter,A587)","v":1},"NFQ",{"$nulls":3},"NFQ","JA",-10,8,0,0,0.2,0,0,{"$nulls":21},-3,3,0,0,0.33,0,0,false,null,null,0,{"$nulls":12},false,{"$nulls":3},"dRN",3158,866,2602,0,{"$nulls":6},false]
["09.140",{"$f":"ROW()","v":588},"FAM",{"$nulls":3},"HEX","9140a",{"$nulls":3},"9140i",1,"NFQ",{"$nulls":3},"NFQ","JA",-10,8,0,0,0.2,0,0,{"$nulls":21},-3,3,0,0,0.2,0,0,false,null,null,0,{"$nulls":12},false,{"$nulls":3},"dRN",2883,2602,901,0,{"$nulls":6},false]
[]
["tabLC480Reporter",{"$nulls":16},{"$f":"COLUMN()","v":18},{"$f":"COLUMN()","v":19},{"$f":"COLUMN()","v":20},{"$f":"COLUMN()","v":21},{"$f":"COLUMN()","v":22},{"$f":"COLUMN()","v":23},{"$f":"COLUMN()","v":24},{"$f":"COLUMN()","v":25},{"$f":"COLUMN()","v":26},{"$f":"COLUMN()","v":27},{"$f":"COLUMN()","v":28},{"$f":"COLUMN()","v":29},{"$f":"COLUMN()","v":30},{"$f":"COLUMN()","v":31},{"$f":"COLUMN()","v":32},{"$f":"COLUMN()","v":33},{"$f":"COLUMN()","v":34},{"$f":"COLUMN()","v":35},{"$f":"COLUMN()","v":36},{"$f":"COLUMN()","v":37},{"$f":"COLUMN()","v":38},{"$f":"COLUMN()","v":39},{"$f":"COLUMN()","v":40},{"$f":"COLUMN()","v":41},{"$f":"COLUMN()","v":42},{"$f":"COLUMN()","v":43},{"$f":"COLUMN()","v":44},{"$f":"COLUMN()","v":45},{"$f":"COLUMN()","v":46},{"$f":"COLUMN()","v":47},{"$f":"COLUMN()","v":48},{"$f":"COLUMN()","v":49},{"$f":"COLUMN()","v":50},{"$f":"COLUMN()","v":51},{"$f":"COLUMN()","v":52},{"$f":"COLUMN()","v":53},{"$f":"COLUMN()","v":54},{"$f":"COLUMN()","v":55},{"$f":"COLUMN()","v":56},{"$f":"COLUMN()","v":57},{"$f":"COLUMN()","v":58},{"$f":"COLUMN()","v":59},{"$f":"COLUMN()","v":60},{"$f":"COLUMN()","v":61},{"$f":"COLUMN()","v":62},{"$f":"COLUMN()","v":63},{"$f":"COLUMN()","v":64},{"$f":"COLUMN()","v":65},{"$f":"COLUMN()","v":66},{"$f":"COLUMN()","v":67},{"$f":"COLUMN()","v":68},{"$f":"COLUMN()","v":69},{"$f":"COLUMN()","v":70},{"$f":"COLUMN()","v":71},{"$f":"COLUMN()","v":72},{"$f":"COLUMN()","v":73},{"$f":"COLUMN()","v":74},{"$f":"COLUMN()","v":75},{"$f":"COLUMN()","v":76},{"$f":"COLUMN()","v":77},{"$f":"COLUMN()","v":78},{"$f":"COLUMN()","v":79},{"$f":"COLUMN()","v":80},{"$f":"COLUMN()","v":81},{"$f":"COLUMN()","v":82},{"$f":"COLUMN()","v":83},{"$f":"COLUMN()","v":84},{"$f":"COLUMN()","v":85},{"$f":"COLUMN()","v":86},{"$f":"COLUMN()","v":87},{"$f":"COLUMN()","v":88},{"$f":"COLUMN()","v":89},{"$f":"COLUMN()","v":90},{"$f":"COLUMN()","v":91},{"$f":"COLUMN()","v":92},{"$f":"COLUMN()","v":93},{"$f":"COLUMN()","v":94},{"$f":"COLUMN()","v":95},{"$f":"COLUMN()","v":96},{"$f":"COLUMN()","v":97},{"$f":"COLUMN()","v":98},{"$f":"COLUMN()","v":99},{"$f":"COLUMN()","v":100},{"$f":"COLUMN()","v":101},{"$f":"COLUMN()","v":102},{"$f":"COLUMN()","v":103},{"$f":"COLUMN()","v":104}]
[null,null,"Reporter Dye",{"$nulls":4},"Name Detektor",{"$nulls":5},"Quencher",{"$nulls":5},"System1",{"$nulls":6},"System2",{"$nulls":6},"System3",{"$nulls":6},"System4",{"$nulls":6},"System5",{"$nulls":6},"Cutoff Sensitivitätsergebnis System1",{"$nulls":3},"Cutoff Sensitivitätsergebnis System2",{"$nulls":3},"Cutoff Sensitivitätsergebnis System3",{"$nulls":3},"Cutoff Sensitivitätsergebnis System4",{"$nulls":3},"Nur CutOff-Auswertung (siehe 08.34)",{"$nulls":3},"ROX","Identifier",null,null,"Delta Cq-",{"$nulls":6},"IPC"]
["Modul","Zeile",1,2,3,4,"IPC",1,2,3,4,"IPC","Anzahl Modul in Liste",1,2,3,4,"IPC","Validiert für 7500","CqCutOff1","CqCutOff2","CqCutOff3","CqCutOff4","RNLImit1","RNLImit2","RNLImit3","CqCutOff1","CqCutOff2","CqCutOff3","CqCutOff4","RNLImit1","RNLImit2","RNLImit3","CqCutOff1","CqCutOff2","CqCutOff3","CqCutOff4","RNLImit1","RNLImit2","RNLImit3","CqCutOff1","CqCutOff2","CqCutOff3","CqCutOff4","RNLImit1","RNLImit2","RNLImit3","CqCutOff1","CqCutOff2","CqCutOff3","CqCutOff4","RNLImit1","RNLImit2","RNLImit3","Vorhanden",null,null,"StdDev ","Vorhanden","K+ (Kopien/Rxn)","Cutoff (Kopien/Rxn)","Faktor","Vorhanden","K+ (Kopien/Rxn)","Cutoff (Kopien/Rxn)","Faktor","Vorhanden","K+ (Kopien/Rxn)","Cutoff (Kopien/Rxn)","Faktor","System1","System 2","System3","System 4","Normalisierung","MM","K+","BM","Asymmetrie",{"$nulls":6},"Nur CutOff"]
["08.020",{"$f":"ROW()","v":593},"FAM",{"$nulls":3},"HEX","20HOR",{"$nulls":3},"20IPH",{"$f":"COUNTIF(lstLC480Reporter,A593)","v":1},"NFQ","","","","NFQ","NEIN",0,6,"","",0.2,0,"",0,0,"","",0,0,"",0,0,"","",0,0,"",0,0,"","",0,0,"",0,3,"","",0.33,0,"",true,0,0,0.64,0,0,0,0,0,0,0,0,0,0,0,0,0,0,0,0,"dRN","1663","1664","0826",0]
["08.026",{"$f":"ROW()","v":594},"FAM",{"$nulls":3},"HEX",80261,{"$nulls":3},"8026i",1,"NFQ","","","","NFQ","JA",0,8,"","",0.2,0,"",0,0,"","",0,0,"",0,0,"","",0,0,"",0,0,"","",0,0,"",-5,3,"","",0.33,0,"",false,0,0,0,0,0,0,0,0,0,0,0,0,0,0,0,0,0,0,0,"dRN","1832","1833",2602,0]
["08.027",{"$f":"ROW()","v":595},"FAM","HEX",null,null,"Cy5",80271,80272,null,null,"27IPC",1,"NFQ","NFQ","","","NFQ","JA",0,7,"","",0.2,0,"",0,7,"","",0.2,0,"",0,0,"","",0,0,"",0,0,"","",0,0,"",-3,3,"","",0.33,0,"",false,0,0,0,0,0,0,0,0,0,0,0,0,0,0,0,0,0,0,0,"dRN","1820","1821",2602,-5]
["08.028",{"$f":"ROW()","v":596},"FAM",{"$nulls":3},"HEX","8028a",{"$nulls":3},"8028i",1,"NFQ","","","","NFQ","JA",0,8,"","",0.2,0,"",0,0,"","",0,0,"",0,0,"","",0,0,"",0,0,"","",0,0,"",-3,3,"","",0.33,0,"",false,0,0,0,0,0,0,0,0,0,0,0,0,0,0,0,0,0,0,0,"dRN","1886","1869",2602,0]
["08.029",{"$f":"ROW()","v":597},"FAM",{"$nulls":3},"HEX","8029a",{"$nulls":3},"8029i",1,"NFQ","","","","NFQ","JA",0,8,"","",0.2,0,"",0,0,"","",0,0,"",0,0,"","",0,0,"",0,0,"","",0,0,"",-3,3,"","",0.33,0,"",false,0,0,0,0,0,0,0,0,0,0,0,0,0,0,0,0,0,0,0,"dRN","1863","1864",2602,0]
["08.030",{"$f":"ROW()","v":598},"FAM",{"$nulls":3},"HEX","8030a",{"$nulls":3},"8030i",1,"NFQ","","","","NFQ","JA",-5,8,"","",0.2,0,"",0,0,"","",0,0,"",0,0,"","",0,0,"",0,0,"","",0,0,"",-3,3,"","",0.33,0,"",false,0,0,0,0,0,0,0,0,0,0,0,0,0,0,0,0,0,0,0,"dRN","1868","1869",2602,0]
["08.031",{"$f":"ROW()","v":599},"FAM",{"$nulls":3},"HEX","8031a",{"$nulls":3},"8031i",1,"NFQ","","","","NFQ","JA",0,8,"","",0.2,0,"",0,0,"","",0,0,"",0,0,"","",0,0,"",0,0,"","",0,0,"",-3,3,"","",0.33,0,"",false,0,0,0,0,0,0,0,0,0,0,0,0,0,0,0,0,0,0,0,"dRN","1944","1945","0826",0]
["08.032",{"$f":"ROW()","v":600},"FAM",{"$nulls":3},"HEX","8032a",{"$nulls":3},"8032i",1,"NFQ","","","","NFQ","JA",0,8,"","",0.2,0,"",0,0,"","",0,0,"",0,0,"","",0,0,"",0,0,"","",0,0,"",-3,3,"","",0.33,0,"",false,0,0,0,0,0,0,0,0,0,0,0,0,0,0,0,0,0,0,0,"dRN","1894","1895",2602,0]
["08.033",{"$f":"ROW()","v":601},"FAM",{"$nulls":3},"HEX","8033a",{"$nulls":3},"8033i",1,"NFQ","","","","NFQ","JA",0,8,"","",0.2,0,"",0,0,"","",0,0,"",0,0,"","",0,0,"",0,0,"","",0,0,"",-3,3,"","",0.33,0,"",false,0,0,0,0,0,0,0,0,0,0,0,0,0,0,0,0,0,0,0,"dRN","1947","1948","0826",0]
["08.034",{"$f":"ROW()","v":602},"FAM",{"$nulls":3},"HEX","8034a",{"$nulls":3},"8034i",1,"NFQ",{"$nulls":3},"NFQ","JA",-10,6,"","",0,0,"",0,0,"","",0,0,"",0,0,"","",0,0,"",0,0,"","",0,0,"",-3,3,"","",0.33,0,"",false,0,0,0,false,0,0,0,false,0,0,0,false,0,0,0,true,false,false,false,"dRN","1928","1929","0826",0]
["08.035",{"$f":"ROW()","v":603},"FAM",{"$nulls":3},"HEX","8035a",{"$nulls":3},"8035i",1,"NFQ",{"$nulls":3},"NFQ","JA",-5,8,"","",0.2,0,"",0,0,"","",0,0,"",0,0,"","",0,0,"",0,0,"","",0,0,"",-3,3,"","",0.33,0,"",false,0,0,0,false,0,0,0,false,0,0,0,false,0,0,0,false,false,false,false,"dRN","1990","1869",0,0]
["08.036",{"$f":"ROW()","v":604},"FAM",{"$nulls":3},"HEX","8036a",{"$nulls":3},"8036i",1,"NFQ",{"$nulls":3},"NFQ","NEIN",0,10,"","",0.2,0,"",0,0,"","",0,0,"",0,0,"","",0,0,"",0,0,"","",0,0,"",-3,3,"","",0.33,0,"",false,0,0,0,false,0,0,0,false,0,0,0,false,0,0,0,false,false,false,false,"dRN",2799,"2069",2799,0]
["08.037",{"$f":"ROW()","v":605},"FAM",{"$nulls":3},"HEX","8037a",{"$nulls":3},"8037i",1,"NFQ",{"$nulls":3},"NFQ","JA",0,8,"","",0.2,0,"",0,0,"","",0,0,"",0,0,"","",0,0,"",0,0,"","",0,0,"",-3,3,"","",0.33,0,"",false,0,0,0,false,0,0,0,false,0,0,0,false,0,0,0,false,false,false,false,"dRN","2485","1945",2602,0]
["08.038",{"$f":"ROW()","v":606},"FAM",{"$nulls":3},"HEX","8038a",{"$nulls":3},"8038i",1,"NFQ",{"$nulls":3},"NFQ","JA",0,8,"","",0.2,0,"",0,0,"","",0,0,"",0,0,"","",0,0,"",0,0,"","",0,0,"",-5,3,"","",0.33,0,"",false,0,0,0,false,0,0,0,false,0,0,0,false,0,0,0,false,false,false,false,"dRN","2524","2525",2602,0]
["08.039",{"$f":"ROW()","v":607},"FAM",{"$nulls":3},"HEX","8039a",{"$nulls":3},"8039i",1,"NFQ",{"$nulls":3},"NFQ","JA",0,8,"","",0.2,0,"",0,0,"","",0,0,"",0,0,"","",0,0,"",0,0,"","",0,0,"",-3,3,"","",0.33,0,"",false,0,0,0,false,0,0,0,false,0,0,0,false,0,0,0,false,false,false,false,"dRN","2514","2516",2602,0]
["08.040",{"$f":"ROW()","v":608},"FAM",{"$nulls":3},"HEX","8040a",{"$nulls":3},"8040i",1,"NFQ",{"$nulls":3},"NFQ","JA",0,8,"","",0.2,0,"",0,0,"","",0,0,"",0,0,"","",0,0,"",0,0,"","",0,0,"",-3,3,"","",0.33,0,"",false,0,0,0,false,0,0,0,false,0,0,0,false,0,0,0,false,false,false,false,"dRN","2547","2546",2602,0]
["08.041",{"$f":"ROW()","v":609},"FAM",{"$nulls":3},"HEX","8041a",{"$nulls":3},"8041i",1,"NFQ",{"$nulls":3},"NFQ","JA",-5,8,"","",0.2,0,"",0,0,"","",0,0,"",0,0,"","",0,0,"",0,0,"","",0,0,"",-3,3,"","",0.33,0,"",false,0,0,0,false,0,0,0,false,0,0,0,false,0,0,0,false,false,false,false,"dRN","2615","1864","2602",0]
["08.042",{"$f":"ROW()","v":610},"FAM","HEX",null,null,"Cy5","8042a","8042b",null,null,"8042i",1,"NFQ","NFQ",null,null,"NFQ","JA",-10,7,"","",0.2,0,"",-10,7,"","",0.2,0,"",0,0,"","",0,0,"",0,0,"","",0,0,"",-3,3,"","",0.33,0,"",false,0,0,0,false,0,0,0,false,0,0,0,false,0,0,0,false,false,false,false,"dRN","2642","2673","2602",-5]
["09.006",{"$f":"ROW()","v":611},"FAM",{"$nulls":3},"HEX","06Bt",{"$nulls":3},"06IPC",1,"NFQ","","","","NFQ","NEIN",0,6,"","",0.2,0,"",0,0,"","",0,0,"",0,0,"","",0,0,"",0,0,"","",0,0,"",0,4,"","",0.5,0,"",0,0,0,0,0,0,0,0,0,0,0,0,0,0,0,0,0,0,0,0,"dRN","0209","0877","0826",0]
["09.015",{"$f":"ROW()","v":612},"FAM",{"$nulls":3},"HEX","15NK",{"$nulls":3},"15IPC",1,"NFQ","","","","NFQ","NEIN",0,6,"","",0.2,0,"",0,0,"","",0,0,"",0,0,"","",0,0,"",0,0,"","",0,0,"",0,4,"","",0.5,0,"",0,0,0,0,0,0,0,0,0,0,0,0,0,0,0,0,0,0,0,0,"dRN","0648","0647","0826",0]
["09.016",{"$f":"ROW()","v":613},"FAM",{"$nulls":3},"HEX","16MIR",{"$nulls":3},"16IPC",1,"NFQ","","","","NFQ","NEIN",0,6,"","",0.2,0,"",0,0,"","",0,0,"",0,0,"","",0,0,"",0,0,"","",0,0,"",0,4,"","",0.5,0,"",0,0,0,0,0,0,0,0,0,0,0,0,0,0,0,0,0,0,0,0,"dRN","0650","0651","0826",0]
["09.017",{"$f":"ROW()","v":614},"FAM","HEX",null,null,"Cy5","1735S","17nos",null,null,"17IPC",1,"NFQ","NFQ","","","NFQ","NEIN",0,6,"","",0.2,0,"",0,6,"","",0.2,0,"",0,0,"","",0,0,"",0,0,"","",0,0,"",0,4,"","",0.5,0,"",0,0,0,0,0,0,0,0,0,0,0,0,0,0,0,0,0,0,0,0,"dRN","0537","0571","0826",-2]
["09.019",{"$f":"ROW()","v":615},"FAM",{"$nulls":3},"HEX","19MON",{"$nulls":3},"19IPC",1,"NFQ","","","","NFQ","NEIN",0,6,"","",0.2,0,"",0,0,"","",0,0,"",0,0,"","",0,0,"",0,0,"","",0,0,"",0,4,"","",0.5,0,"",0,0,0,0,0,0,0,0,0,0,0,0,0,0,0,0,0,0,0,0,"dRN","0653","0654","0826",0]
["09.020",{"$f":"ROW()","v":616},"FAM",{"$nulls":3},"HEX","20HRW",{"$nulls":3},"20IPC",1,"NFQ","","","","NFQ","NEIN",0,6,"","",0.2,0,"",0,0,"","",0,0,"",0,0,"","",0,0,"",0,0,"","",0,0,"",0,4,"","",0.5,0,"",0,0,0,0,0,0,0,0,0,0,0,0,0,0,0,0,0,0,0,0,"dRN","0655","0656","0826",0]
["09.021",{"$f":"ROW()","v":617},"FAM",{"$nulls":3},"HEX","21SOY",{"$nulls":3},"21IPC",1,"NFQ","","","","NFQ","NEIN",0,6,"","",0.2,0,"",0,0,"","",0,0,"",0,0,"","",0,0,"",0,0,"","",0,0,"",0,4,"","",0.5,0,"",0,0,0,0,0,0,0,0,0,0,0,0,0,0,0,0,0,0,0,0,"dRN","0657","0658",0,0]
["09.027",{"$f":"ROW()","v":618},"FAM",{"$nulls":3},"HEX","27MON",{"$nulls":3},"27IPC",1,"NFQ","","","","NFQ","NEIN",0,6,"","",0.2,0,"",0,0,"","",0,0,"",0,0,"","",0,0,"",0,0,"","",0,0,"",0,4,"","",0.33,0,"",0,0,0,0,0,0,0,0,0,0,0,0,0,0,0,0,0,0,0,0,"dRN","0825","0824","0826",0]
["09.028",{"$f":"ROW()","v":619},"FAM",{"$nulls":3},"HEX","28SAM",{"$nulls":3},"28IPC",1,"NFQ","","","","NFQ","NEIN",0,6,"","",0.2,0,"",0,0,"","",0,0,"",0,0,"","",0,0,"",0,0,"","",0,0,"",0,4,"","",0.33,0,"",0,0,0,0,0,0,0,0,0,0,0,0,0,0,0,0,0,0,0,0,"dRN","0827","0828","0826",0]
["09.029",{"$f":"ROW()","v":620},"FAM",{"$nulls":3},"HEX","29LY",{"$nulls":3},"29IPC",1,"NFQ","","","","NFQ","NEIN",0,7,"","",0.1,0,"",0,0,"","",0,0,"",0,0,"","",0,0,"",0,0,"","",0,0,"",0,4,"","",0.33,0,"",0,0,0,0,0,0,0,0,0,0,0,0,0,0,0,0,0,0,0,0,"dRN","0855","0854","0826",0]
["09.030",{"$f":"ROW()","v":621},"FAM",{"$nulls":3},"HEX","30GA",{"$nulls":3},"30IPC",1,"NFQ","","","","NFQ","NEIN",0,6,"","",0.2,0,"",0,0,"","",0,0,"",0,0,"","",0,0,"",0,0,"","",0,0,"",0,4,"","",0.33,0,"",0,0,0,0,0,0,0,0,0,0,0,0,0,0,0,0,0,0,0,0,"dRN","0883","0884","0826",0]
["09.031",{"$f":"ROW()","v":622},"FAM",{"$nulls":3},"HEX","31HX1",{"$nulls":3},"31IPC",1,"NFQ","","","","NFQ","NEIN",0,6,"","",0.2,0,"",0,0,"","",0,0,"",0,0,"","",0,0,"",0,0,"","",0,0,"",0,4,"","",0.33,0,"",0,0,0,0,0,0,0,0,0,0,0,0,0,0,0,0,0,0,0,0,"dRN","0885","0886","0826",0]
["09.033",{"$f":"ROW()","v":623},"FAM",{"$nulls":3},"HEX","33RR2",{"$nulls":3},"33IPC",1,"NFQ","","","","NFQ","NEIN",0,6,"","",0.2,0.5,"",0,0,"","",0,0,"",0,0,"","",0,0,"",0,0,"","",0,0,"",0,4,"","",0.33,0,"",0,0,0,0,0,0,0,0,0,0,0,0,0,0,0,0,0,0,0,0,"dRN","0864","0866","0826",0]
["09.034",{"$f":"ROW()","v":624},"FAM",{"$nulls":3},"HEX","34RRS",{"$nulls":3},"34IPC",1,"NFQ","","","","NFQ","NEIN",0,6,"","",0.2,0,"",0,0,"","",0,0,"",0,0,"","",0,0,"",0,0,"","",0,0,"",0,4,"","",0.33,0,"",0,0,0,0,0,0,0,0,0,0,0,0,0,0,0,0,0,0,0,0,"dRN","0978","0901","0826",0]
["09.035",{"$f":"ROW()","v":625},"FAM",{"$nulls":3},"HEX","35FMV",{"$nulls":3},"35IPC",{"$f":"COUNTIF(lstLC480Reporter,A625)","v":1},"NFQ","","","","NFQ","NEIN",0,6,"","",0.2,0,"",0,0,"","",0,0,"",0,0,"","",0,0,"",0,0,"","",0,0,"",0,4,"","",0.33,0,"",0,0,0,0,0,0,0,0,0,0,0,0,0,0,0,0,0,0,0,0,"dRN","0902","0904","0826",0]
["09.036",{"$f":"ROW()","v":626},"FAM",{"$nulls":3},"HEX","36NOS",{"$nulls":3},"36IPC",1,"NFQ","","","","NFQ","NEIN",0,7,"","",0.2,0,"",0,0,"","",0,0,"",0,0,"","",0,0,"",0,0,"","",0,0,"",0,4,"","",0.25,0,"",0,0,0,0,0,0,0,0,0,0,0,0,0,0,0,0,0,0,0,0,"dRN","0898","0758","0826",0]
["09.037",{"$f":"ROW()","v":627},"FAM",{"$nulls":3},"HEX","3735S",{"$nulls":3},"37IPC",1,"NFQ","","","","NFQ","NEIN",0,7,"","",0.2,0,"",0,0,"","",0,0,"",0,0,"","",0,0,"",0,0,"","",0,0,"",0,4,"","",0.25,0,"",0,0,0,0,0,0,0,0,0,0,0,0,0,0,0,0,0,0,0,0,"dRN","0899","0901","0826",0]
["09.038",{"$f":"ROW()","v":628},"FAM",{"$nulls":3},"HEX",38890,{"$nulls":3},"38IPC",1,"NFQ","","","","NFQ","NEIN",-5,6,"","",0.2,0,"",0,0,"","",0,0,"",0,0,"","",0,0,"",0,0,"","",0,0,"",-3,4,"","",0.33,0,"",0,0,0,0,0,0,0,0,0,0,0,0,0,0,0,0,0,0,0,0,"dRN","0971","0972","0826",0]
["09.039",{"$f":"ROW()","v":629},"FAM",{"$nulls":3},"HEX","39bar",{"$nulls":3},"39IPC",1,"NFQ","","","","NFQ","NEIN",0,6,"","",0.2,0,"",0,0,"","",0,0,"",0,0,"","",0,0,"",0,0,"","",0,0,"",0,3,"","",0.33,0,"",0,0,0,0,0,0,0,0,0,0,0,0,0,0,0,0,0,0,0,0,"dRN","1010","1012","0826",0]
["09.040",{"$f":"ROW()","v":630},"FAM",{"$nulls":3},"HEX",40880,{"$nulls":3},"40IPC",1,"NFQ","","","","NFQ","NEIN",0,6,"","",0.2,0,"",0,0,"","",0,0,"",0,0,"","",0,0,"",0,0,"","",0,0,"",0,4,"","",0.33,0,"",0,0,0,0,0,0,0,0,0,0,0,0,0,0,0,0,0,0,0,0,"dRN","1011","1013","0826",0]
["09.041",{"$f":"ROW()","v":631},"FAM",{"$nulls":3},"HEX",41327,{"$nulls":3},"41IPC",1,"NFQ","","","","NFQ","NEIN",0,6,"","",0.2,0,"",0,0,"","",0,0,"",0,0,"","",0,0,"",0,0,"","",0,0,"",0,4,"","",0.33,0,"",0,0,0,0,0,0,0,0,0,0,0,0,0,0,0,0,0,0,0,0,"dRN","1023","1025","0826",0]
["09.042",{"$f":"ROW()","v":632},"FAM",{"$nulls":3},"HEX","42SPE",{"$nulls":3},"42IPC",1,"NFQ","","","","NFQ","NEIN",{"$error":"#N/A"},{"$error":"#N/A"},"","",{"$error":"#N/A"},{"$error":"#N/A"},"",{"$error":"#N/A"},{"$error":"#N/A"},"","",{"$error":"#N/A"},{"$error":"#N/A"},"",{"$error":"#N/A"},{"$error":"#N/A"},"","",{"$error":"#N/A"},{"$error":"#N/A"},"",{"$error":"#N/A"},{"$error":"#N/A"},"","",{"$error":"#N/A"},{"$error":"#N/A"},"",{"$error":"#N/A"},{"$error":"#N/A"},"","",{"$error":"#N/A"},{"$error":"#N/A"},"",{"$error":"#N/A"},{"$error":"#N/A"},{"$error":"#N/A"},{"$error":"#N/A"},{"$error":"#N/A"},{"$error":"#N/A"},{"$error":"#N/A"},{"$error":"#N/A"},{"$error":"#N/A"},{"$error":"#N/A"},{"$error":"#N/A"},{"$error":"#N/A"},{"$error":"#N/A"},{"$error":"#N/A"},{"$error":"#N/A"},{"$error":"#N/A"},{"$error":"#N/A"},{"$error":"#N/A"},{"$error":"#N/A"},{"$error":"#N/A"},{"$error":"#N/A"},{"$error":"#N/A"},{"$error":"#N/A"},{"$error":"#N/A"},{"$error":"#N/A"}]
["09.043",{"$f":"ROW()","v":633},"FAM",{"$nulls":3},"HEX","43-H7",{"$nulls":3},"43IPC",1,"NFQ","","","","NFQ","NEIN",0,6,"","",0.2,0,"",0,0,"","",0,0,"",0,0,"","",0,0,"",0,0,"","",0,0,"",0,4,"","",0.33,0,"",0,0,0,0,0,0,0,0,0,0,0,0,0,0,0,0,0,0,0,0,"dRN","1071","1069","0826",0]
["09.044",{"$f":"ROW()","v":634},"FAM",{"$nulls":3},"HEX","44DP3",{"$nulls":3},"44IPC",1,"NFQ","","","","NFQ","NEIN",0,6,"","",0.2,0,"",0,0,"","",0,0,"",0,0,"","",0,0,"",0,0,"","",0,0,"",0,4,"","",0.33,0,"",0,0,0,0,0,0,0,0,false,0,0,0,true,0,0,0,0,0,0,0,"dRN","1084","1086","0826",0]
["09.045",{"$f":"ROW()","v":635},"FAM",{"$nulls":3},"HEX","45noD",{"$nulls":3},"45IPC",1,"NFQ","","","","NFQ","NEIN",0,6,"","",0.2,0,"",0,0,"","",0,0,"",0,0,"","",0,0,"",0,0,"","",0,0,"",0,4,"","",0.33,0,"",0,0,0,0,0,0,0,0,false,0,0,0,true,0,0,0,0,0,0,0,"dRN","1063","1041","0826",0]
["09.046",{"$f":"ROW()","v":636},"FAM",{"$nulls":3},"HEX","46nia",{"$nulls":3},"46IPC",1,"NFQ","","","","NFQ","NEIN",0,7,"","",0.2,0,"",0,0,"","",0,0,"",0,0,"","",0,0,"",0,0,"","",0,0,"",0,4,"","",0.33,0,"",0,0,0,0,0,0,0,0,false,0,0,0,true,0,0,0,0,0,0,0,"dRN","1091","1093","0826",0]
["09.047",{"$f":"ROW()","v":637},"FAM",{"$nulls":3},"HEX","9047a",{"$nulls":3},"9047i",1,"NFQ","","","","NFQ","NEIN",-3,7,"","",0.2,0,"",0,0,"","",0,0,"",0,0,"","",0,0,"",0,0,"","",0,0,"",-3,4,"","",0.33,0,"",false,0,0,0,0,0,0,0,false,0,0,0,true,0,0,0,0,0,0,0,"dRN","1925","1926","0826",0]
["09.048",{"$f":"ROW()","v":638},"FAM",{"$nulls":3},"HEX","48T45",{"$nulls":3},"48IPC",1,"NFQ","","","","NFQ","NEIN",0,7,"","",0.15,0,"",0,0,"","",0,0,"",0,0,"","",0,0,"",0,0,"","",0,0,"",0,3,"","",0.33,0,"",0,0,0,0,0,0,0,0,false,0,0,0,true,0,0,0,0,0,0,0,"dRN","1131","1133","0826",0]
["09.050",{"$f":"ROW()","v":639},"FAM","HEX",null,null,"Cy5","5035S","50NOS",null,null,"50IPC",1,"NFQ","NFQ","","","NFQ","JA",-10,7,"","",0.2,0,"",-10,7,"","",0.2,0,"",0,0,"","",0,0,"",0,0,"","",0,0,"",-2,4,"","",0.33,0,"",0,0,0,0,0,0,0,0,0,0,0,0,0,0,0,0,0,0,0,0,"dRN","1121","1122","0826",0]
["09.052",{"$f":"ROW()","v":640},"FAM",{"$nulls":3},"HEX","52vip",{"$nulls":3},"52IPC",1,"NFQ","","","","NFQ","NEIN",0,7,"","",0.2,0,"",0,0,"","",0,0,"",0,0,"","",0,0,"",0,0,"","",0,0,"",0,5,"","",0.33,0,"",0,0,0,0,false,0,0,0,false,0,0,0,true,0,0,0,0,0,0,0,"dRN","1157","1158","0826",0]
["09.053",{"$f":"ROW()","v":641},"FAM",{"$nulls":3},"HEX",53981,{"$nulls":3},"53IPC",1,"NFQ","","","","NFQ","NEIN",0,6,"","",0.2,0,"",0,0,"","",0,0,"",0,0,"","",0,0,"",0,0,"","",0,0,"",0,4,"","",0.33,0,"",0,0,0,0,false,0,0,0,false,0,0,0,true,0,0,0,0,0,0,0,"dRN","1161","1163","0826",0]
["09.055",{"$f":"ROW()","v":642},"FAM",{"$nulls":3},"HEX","55KMD",{"$nulls":3},"55IPC",1,"NFQ","","","","NFQ","NEIN",0,6,"","",0.2,0,"",0,0,"","",0,0,"",0,0,"","",0,0,"",0,0,"","",0,0,"",0,3,"","",0.33,0,"",0,0,0,0,false,0,0,0,false,0,0,0,true,0,0,0,0,0,0,0,"dRN","1352","1354","0826",0]
["09.061",{"$f":"ROW()","v":643},"FAM","HEX","ROX",null,"Cy5","6135S","61NOS","61FMV",null,"61IPC",1,"NFQ","NFQ","NFQ",null,"NFQ","JA",-10,8,"","",0.2,0,"",-10,8,"","",0.2,0,"",-10,9,"","",0.2,0,"",0,0,"","",0,0,"",-2,3,"","",0.33,0,"",0,0,0,0,0,0,0,0,0,0,0,0,0,0,0,0,0,0,0,0,"dR","1221","1223","0892",-4]
["09.063",{"$f":"ROW()","v":644},"FAM",{"$nulls":3},"HEX",63127,{"$nulls":3},"63IPC",1,"NFQ","","","","NFQ","NEIN",0,8,"","",0.2,0,"",0,0,"","",0,0,"",0,0,"","",0,0,"",0,0,"","",0,0,"",0,3,"","",0.33,0,"",0,0,0,0,false,0,0,0,false,0,0,0,true,0,0,0,0,0,0,0,"dRN","1216","1219","0826",0]
["09.068",{"$f":"ROW()","v":645},"FAM",{"$nulls":3},"HEX","68T25",{"$nulls":3},"68IPC",1,"NFQ",{"$nulls":3},"NFQ","Nein",0,6,"","",0.2,0,"",0,0,"","",0,0,"",0,0,"","",0,0,"",0,0,"","",0,0,"",0,4,"","",0.25,0,"",false,0,0,0,false,0,0,0,false,0,0,0,false,0,0,0,false,false,false,false,"dRN","1247","1248","0826",0]
["09.083",{"$f":"ROW()","v":646},"FAM","HEX",null,null,"Cy5","83BAR","83PAT",null,null,"83IPC",1,"NFQ","NFQ","","","NFQ","JA",0,6,"","",0.2,0,"",0,7,"","",0.15,0,"",0,0,"","",0,0,"",0,0,"","",0,0,"",-3,3,"","",0.33,0,"",0,0,0,0,0,0,0,0,0,0,0,0,0,0,0,0,0,0,0,0,"dRN","1572","1573","0826",0]
["09.085",{"$f":"ROW()","v":647},"FAM",{"$nulls":3},"HEX","85lec",{"$nulls":3},"85IPC",1,"NFQ","","","","NFQ","NEIN",0,8,"","",0.2,0,"",0,0,"","",0,0,"",0,0,"","",0,0,"",0,0,"","",0,0,"",0,3,"","",0.33,0,"",0,0,0,0,false,0,0,0,false,0,0,0,true,0,0,0,0,0,0,0,"dRN","1610","0901",0,0]
["09.088",{"$f":"ROW()","v":648},"FAM","HEX",null,null,"Cy5",90881,90882,null,null,"9088i",1,"NFQ","NFQ","","","NFQ","NEIN",0,6,"","",0.2,0,"",0,7,"","",0.2,0,"",0,0,"","",0,0,"",0,0,"","",0,0,"",0,3,"","",0.33,0,"",false,0,0,0,false,0,0,0,false,0,0,0,true,0,0,0,0,0,0,0,"dRN","1756","1757","0826",-10]
["09.091",{"$f":"ROW()","v":649},"FAM",{"$nulls":3},"HEX",91874,{"$nulls":3},"91IPC",1,"NFQ","","","","NFQ","NEIN",0,5,"","",0.2,0,"",0,0,"","",0,0,"",0,0,"","",0,0,"",0,0,"","",0,0,"",0,4,"","",0.33,0,"",false,0,0,0,false,0,0,0,false,0,0,0,true,0,0,0,0,0,0,0,"dRN","1825","1827","0826",0]
["09.092",{"$f":"ROW()","v":650},"HEX","FAM",null,null,"Cy5","9092a","9092b",null,null,"9092i",1,"NFQ","NFQ","","","NFQ","JA",-11,5,"","",0.2,0,"",-11,5,"","",0.2,0,"",0,0,"","",0,0,"",0,0,"","",0,0,"",-3,3,"","",0.7,0,"",false,0,0,0,0,0,0,0,0,0,0,0,0,0,0,0,0,0,0,0,"dRN","1876","1877","0826",-11]
["09.095",{"$f":"ROW()","v":651},"FAM",{"$nulls":3},"HEX","9095a",{"$nulls":3},"9095i",1,"TAMRA","","","","NFQ","NEIN",0,5,"","",0.2,0,"",0,0,"","",0,0,"",0,0,"","",0,0,"",0,0,"","",0,0,"",0,3,"","",0.33,0,"",false,0,0,0,0,0,0,0,0,0,0,0,0,0,0,0,0,0,0,0,"dRN","1859","1860","0826",0]
["09.099",{"$f":"ROW()","v":652},"FAM",{"$nulls":3},"HEX","9099a",{"$nulls":3},"9099i",1,"NFQ",{"$nulls":3},"NFQ","NEIN",-3,6,"","",0.2,0,"",0,0,"","",0,0,"",0,0,"","",0,0,"",0,0,"","",0,0,"",-3,4,"","",0.33,0,"",false,0,0,0,false,0,0,0,false,0,0,0,false,0,0,0,false,false,false,false,"dRN","1964","1354","0826",0]
["09.102",{"$f":"ROW()","v":653},"FAM",{"$nulls":3},"VIC","9102a",{"$nulls":3},"9102i",1,"NFQ",{"$nulls":3},"NFQ","Nein",0,6,"","",0.2,0,"",0,0,"","",0,0,"",0,0,"","",0,0,"",0,0,"","",0,0,"",-3,3,"","",0.33,0,"",false,0,0,0,false,0,0,0,false,0,0,0,false,0,0,0,false,false,false,false,"dRN","2607","2608","2602",0]
["09.103",{"$f":"ROW()","v":654},"FAM",{"$nulls":3},"HEX","9103a",{"$nulls":3},"9103i",1,"NFQ",{"$nulls":3},"NFQ","JA",0,6,"","",0.2,0,"",0,0,"","",0,0,"",0,0,"","",0,0,"",0,0,"","",0,0,"",-3,4,"","",0.33,0,"",false,0,0,0,false,0,0,0,false,0,0,0,false,0,0,0,false,false,false,false,"dRN","1938","1939","0826",0]
["09.106",{"$f":"ROW()","v":655},"FAM",{"$nulls":3},"HEX","9106a",{"$nulls":3},"9106i",1,"NFQ",{"$nulls":3},"NFQ","NEIN",0,6,"","",0.2,0,"",0,0,"","",0,0,"",0,0,"","",0,0,"",0,0,"","",0,0,"",-3,4,"","",0.33,0,"",false,0,0,0,false,0,0,0,false,0,0,0,false,0,0,0,false,false,false,false,"dRN","2019","2020","0826",0]
["09.110",{"$f":"ROW()","v":656},"FAM",{"$nulls":3},"HEX","9110a",{"$nulls":3},"9110i",1,"NFQ",{"$nulls":3},"NFQ","JA",-5,8,"","",0.2,0,"",0,0,"","",0,0,"",0,0,"","",0,0,"",0,0,"","",0,0,"",-3,3,"","",0.33,0,"",false,0,0,0,false,0,0,0,false,0,0,0,false,0,0,0,false,false,false,false,"dRN","2032","2033","0826",0]
["09.111",{"$f":"ROW()","v":657},"FAM",{"$nulls":3},"HEX","9111a",{"$nulls":3},"9111i",{"$f":"COUNTIF(lstLC480Reporter,A657)","v":1},"NFQ",{"$nulls":3},"NFQ","JA",0,6,"","",0.15,0,"",0,0,"","",0,0,"",0,0,"","",0,0,"",0,0,"","",0,0,"",-3,4,"","",0.33,0,"",false,0,0,0,false,0,0,0,false,0,0,0,false,0,0,0,false,false,false,false,"dRN","1998","2000","0826",0]
["09.115",{"$f":"ROW()","v":658},"FAM",{"$nulls":3},"HEX","9115a",{"$nulls":3},"9115i",1,"NFQ",{"$nulls":3},"NFQ","NEIN",0,6,"","",0.2,0,"",0,0,"","",0,0,"",0,0,"","",0,0,"",0,0,"","",0,0,"",-3,4,"","",0.33,0,"",false,0,0,0,false,0,0,0,false,0,0,0,false,0,0,0,false,false,false,false,"dRN","2035",2602,"0658",0]
["09.116",{"$f":"ROW()","v":659},"FAM",{"$nulls":3},"HEX","9116a",{"$nulls":3},"9116i",1,"NFQ",{"$nulls":3},"NFQ","Nein",0,9,"","",0.15,0,"",0,0,"","",0,0,"",0,0,"","",0,0,"",0,0,"","",0,0,"",-3,3,"","",0.33,0,"",false,0,0,0,false,0,0,0,false,0,0,0,false,0,0,0,false,false,false,false,"dRN","2532","2533",2602,0]
["09.117",{"$f":"ROW()","v":660},"FAM",{"$nulls":3},"HEX","9117a",{"$nulls":3},"9117i",1,"NFQ",{"$nulls":3},"NFQ","Nein",0,9,"","",0.15,0,"",0,0,"","",0,0,"",0,0,"","",0,0,"",0,0,"","",0,0,"",-3,3,"","",0.33,0,"",false,0,0,0,false,0,0,0,false,0,0,0,false,0,0,0,false,false,false,false,"dRN","2531","0654",2602,0]
["09.118",{"$f":"ROW()","v":661},"FAM","Cy5",null,null,"HEX","9118a","9118b",null,null,"9118i",1,"NFQ","NFQ",null,null,"NFQ","JA",-11,5,"","",0.2,0,"",-11,5,"","",0.2,0,"",0,0,"","",0,0,"",0,0,"","",0,0,"",-3,3,"","",0.33,0,"",false,0,0,0,false,0,0,0,false,0,0,0,false,0,0,0,false,false,false,false,"dRN","2075","2076",2602,11]
["09.119",{"$f":"ROW()","v":662},"FAM",{"$nulls":3},"HEX","9119a",{"$nulls":3},"9119i",1,"NFQ",{"$nulls":3},"NFQ","JA",0,6,"","",0.15,0,"",0,0,"","",0,0,"",0,0,"","",0,0,"",0,0,"","",0,0,"",-3,3,"","",0.33,0,"",false,0,0,0,false,0,0,0,false,0,0,0,false,0,0,0,false,false,false,false,"dRN","2484","2065",2602,0]
["09.120",{"$f":"ROW()","v":663},"FAM",{"$nulls":3},"HEX","9120a",{"$nulls":3},"9120i",1,"NFQ",{"$nulls":3},"NFQ","JA",-5,6,"","",0.2,0,"",0,0,"","",0,0,"",0,0,"","",0,0,"",0,0,"","",0,0,"",-3,3,"","",0.33,0,"",false,0,0,0,false,0,0,0,false,0,0,0,false,0,0,0,false,false,false,false,"dRN","2076","2077",2602,0]
["09.121",{"$f":"ROW()","v":664},"FAM","HEX","ROX",null,"Cy5","9121a","9121b","9121c",null,"9121i",1,"NFQ","NFQ","NFQ",null,"NFQ","Nein",-10,6,"","",0.2,0,"",-10,6,"","",0.2,0,"",-10,6,"","",0.2,0,"",0,0,"","",0,0,"",-2,3,"","",0.33,0,"",false,0,0,0,false,0,0,0,false,0,0,0,false,0,0,0,false,false,false,false,"dR","2692","2694","2602",10]
["09.124",{"$f":"ROW()","v":665},"FAM",{"$nulls":3},"HEX","9124a",{"$nulls":3},"9124i",1,"NFQ",{"$nulls":3},"NFQ","JA",-10,8,0,0,0.2,0,0,0,{"$nulls":6},0,{"$nulls":6},0,{"$nulls":6},-3,3,0,0,0.33,0,0,false,null,null,0,{"$nulls":12},false,{"$nulls":3},"dRN",2718,2602,2602,0]
["09.125",{"$f":"ROW()","v":666},"FAM",{"$nulls":3},"HEX","9125a",{"$nulls":3},"9125i",1,"NFQ",{"$nulls":3},"NFQ","JA",-10,8,0,0,0.2,0,0,0,{"$nulls":6},0,{"$nulls":6},0,{"$nulls":6},-3,3,0,0,0.33,0,0,false,null,null,0,{"$nulls":12},false,{"$nulls":3},"dRN",2746,2747,2602,0]
["09.126",{"$f":"ROW()","v":667},"FAM","HEX","ROX",null,"CY5","9126a","9126b","9126c",null,"9126i",1,"NFQ","NFQ","NFQ",null,"NFQ","JA",-10,8,0,0,0.2,0,0,-10,8,0,0,0.2,0,0,-10,9,0,0,0.2,0,0,0,{"$nulls":6},-3,3,0,0,0.33,0,0,false,null,null,0,false,null,null,0,false,null,null,0,{"$nulls":4},false,false,false,null,"dR",2737,2742,2602,10]
["09.127",{"$f":"ROW()","v":668},"FAM",{"$nulls":3},"HEX","9127a",{"$nulls":3},"9127i",1,"NFQ",{"$nulls":3},"NFQ","JA",-10,8,0,0,0.2,0,0,0,{"$nulls":6},0,{"$nulls":6},0,{"$nulls":6},-3,3,0,0,0.33,0,0,false,null,null,0,{"$nulls":12},false,{"$nulls":3},"dRN",2752,2753,2602,0]
["09.131",{"$f":"ROW()","v":669},{"$nulls":10},1,{"$nulls":5},"Nein",0,{"$nulls":6},0,{"$nulls":6},0,{"$nulls":6},0,{"$nulls":6},0,{"$nulls":26},"dRN",2807,2808,2602,0]
["09.133",{"$f":"ROW()","v":670},{"$nulls":10},1,{"$nulls":5},"Nein",0,{"$nulls":6},0,{"$nulls":6},0,{"$nulls":6},0,{"$nulls":6},0,{"$nulls":26},"dRN",2765,2766,2602,0]
["09.135",{"$f":"ROW()","v":671},{"$nulls":10},1,{"$nulls":5},"Nein",0,{"$nulls":6},0,{"$nulls":6},0,{"$nulls":6},0,{"$nulls":6},0,{"$nulls":26},"dR",2778,2780,2602,0]
["09.136",{"$f":"ROW()","v":672},"FAM","HEX","ROX",null,"CY5","9136a","9136b","9136c",null,"9136i",1,"NFQ","NFQ","NFQ",null,"NFQ","JA",-10,8,0,0,0.2,0,0,-10,8,0,0,0.2,0,0,-10,9,0,0,0.2,0,0,0,{"$nulls":6},-3,3,0,0,0,0,0,false,null,null,0,false,null,null,0,false,null,null,0,{"$nulls":4},false,false,false,null,"dR",2842,2844,2602,10,{"$nulls":6},true]
["09.138",{"$f":"ROW()","v":673},{"$nulls":10},1,{"$nulls":5},"Nein",0,{"$nulls":6},0,{"$nulls":6},0,{"$nulls":6},0,{"$nulls":6},0,{"$nulls":26},"dR",2856,2753,2602,0]
["09.139",{"$f":"ROW()","v":674},{"$nulls":10},1,{"$nulls":5},"Nein",0,{"$nulls":6},0,{"$nulls":6},0,{"$nulls":6},0,{"$nulls":6},0,{"$nulls":26},"dR",2860,2861,2602,0]
["11.001",{"$f":"ROW()","v":675},{"$nulls":10},1,{"$nulls":5},"Nein",0,{"$nulls":6},0,{"$nulls":6},0,{"$nulls":6},0,{"$nulls":6},0,{"$nulls":26},"dRN",2802,2602,2803,0]
["09.144",{"$f":"ROW()","v":676},{"$nulls":10},{"$f":"COUNTIF(lstLC480Reporter,A676)","v":1},{"$nulls":5},"Nein",{"$nulls":55},"dRN",2946,2948,2602,0]
["09.143",{"$f":"ROW()","v":677},"FAM",{"$nulls":3},"HEX","9143a",{"$nulls":3},"9143i",1,"NFQ",{"$nulls":3},"NFQ","JA",-10,7,0,0,0.2,0,0,{"$nulls":21},-3,3,0,0,0.33,0,0,false,null,null,0,{"$nulls":12},false,{"$nulls":3},"dRN",2953,2954,2602,0,{"$nulls":6},false]
["09.141",{"$f":"ROW()","v":678},{"$nulls":10},1,{"$nulls":5},"Nein",{"$nulls":55},"dRN",2985,2986,2602,0]
["09.142",{"$f":"ROW()","v":679},{"$nulls":10},1,{"$nulls":5},"Nein",{"$nulls":55},"dRN",2971,901,2602,0]
["09.146",{"$f":"ROW()","v":680},{"$nulls":10},1,{"$nulls":5},"Nein",{"$nulls":55},"dRN",2965,2966,2602,0]
["09.147",{"$f":"ROW()","v":681},{"$nulls":10},{"$f":"COUNTIF(lstLC480Reporter,A681)","v":1},{"$nulls":5},"Nein",{"$nulls":55},"dRN",3036,3037,2602,0]
["09.152",{"$f":"ROW()","v":682},{"$nulls":10},1,{"$nulls":5},"Nein",{"$nulls":55},"dRN",3049,1219,2602,0]
["09.156",{"$f":"ROW()","v":683},{"$nulls":10},1,{"$nulls":5},"Nein",{"$nulls":55},"dRN",3053,1086,2602,0]
["09.155",{"$f":"ROW()","v":684},{"$nulls":10},1,{"$nulls":5},"Nein",{"$nulls":55},"dRN",3078,3079,2602,0]
["09.145",{"$f":"ROW()","v":685},{"$nulls":10},1,{"$nulls":5},"Nein",{"$nulls":55},"dR",2974,2975,3043,0]
["09.148",{"$f":"ROW()","v":686},{"$nulls":10},1,{"$nulls":5},"Nein",{"$nulls":55},"dR",3117,3118,3043,0]
["09.158",{"$f":"ROW()","v":687},{"$nulls":10},{"$f":"COUNTIF(lstLC480Reporter,A687)","v":1},{"$nulls":5},"Nein",{"$nulls":55},"dRN",3088,3089,2602,0]
["08.043",{"$f":"ROW()","v":688},"FAM",{"$nulls":3},"HEX","8043a",{"$nulls":3},"8043i",1,"NFQ",{"$nulls":3},"NFQ","JA",-10,4.5,0,0,0,0,0,{"$nulls":21},-3,3,0,0,0.33,0,0,false,null,null,0,{"$nulls":12},true,{"$nulls":3},"dRN",2870,1869,2602,0,{"$nulls":6},false]
["09.159",{"$f":"ROW()","v":689},"FAM",{"$nulls":3},"HEX","9159a",{"$nulls":3},"9159i",1,"NFQ",{"$nulls":3},"NFQ","JA",-10,8,0,0,0.2,0,0,{"$nulls":21},-3,3,0,0,0.33,0,0,false,null,null,0,{"$nulls":12},false,{"$nulls":3},"dRN",3135,2076,2602,0,{"$nulls":6},false]
["09.154",{"$f":"ROW()","v":690},{"$nulls":10},1,{"$nulls":5},"Nein",{"$nulls":55},"dRN",3178,854,2602,0]
["09.161",{"$f":"ROW()","v":691},{"$nulls":10},1,{"$nulls":5},"Nein",{"$nulls":55},"dRN",3153,1012,2602,0]
["09.162",{"$f":"ROW()","v":692},{"$nulls":10},1,{"$nulls":5},"Nein",{"$nulls":55},"dRN",3147,3089,2602,0]
["09.163",{"$f":"ROW()","v":693},"FAM",{"$nulls":3},"HEX","9163a",{"$nulls":3},"9163i",{"$f":"COUNTIF(lstLC480Reporter,A693)","v":1},"NFQ",{"$nulls":3},"NFQ","JA",-10,8,0,0,0.2,0,0,{"$nulls":21},-3,3,0,0,0.33,0,0,false,null,null,0,{"$nulls":12},false,{"$nulls":3},"dRN",3141,2076,2602,0,{"$nulls":6},false]
["09.164",{"$f":"ROW()","v":694},{"$nulls":10},{"$f":"COUNTIF(lstLC480Reporter,A694)","v":1},{"$nulls":5},"Nein",{"$nulls":55},"dRN",3158,866,2602,0]
["09.140",{"$f":"ROW()","v":695},{"$nulls":10},1,{"$nulls":5},"Nein",{"$nulls":55},"dRN",2883,2602,901,0]
[]
["tabRotorGeneReporter",{"$nulls":16},{"$f":"COLUMN()","v":18},{"$f":"COLUMN()","v":19},{"$f":"COLUMN()","v":20},{"$f":"COLUMN()","v":21},{"$f":"COLUMN()","v":22},{"$f":"COLUMN()","v":23},{"$f":"COLUMN()","v":24},{"$f":"COLUMN()","v":25},{"$f":"COLUMN()","v":26},{"$f":"COLUMN()","v":27},{"$f":"COLUMN()","v":28},{"$f":"COLUMN()","v":29},{"$f":"COLUMN()","v":30},{"$f":"COLUMN()","v":31},{"$f":"COLUMN()","v":32},{"$f":"COLUMN()","v":33},{"$f":"COLUMN()","v":34},{"$f":"COLUMN()","v":35},{"$f":"COLUMN()","v":36},{"$f":"COLUMN()","v":37},{"$f":"COLUMN()","v":38},{"$f":"COLUMN()","v":39},{"$f":"COLUMN()","v":40},{"$f":"COLUMN()","v":41},{"$f":"COLUMN()","v":42},{"$f":"COLUMN()","v":43},{"$f":"COLUMN()","v":44},{"$f":"COLUMN()","v":45},{"$f":"COLUMN()","v":46},{"$f":"COLUMN()","v":47},{"$f":"COLUMN()","v":48},{"$f":"COLUMN()","v":49},{"$f":"COLUMN()","v":50},{"$f":"COLUMN()","v":51},{"$f":"COLUMN()","v":52},{"$f":"COLUMN()","v":53},{"$f":"COLUMN()","v":54},{"$f":"COLUMN()","v":55},{"$f":"COLUMN()","v":56},{"$f":"COLUMN()","v":57},{"$f":"COLUMN()","v":58},{"$f":"COLUMN()","v":59},{"$f":"COLUMN()","v":60},{"$f":"COLUMN()","v":61},{"$f":"COLUMN()","v":62},{"$f":"COLUMN()","v":63},{"$f":"COLUMN()","v":64},{"$f":"COLUMN()","v":65},{"$f":"COLUMN()","v":66},{"$f":"COLUMN()","v":67},{"$f":"COLUMN()","v":68},{"$f":"COLUMN()","v":69},{"$f":"COLUMN()","v":70},{"$f":"COLUMN()","v":71},{"$f":"COLUMN()","v":72},{"$f":"COLUMN()","v":73},{"$f":"COLUMN()","v":74},{"$f":"COLUMN()","v":75},{"$f":"COLUMN()","v":76},{"$f":"COLUMN()","v":77},{"$f":"COLUMN()","v":78},{"$f":"COLUMN()","v":79},{"$f":"COLUMN()","v":80},{"$f":"COLUMN()","v":81},{"$f":"COLUMN()","v":82},{"$f":"COLUMN()","v":83},{"$f":"COLUMN()","v":84},{"$f":"COLUMN()","v":85},{"$f":"COLUMN()","v":86},{"$f":"COLUMN()","v":87},{"$f":"COLUMN()","v":88},{"$f":"COLUMN()","v":89},{"$f":"COLUMN()","v":90},{"$f":"COLUMN()","v":91},{"$f":"COLUMN()","v":92},{"$f":"COLUMN()","v":93},{"$f":"COLUMN()","v":94},{"$f":"COLUMN()","v":95},{"$f":"COLUMN()","v":96},{"$f":"COLUMN()","v":97},{"$f":"COLUMN()","v":98},{"$f":"COLUMN()","v":99},{"$f":"COLUMN()","v":100},{"$f":"COLUMN()","v":101},{"$f":"COLUMN()","v":102},{"$f":"COLUMN()","v":103},{"$f":"COLUMN()","v":104}]
[null,null,"Reporter Dye",{"$nulls":4},"Name Detektor",{"$nulls":5},"Quencher",{"$nulls":5},"System1",{"$nulls":6},"System2",{"$nulls":6},"System3",{"$nulls":6},"System4",{"$nulls":6},"System5",{"$nulls":6},"Cutoff Sensitivitätsergebnis System1",{"$nulls":3},"Cutoff Sensitivitätsergebnis System2",{"$nulls":3},"Cutoff Sensitivitätsergebnis System3",{"$nulls":3},"Cutoff Sensitivitätsergebnis System4",{"$nulls":3},"Nur CutOff-Auswertung (siehe 08.34)",{"$nulls":3},"ROX","Identifier",null,null,"Delta Cq-",{"$nulls":6},"IPC"]
["Modul","Zeile",1,2,3,4,"IPC",1,2,3,4,"IPC","Anzahl Modul in Liste",1,2,3,4,"IPC","Validiert für 7500","CqCutOff1","CqCutOff2","CqCutOff3","CqCutOff4","RNLImit1","RNLImit2","RNLImit3","CqCutOff1","CqCutOff2","CqCutOff3","CqCutOff4","RNLImit1","RNLImit2","RNLImit3","CqCutOff1","CqCutOff2","CqCutOff3","CqCutOff4","RNLImit1","RNLImit2","RNLImit3","CqCutOff1","CqCutOff2","CqCutOff3","CqCutOff4","RNLImit1","RNLImit2","RNLImit3","CqCutOff1","CqCutOff2","CqCutOff3","CqCutOff4","RNLImit1","RNLImit2","RNLImit3","Vorhanden",null,null,"StdDev ","Vorhanden","K+ (Kopien/Rxn)","Cutoff (Kopien/Rxn)","Faktor","Vorhanden","K+ (Kopien/Rxn)","Cutoff (Kopien/Rxn)","Faktor","Vorhanden","K+ (Kopien/Rxn)","Cutoff (Kopien/Rxn)","Faktor","System1","System 2","System3","System 4","Normalisierung","MM","K+","BM","Asymmetrie",{"$nulls":6},"Nur CutOff"]
["n",{"$f":"ROW()","v":700},{"$nulls":10},{"$f":"COUNTIF(lstRotorGeneReporter,A700)","v":1},{"$nulls":5},"NEIN",{"$nulls":47},0,0,0,0,0,0,0,0,"dRN",{"$nulls":3},0]
["09.144",{"$f":"ROW()","v":701},{"$nulls":10},1,{"$nulls":5},"Nein",{"$nulls":55},"dRN",2946,2948,2602,0]
["09.143",{"$f":"ROW()","v":702},{"$nulls":10},1,{"$nulls":5},"Nein",{"$nulls":55},"dRN",2953,2954,2602,0]
["09.141",{"$f":"ROW()","v":703},{"$nulls":10},1,{"$nulls":5},"Nein",{"$nulls":55},"dRN",2985,2986,2602,0]
["09.142",{"$f":"ROW()","v":704},{"$nulls":10},1,{"$nulls":5},"Nein",{"$nulls":55},"dRN",2971,901,2602,0]
["09.140",{"$f":"ROW()","v":705},{"$nulls":10},1,{"$nulls":5},"NEIN"]
["09.146",{"$f":"ROW()","v":706},{"$nulls":10},{"$f":"COUNTIF(lstRotorGeneReporter,A706)","v":1},{"$nulls":5},"Nein",{"$nulls":55},"dRN",2965,2966,2602,0]
["09.147",{"$f":"ROW()","v":707},{"$nulls":10},1,{"$nulls":5},"Nein",{"$nulls":55},"dRN",3036,3037,2602,0]
["09.152",{"$f":"ROW()","v":708},{"$nulls":10},1,{"$nulls":5},"Nein",{"$nulls":55},"dRN",3049,1219,2602,0]
["09.156",{"$f":"ROW()","v":709},{"$nulls":10},1,{"$nulls":5},"Nein",{"$nulls":55},"dRN",3053,1086,2602,0]
["09.155",{"$f":"ROW()","v":710},{"$nulls":10},1,{"$nulls":5},"Nein",{"$nulls":55},"dRN",3078,3079,2602,0]
["09.145",{"$f":"ROW()","v":711},{"$nulls":10},1,{"$nulls":5},"Nein",{"$nulls":55},"dR",2974,2975,3043,0]
["09.148",{"$f":"ROW()","v":712},{"$nulls":10},{"$f":"COUNTIF(lstRotorGeneReporter,A712)","v":1},{"$nulls":5},"Nein",{"$nulls":55},"dR",3117,3118,3043,0]
["09.158",{"$f":"ROW()","v":713},{"$nulls":10},1,{"$nulls":5},"Nein",{"$nulls":55},"dRN",3088,3089,2602,0]
["09.159",{"$f":"ROW()","v":714},{"$nulls":10},1,{"$nulls":5},"Nein",{"$nulls":55},"dRN",3135,2076,2602,0]
["09.154",{"$f":"ROW()","v":715},{"$nulls":10},1,{"$nulls":5},"Nein",{"$nulls":55},"dRN",3178,854,2602,0]
["09.161",{"$f":"ROW()","v":716},{"$nulls":10},1,{"$nulls":5},"Nein",{"$nulls":55},"dRN",3153,1012,2602,0]
["09.162",{"$f":"ROW()","v":717},{"$nulls":10},1,{"$nulls":5},"Nein",{"$nulls":55},"dRN",3147,3089,2602,0]
["09.163",{"$f":"ROW()","v":718},{"$nulls":10},{"$f":"COUNTIF(lstRotorGeneReporter,A718)","v":1},{"$nulls":5},"Nein",{"$nulls":55},"dRN",3141,2076,2602,0]
["09.164",{"$f":"ROW()","v":719},{"$nulls":10},{"$f":"COUNTIF(lstRotorGeneReporter,A719)","v":1},{"$nulls":5},"Nein",{"$nulls":55},"dRN",3158,866,2602,0]
["nn",{"$f":"ROW()","v":720},{"$nulls":10},1,{"$nulls":5},"NEIN",{"$nulls":47},0,0,0,0,0,0,0,0,"dRN",{"$nulls":3},0]

{"sheet":"ResultDefinition","index":8,"n_rows":59,"n_cols":6,"rows_kept":59,"hidden":true}
["tabResultGMO"]
["Index","Result"]
[0,"neg"]
[1,"pos"]
[2,"Check Amp dRN"]
[10,"Check Amp"]
[11,"pos"]
[12,"Check Amp dRN"]
[20,"Check Amp"]
[21,"Check Amp Ct"]
[]
["tabResultIPC"]
["Index","Result","Ct","dRN","Ct","dRN"]
[0,"invalid",0,0,"> Ct Limit","< RN Limit"]
[100,"invalid",100,0," <= Ct Limit","< RN Limit"]
[1100,"valid",100,1000," <= Ct Limit","> RN Limit"]
[200,"invalid",200,0,"<= Ct Limit -3","< RN Limit"]
[1000,"invalid",0,1000,"> Ct Limit","< RN Limit"]
[1200,"A(Ct)",200,1000,"<= Ct Limit -3","> RN Limit"]
[]
["tabResultGMO2"]
["Spike","GMO",null,"Result","Short"]
["valid","pos","validpos","pos","+"]
["valid","neg","validneg","neg","-"]
["valid","Check Amp","validCheck Amp","Amp","A","Check Amp"]
["valid","Check Amp dRN","validCheck Amp dRN","Amp (dRN)","A(Rn)"]
["valid","Check Amp Ct","validCheck Amp Ct","Amp (Ct)","A(Ct)"]
["A(Ct)","pos",{"$f":"A28&B28","v":"A(Ct)pos"},"pos","+"]
["A(Ct)","neg",{"$f":"A29&B29","v":"A(Ct)neg"},"Amp (IPC)","A(Ct)"]
["A(Ct)","Check Amp",{"$f":"A30&B30","v":"A(Ct)Check Amp"},"Amp","A(Ct)"]
["A(Ct)","Check Amp dRN",{"$f":"A31&B31","v":"A(Ct)Check Amp dRN"},"Amp","A"]
["A(Ct)","Check Amp Ct",{"$f":"A32&B32","v":"A(Ct)Check Amp Ct"},"Amp","A"]
["inhibited","pos","inhibitedpos","pos","+"]
["inhibited","neg","inhibitedneg","Inhibited","i"]
["inhibited","Check Amp","inhibitedCheck Amp","Inhibited","i"]
["inhibited","Check Amp dRN","inhibitedCheck Amp dRN","Inhibited","i"]
["inhibited","Check Amp Ct","inhibitedCheck Amp Ct","Inhibited","i"]
["Invalid","pos","Invalidpos","pos","+"]
["Invalid","neg","Invalidneg","Inhibited","i"]
["Invalid","Check Amp","InvalidCheck Amp","Inhibited","i"]
["Invalid","Check Amp dRN","InvalidCheck Amp dRN","Inhibited","i"]
["Invalid","Check Amp Ct","InvalidCheck Amp Ct","Inhibited","i"]
[]
["tabResultLIMS"]
["Excel","LIMS"]
["+/+","+"]
["-/-","-"]
["i/i","i"]
["+/-","+/-"]
["-/+","+/-"]
["i/+","+/i"]
["+/i","+/i"]
["i/-","-/i"]
["-/i","-/i"]
["+i/+i","+i/+i"]
["+/IPC","+/+i"]
["+i/+","+/+i"]
["+/+i","+/+i"]
["IPC/+","+/+i"]